Workbook

Sheet Souhrnná tabulka VHČ
M1: Příloha č. 2 usnesení č. XXXX/24/Z/2026
A2: Plnění finančního plánu hospodářské činnosti MČ Praha 11 za rok 2025
M3: v tis. Kč
A4: OKRUH VHČ | B4: VÝNOSY | F4: NÁKLADY | J4: HOSP. VÝSLEDEK
B5: SFP 2025 | C5: 4.ÚFP 2025 | D5: 46022 | E5: % SK/4.ÚFP | F5: SFP 2025 | G5: 4.ÚFP 2025 | H5: SK 31.12.2025 | I5: % SK/4.ÚFP | J5: SFP 2025 | K5: 4.ÚFP 2025 | L5: SK 31.12.2025 | M5: % SK/4.ÚFP
A6: BYTOVÝ FOND (org. 5) | B6: ='org. 5'!B5 -> 111414 | C6: ='org. 5'!C5 -> 119009 | D6: ='org. 5'!D5 -> 117752 | E6: =(D6/C6)*100 -> 98.943777 | F6: ='org. 5'!B13 -> 67186 | G6: ='org. 5'!C13 -> 66979 | H6: ='org. 5'!D13 -> 55992 | I6: =(H6/G6)*100 -> 83.596351 | J6: ='org. 5'!B34 -> 44228 | K6: ='org. 5'!C34 -> 52030 | L6: ='org. 5'!D34 -> 61760 | M6: =L6/K6*100 -> 118.70075
A7: NBF ŠKOLSKÉ, KULURNÍ A SPORTOVNÍ OBJEKTY (org. 9) | B7: ='org. 9'!B5 -> 47677 | C7: ='org. 9'!C5 -> 56215 | D7: ='org. 9'!D5 -> 58213 | E7: =(D7/C7)*100 -> 103.55421 | F7: ='org. 9'!B14 -> 114302 | G7: ='org. 9'!C14 -> 108343 | H7: ='org. 9'!D14 -> 104866 | I7: =(H7/G7)*100 -> 96.790748 | J7: ='org. 9'!B34 -> -66625 | K7: ='org. 9'!C34 -> -52128 | L7: ='org. 9'!D34 -> -46653 | M7: =-L7/-K7*-100 -> -89.497007
A8: NBF OSTATNÍ OBJEKTY (org. 10) | B8: ='org. 10'!B5 -> 57598 | C8: ='org. 10'!C5 -> 66321 | D8: ='org. 10'!D5 -> 66181 | E8: =(D8/C8)*100 -> 99.788905 | F8: ='org. 10'!B13 -> 62144 | G8: ='org. 10'!C13 -> 83035 | H8: ='org. 10'!D13 -> 84988 | I8: =(H8/G8)*100 -> 102.35202 | J8: ='org. 10'!B33 -> -4546 | K8: ='org. 10'!C33 -> -16714 | L8: ='org. 10'!D33 -> -18807 | M8: =-L8/K8*100+100 -> -12.522436
A9: NBF POZEMKY (org. 11) | B9: ='org. 11'!B4 -> 16790 | C9: ='org. 11'!C4 -> 18722 | D9: ='org. 11'!D4 -> 19437 | E9: =(D9/C9)*100 -> 103.81904 | F9: ='org. 11'!B13 -> 8330 | G9: ='org. 11'!C13 -> 8341 | H9: ='org. 11'!D13 -> 7796 | I9: =(H9/G9)*100 -> 93.466011 | J9: ='org. 11'!B28 -> 8460 | K9: ='org. 11'!C28 -> 10381 | L9: ='org. 11'!D28 -> 11641 | M9: =(L9/K9)*100 -> 112.13756
A10: ÚPLATNÝ PŘEVOD NEMOVITOSTÍ (org. 140) | B10: ='org. 140'!B4 -> 19808 | C10: ='org. 140'!C4 -> 15858 | D10: ='org. 140'!D4 -> 15718 | E10: =(D10/C10)*100 -> 99.117165 | F10: ='org. 140'!B11 -> 7 | G10: ='org. 140'!C11 -> 9 | H10: ='org. 140'!D11 -> 3176 | I10: =(H10/G10)*100 -> 35288.889 | J10: ='org. 140'!B16 -> 19801 | K10: ='org. 140'!C16 -> 15849 | L10: ='org. 140'!D16 -> 12542 | M10: =(L10/K10)*100 -> 79.13433
A11: OSTATNÍ HOSP. ČINNOST (org. 333) | B11: ='org. 333'!B4 -> 509 | C11: ='org. 333'!C4 -> 2703 | D11: ='org. 333'!D4 -> 1695 | E11: =(D11/C11)*100 -> 62.708102 | F11: ='org. 333'!B14 -> 507 | G11: ='org. 333'!C14 -> 509 | H11: ='org. 333'!D14 -> 589 | I11: =(H11/G11)*100 -> 115.71709 | J11: ='org. 333'!B22 -> 2 | K11: ='org. 333'!C22 -> 2194 | L11: ='org. 333'!D22 -> 1106 | M11: =(L11/K11)*100 -> 50.41021
A12: CELKEM | B12: =SUM(B6:B11) -> 253796 | C12: =SUM(C6:C11) -> 278828 | D12: =SUM(D6:D11) -> 278996 | E12: =(D12/C12)*100 -> 100.06025 | F12: =SUM(F6:F11) -> 252476 | G12: =SUM(G6:G11) -> 267216 | H12: =SUM(H6:H11) -> 257407 | I12: =(H12/G12)*100 -> 96.329187 | J12: =SUM(J6:J11) -> 1320 | K12: =SUM(K6:K11) -> 11612 | L12: =SUM(L6:L11) -> 21589 | M12: =(L12/K12*100) -> 185.91974
A13: Pozn.: V hospodářském výsledku za rok 2025 je zahrnuta předběžná daň z příjmů právnických osob.
A16: Informativně: použití zisku - zapojení do rozpočtu r. 2025 | J16: 50000 | K16: 50000 | L16: 50000 | M16: =L16/K16*100 -> 100
A17: Informativně: dle tabulky vypočtená "skutečná" předběžná DPPO | J17: ='org. 5'!B9+'org. 9'!B10+'org. 10'!B9+'org. 11'!B9+'org. 140'!B8+'org. 333'!B11 -> -33182 | K17: ='org. 5'!C9+'org. 9'!C10+'org. 10'!C9+'org. 11'!C9+'org. 140'!C8+'org. 333'!C11 -> -26359 | L17: ='org. 5'!D9+'org. 9'!D10+'org. 10'!D9+'org. 11'!D9+'org. 140'!D8+'org. 333'!D11 -> -31385 | M17: =(L17/K17)*100 -> 119.06749
A19: Vysvětlivky: | B19: SFP 2025 = schválený finanční plán na rok 2025
B20: 4. ÚFP 2025 - 4. úprava finančního plánu na rok 2025
B21: SK 2025 = plnění k 31.12.2025

Sheet Souhrnná tabulka JMM, a.s.
A1: Plnění finančního plánu VHČ - JMM, a. s., za rok 2025
M2: v tis. Kč
A3: OKRUH VHČ | B3: VÝNOSY | F3: NÁKLADY | J3: HOSP. VÝSLEDEK
B4: SFP 2025 | C4: 4.ÚFP 2025 | D4: SK 31.12.2025 | E4: % SK/4.ÚFP | F4: SFP 2025 | G4: 4.ÚFP 2025 | H4: SK 31.12.2025 | I4: % SK/4.ÚFP | J4: SFP 2025 | K4: 4.ÚFP 2025 | L4: SK 31.12.2025 | M4: % SK/4.ÚFP
A5: BYTOVÝ FOND (org. 5) | B5: ='org. 5'!B5 -> 111414 | C5: ='org. 5'!C5 -> 119009 | D5: ='org. 5'!D5 -> 117752 | E5: =(D5/C5)*100 -> 98.943777 | F5: ='org. 5'!B13 -> 67186 | G5: ='org. 5'!C13 -> 66979 | H5: ='org. 5'!D13 -> 55992 | I5: =(H5/G5)*100 -> 83.596351 | J5: ='org. 5'!B34 -> 44228 | K5: ='org. 5'!C34 -> 52030 | L5: ='org. 5'!D34 -> 61760 | M5: =(L5/K5)*100 -> 118.70075
A6: NBF ŠKOLSKÉ, KULURNÍ A SPORTOVNÍ OBJEKTY (org. 9) | B6: ='org. 9'!B5 -> 47677 | C6: ='org. 9'!C5 -> 56215 | D6: ='org. 9'!D5 -> 58213 | E6: =(D6/C6)*100 -> 103.55421 | F6: ='org. 9'!B14 -> 114302 | G6: ='org. 9'!C14 -> 108343 | H6: ='org. 9'!D14 -> 104866 | I6: =(H6/G6)*100 -> 96.790748 | J6: ='org. 9'!B34 -> -66625 | K6: ='org. 9'!C34 -> -52128 | L6: ='org. 9'!D34 -> -46653 | M6: =(L6/(-K6)*100) -> -89.497007
A7: NBF OBJEKTY (org. 10) | B7: ='org. 10'!B5 -> 57598 | C7: ='org. 10'!C5 -> 66321 | D7: ='org. 10'!D5 -> 66181 | E7: =(D7/C7)*100 -> 99.788905 | F7: ='org. 10'!B13 -> 62144 | G7: ='org. 10'!C13 -> 83035 | H7: ='org. 10'!D13 -> 84988 | I7: =(H7/G7)*100 -> 102.35202 | J7: ='org. 10'!B33 -> -4546 | K7: ='org. 10'!C33 -> -16714 | L7: ='org. 10'!D33 -> -18807 | M7: =(L7/-K7)*100 -> -112.52244
A8: NBF POZEMKY (org. 11) | B8: ='org. 11'!B4 -> 16790 | C8: ='org. 11'!C4 -> 18722 | D8: ='org. 11'!D4 -> 19437 | E8: =(D8/C8)*100 -> 103.81904 | F8: ='org. 11'!B13 -> 8330 | G8: ='org. 11'!C13 -> 8341 | H8: ='org. 11'!D13 -> 7796 | I8: =(H8/G8)*100 -> 93.466011 | J8: ='org. 11'!B28 -> 8460 | K8: ='org. 11'!C28 -> 10381 | L8: ='org. 11'!D28 -> 11641 | M8: =(L8/K8)*100 -> 112.13756
A9: CELKEM | B9: =SUM(B5:B8) -> 233479 | C9: =SUM(C5:C8) -> 260267 | D9: =SUM(D5:D8) -> 261583 | E9: =(D9/C9)*100 -> 100.50563 | F9: =SUM(F5:F8) -> 251962 | G9: =SUM(G5:G8) -> 266698 | H9: =SUM(H5:H8) -> 253642 | I9: =(H9/G9)*100 -> 95.104575 | J9: =SUM(J5:J8) -> -18483 | K9: =SUM(K5:K8) -> -6431 | L9: =SUM(L5:L8) -> 7941 | M9: =(L9/-K9)*100 -> 123.48002
A13: Informativně: použití zisku - zapojení do rozpočtu r. 2025 | J13: 40000 | K13: 40000 | L13: 40000 | M13: =(L13/J13)*100 -> 100

Sheet org. 5
A1: Oblast: | B1: BYTOVÝ FOND
E2: v tis. Kč
B3: SFP 2025 | C3: 4.ÚFP 2025 | D3: SK 31.12.2025 | E3: % SK/4.ÚFP
A4: Počet bytů | B4: 1311 | C4: 1311 | D4: 1311 | E4: =+D4/C4*100 -> 100
A5: VÝNOSY | B5: =SUM(B6+B8) -> 111414 | C5: =SUM(C6+C8) -> 119009 | D5: =SUM(D6+D8) -> 117752 | E5: =(D5/C5)*100 -> 98.943777
A6: Výnosy z činnosti | B6: =SUM(B7:B7) -> 124139 | C6: =SUM(C7:C7) -> 133354 | D6: =SUM(D7:D7) -> 134230 | E6: =(D6/C6)*100 -> 100.6569
A7: Výnosy z pronájmu | B7: 124139 | C7: 133354 | D7: 134230 | E7: =(D7/C7)*100 -> 100.6569
A8: Režijní výnosy | B8: =SUM(B9:B12) -> -12725 | C8: =SUM(C9:C12) -> -14345 | D8: =SUM(D9:D12) -> -16478 | E8: =(D8/-C8)*100 -> -114.86929
A9: DPPO (předběžná) | B9: -14035 | C9: -16119 | D9: -18275 | E9: =(D9/-C9)*100 -> -113.37552
A10: Finanční výnosy | B10: 660 | C10: 1004 | D10: 1013 | E10: =(D10/C10)*100 -> 100.89641
A11: Ostatní výnosy | B11: 50 | C11: 50 | D11: 30 | E11: =(D11/C11)*100 -> 60
A12: Výnosy ze smluvních pokut a úroků z prodlení | B12: 600 | C12: 720 | D12: 754 | E12: =(D12/C12)*100 -> 104.72222
A13: NÁKLADY | B13: =SUM(B17+B22+B26+B30+B14) -> 67186 | C13: =C14+C17+C22+C26+C30 -> 66979 | D13: =SUM(D14+D17+D22+D26+D30) -> 55992 | E13: =(D13/C13)*100 -> 83.596351
A14: Spotřeba materiálu a energií | B14: =SUM(B15:B16) -> 375 | C14: =SUM(C15:C16) -> 550 | D14: =SUM(D15:D16) -> 533 | E14: =(D14/C14)*100 -> 96.909091
A15: Energie | B15: 215 | C15: 350 | D15: 344 | E15: =(D15/C15)*100 -> 98.285714
A16: Materiál | B16: 160 | C16: 200 | D16: 189 | E16: =(D16/C16)*100 -> 94.5
A17: Opravy a udržování | B17: =SUM(B18:B21) -> 27245 | C17: =SUM(C18:C21) -> 25540 | D17: =SUM(D18:D21) -> 20136 | E17: =(D17/C17)*100 -> 78.841034
A18: Běžná údržba | B18: 4000 | C18: 6500 | D18: 4396 | E18: =(D18/C18)*100 -> 67.630769
A19: Běžná údržba - čerpání FO v SVJ | B19: 16145 | C19: 10290 | D19: 6601 | E19: =(D19/C19)*100 -> 64.14966
A20: Havárie (vč. SVJ) | B20: 600 | C20: 250 | D20: 313 | E20: =(D20/C20)*100 -> 125.2
A21: Jmenovité opravy | B21: 6500 | C21: 8500 | D21: 8826 | E21: =(D21/C21)*100 -> 103.83529
A22: Služby | B22: =SUM(B23:B25) -> 3200 | C22: =SUM(C23:C25) -> 3100 | D22: =SUM(D23:D25) -> 1914 | E22: =(D22/C22)*100 -> 61.741935
A23: Úklid, údržba, provoz | B23: 1500 | C23: 1500 | D23: 1000 | E23: =(D23/C23)*100 -> 66.666667
A24: Inženýrské a právní služby | B24: 200 | C24: 100 | D24: 0 | E24: 0
A25: Ostatní služby | B25: 1500 | C25: 1500 | D25: 914 | E25: =(D25/C25)*100 -> 60.933333
A26: Režie | B26: =SUM(B27:B29) -> 27446 | C26: =SUM(C27:C29) -> 28992 | D26: =SUM(D27:D29) -> 26225 | E26: =(D26/C26)*100 -> 90.455988
A27: Odměna za správu | B27: 12186 | C27: 13732 | D27: 14045 | E27: =(D27/C27)*100 -> 102.27935
A28: Osobní náklady | B28: 6690 | C28: 6690 | D28: 7049 | E28: =(D28/C28)*100 -> 105.36622
A29: Ostatní náklady | B29: 8570 | C29: 8570 | D29: 5131 | E29: =(D29/C29)*100 -> 59.871645
A30: Úpravy hodnot | B30: =SUM(B31:B33) -> 8920 | C30: =SUM(C31:C33) -> 8797 | D30: =SUM(D31:D33) -> 7184 | E30: =(D30/C30)*100 -> 81.664204
A31: Odpisy majetku | B31: 8570 | C31: 8508 | D31: 6990 | E31: =(D31/C31)*100 -> 82.157969
A32: Odpisy pohledávek | B32: 300 | C32: 239 | D32: 941 | E32: =(D32/C32)*100 -> 393.72385
A33: Opravné položky | B33: 50 | C33: 50 | D33: -747 | E33: =(D33/C33)*100 -> -1494
A34: H V - ztráta/ + zisk | B34: =SUM(B5-B13) -> 44228 | C34: =C5-C13 -> 52030 | D34: =SUM(D5-D13) -> 61760 | E34: =(D34/C34)*100 -> 118.70075
A35: POUŽITÍ ZISKU Z PŘEDCH. LET | B35: 20000 | C35: 20000 | D35: 20000 | E35: =(D35/C35)*100 -> 100

Sheet org. 9
A1: Oblast: NBF ŠKOLSKÉ, KULTURNÍ A SPORTOVNÍ OBJEKTY
E2: v tis. Kč
B3: SFP 2025 | C3: 4.ÚFP 2025 | D3: SK 31.12.2025 | E3: % SK/4.ÚFP
A4: Počet objektů | B4: 48 | C4: 48 | D4: 48 | E4: =(D4/C4)*100 -> 100
A5: VÝNOSY | B5: =SUM(B6+B9) -> 47677 | C5: =SUM(C6+C9) -> 56215 | D5: =SUM(D6+D9) -> 58213 | E5: =(D5/C5)*100 -> 103.55421
A6: Výnosy z činnosti | B6: =SUM(B7:B8) -> 54263 | C6: =SUM(C7:C8) -> 55760 | D6: =SUM(D7:D8) -> 58142 | E6: =(D6/C6)*100 -> 104.27188
A7: Výnosy z pronájmu | B7: 53058 | C7: 54555 | D7: 56899 | E7: =(D7/C7)*100 -> 104.29658
A8: Výnosy ze služeb | B8: 1205 | C8: 1205 | D8: 1243 | E8: =(D8/C8)*100 -> 103.15353
A9: Režijní výnosy | B9: =SUM(B10:B12) -> -6586 | C9: =SUM(C10:C13) -> 455 | D9: =SUM(D10:D13) -> 71 | E9: =(D9/C9)*100 -> 15.604396
A10: DPPO (předběžná) | B10: -7010 | C10: -6 | D10: -1762 | E10: =(D10/-C10)*100 -> -29366.667
A11: Finanční výnosy | B11: 324 | C11: 350 | D11: 339 | E11: =(D11/C11)*100 -> 96.857143
A12: Ostatní výnosy | B12: 100 | C12: 100 | D12: 89 | E12: =SUM(D12/C12*100) -> 89
A13: Výnosy se smluvních pokut a úroků z prodlení | B13: 0 | C13: 11 | D13: 1405 | E13: =D13/C13*100 -> 12772.727
A14: NÁKLADY | B14: =SUM(B18+B22+B26+B30+B15) -> 114302 | C14: =SUM(C15+C18+C22+C26+C30) -> 108343 | D14: =SUM(D15+D18+D22+D26+D30) -> 104866 | E14: =(D14/C14)*100 -> 96.790748
A15: Spotřeba materiálu a energií | B15: 90 | C15: =SUM(C16:C17) -> 160 | D15: =SUM(D16:D17) -> 91 | E15: =(D15/C15)*100 -> 56.875
A16: Materiál | B16: 70 | C16: 140 | D16: 88 | E16: =(D16/C16)*100 -> 62.857143
A17: Energie | B17: 20 | C17: 20 | D17: 3 | E17: =+D17/C17*100 -> 15
A18: Opravy a udržování | B18: =SUM(B19:B21) -> 33000 | C18: =SUM(C19:C21) -> 25408 | D18: =SUM(D19:D21) -> 21128 | E18: =(D18/C18)*100 -> 83.154912
A19: Běžná údržba | B19: 11000 | C19: 11425 | D19: 9916 | E19: =(D19/C19)*100 -> 86.792123
A20: Havárie (bez SVJ) | B20: 3000 | C20: 3000 | D20: 2413 | E20: =(D20/C20)*100 -> 80.433333
A21: Jmenovité opravy | B21: 19000 | C21: 10983 | D21: 8799 | E21: =(D21/C21)*100 -> 80.114723
A22: Služby | B22: =SUM(B23:B25) -> 16500 | C22: =SUM(C23:C25) -> 16850 | D22: =SUM(D23:D25) -> 16440 | E22: =(D22/C22)*100 -> 97.566766
A23: Úklid, údržba, provoz | B23: 8500 | C23: 8850 | D23: 8731 | E23: =(D23/C23)*100 -> 98.655367
A24: Inženýrské a právní služby | B24: 2000 | C24: 2500 | D24: 2188 | E24: =(D24/C24)*100 -> 87.52
A25: Ostatní služby | B25: 6000 | C25: 5500 | D25: 5521 | E25: =(D25/C25)*100 -> 100.38182
A26: Režie | B26: =SUM(B27:B29) -> 13140 | C26: =SUM(C27:C29) -> 13726 | D26: =SUM(D27:D29) -> 13487 | E26: =(D26/C26)*100 -> 98.258779
A27: Odměna za správu | B27: 9980 | C27: 10266 | D27: 10241 | E27: =(D27/C27)*100 -> 99.756478
A28: Osobní náklady | B28: 2960 | C28: 2960 | D28: 2790 | E28: =(D28/C28)*100 -> 94.256757
A29: Ostatní náklady | B29: 200 | C29: 500 | D29: 456 | E29: =(D29/C29)*100 -> 91.2
A30: Úpravy hodnot | B30: =SUM(B31:B32) -> 51572 | C30: =SUM(C31:C32) -> 52199 | D30: =SUM(D31:D33) -> 53720 | E30: =(D30/C30)*100 -> 102.91385
A31: Odpisy majetku | B31: 51522 | C31: 52149 | D31: 53280 | E31: =(D31/C31)*100 -> 102.16879
A32: Opravné položky | B32: 50 | C32: 50 | D32: 190 | E32: =(D32/C32)*100 -> 380
A33: Odpis pohledávek | B33: 0 | C33: 0 | D33: 250 | E33: 0
A34: H V - ztráta/ + zisk | B34: =SUM(B5-B14) -> -66625 | C34: =SUM(C5-C14) -> -52128 | D34: =SUM(D5-D14) -> -46653 | E34: =(-D34/-C34)*-100 -> -89.497007
A35: POUŽITÍ ZISKU Z PŘEDCH. LET | B35: 0 | C35: 0 | D35: 0 | E35: 0

Sheet Jmenovité akce okruh NBF školy
B1: Jmenovité akce (návrh pro rok 2025) | D1: SFP 2025 | E1: 4.ÚFP 2025 | F1: SK 31.12.2025 | G1: % SK/4.ÚFP
A2: 1. | B2: LEDVINOVA 86, Chodovská tvrz | C2: Renovace parket – sál a schodiště případně oprava oken | D2: 500 | E2: 152 | F2: 152 | G2: =F2/E2*100 -> 100
C3: oprava lávky dle požadavků NPÚ | D3: 900 | E3: 0 | F3: 0 | G3: x
A4: 2. | B4: ZŠ MENDELOVA 550 | C4: Malování dle požadavku školy | D4: 700 | E4: 265 | F4: 265 | G4: =F4/E4*100 -> 100
A5: 3. | B5: ZŠ K MILÍČOVU 674 | C5: Výměna podlahových krytin dle požadavku školy | D5: 500 | E5: 285 | F5: 284 | G5: =F5/E5*100 -> 99.649123
A6: 4. | B6: ZŠ SCHULHOFFOVA 844 | C6: Malování dle požadavku školy | D6: 700 | E6: 303 | F6: 303 | G6: =F6/E6*100 -> 100
A7: 5. | B7: ZŠ KE KATEŘINKÁM 1400 | C7: Malování dle požadavku školy, výměna schodišťových madel a drobné elektroinstalační instalatérské práce | D7: 700 | E7: 359 | F7: 359 | G7: =F7/E7*100 -> 100
A8: 6. | B8: ZŠ KVĚTNOVÉHO VÍTĚZSTVÍ 1554 | C8: Renovace parket v TV II | D8: 1300 | E8: 0 | F8: 0 | G8: x
A9: 7. | B9: ZŠ MIKULOVA 1594 | C9: Malování dle požadavku školy | D9: 700 | E9: 376 | F9: 375 | G9: =F9/E9*100 -> 99.734043
A10: 8. | B10: ZŠ DONOVALSKÁ 1684 | C10: Výměna podlahových krytím a malování dle požadaku školy | D10: 800 | E10: 576 | F10: 575 | G10: =F10/E10*100 -> 99.826389
A11: 9. | B11: ZŠ CAMPANUS, JÍROVCOVO NÁM. 1782 | C11: Výměna původního nevyhovujícího osvětlení v objektu školy | D11: 800 | E11: 367 | F11: 366 | G11: =F11/E11*100 -> 99.72752
A12: 10. | B12: KC ZAHRADA, MALENICKÁ 1784 | C12: oprava venkovního podia a hlediště na zahradě | D12: 800 | E12: 538 | F12: 537 | G12: =F12/E12*100 -> 99.814126
A13: 11. | B13: ZŠ POŠEPNÉHO NÁM. 2022 | C13: Výměna původního osvětlení v prostorách školy v pavilonu A dle požadavku školy | D13: 800 | E13: 411 | F13: 410 | G13: =F13/E13*100 -> 99.756691
A14: 12. | B14: MŠ JANOUCHOVA 671 | C14: Oprava kanalizace v prostoru dvora objektu – jedná se o výkop a výměnu propadlého kanalizačního potrubí mezi kanály v hloubce cca 3 – 4 m | D14: 600 | E14: 329 | F14: 329 | G14: =F14/E14*100 -> 100
A15: 13. | B15: MŠ MODLETICKÁ 1401 | C15: oprava asfaltového povrchu v části areálu | D15: 500 | E15: 0 | F15: 0 | G15: x
A16: 14. | B16: MŠ MODLETICKÁ 1402 | C16: Oprava chodníků na zahradě – zvednuté praskliny v asfaltu, nebezpečí úrazu | D16: 200 | E16: 0 | F16: 0 | G16: x
A17: 15. | C17: Výměna podlahových krytin a výmalba dle požadavku školy | D17: 400 | E17: 490 | F17: 490 | G17: =F17/E17*100 -> 100
A18: 16. | B18: MŠ KŘEJPSKÉHO 1503 | C18: Výmalba objektu dle požadavku vedení školky | D18: 700 | E18: 489 | F18: 488 | G18: =F18/E18*100 -> 99.795501
A19: 17. | C19: Oprava plotu včetně podezdívek | D19: 300 | E19: 245 | F19: 245 | G19: =F19/E19*100 -> 100
A20: 18. | B20: MŠ MARKUŠOVA 1556 | C20: Odstranění zídky u teras | D20: 1000 | E20: 277 | F20: 276 | G20: =F20/E20*100 -> 99.638989
A21: 19. | B21: MŠ HRONCOVA 1882 | C21: Výmalba a výměna podlahových krytin dle požadavku školky | D21: 400 | E21: 353 | F21: 352 | G21: =F21/E21*100 -> 99.716714
A22: 20. | B22: MŠ HRONCOVA 1883 | C22: Výmalba a výměna podlahových krytin dle požadavku školky | D22: 400 | E22: 157 | F22: 156 | G22: =F22/E22*100 -> 99.363057
A23: 21. | B23: MŠ MÍROVÉHO HNUTÍ 1680 | C23: Výměna nevyhovujícího osvětlení | D23: 600 | E23: 749 | F23: 749 | G23: =F23/E23*100 -> 100
A24: 22. | B24: MŠ DONOVALSKÁ 1862 | C24: Výměna dlažby ve škrabce brambor a skladu | D24: 300 | E24: 53 | F24: 53 | G24: =F24/E24*100 -> 100
A25: 23. | B25: ZŠ KVĚTNOVÉHO VÍTĚZSTVÍ 57 | C25: Oprava plotu včetně podezdívek | D25: 600 | E25: 0 | F25: 0 | G25: 0
A26: 24. | B26: MŠ HRABÁKOVA 2000 | C26: oprava propadlého asfaltu u vjezdové brány omezující funkci brány | D26: 400 | E26: 0 | F26: 0 | G26: 0
A27: 25. | B27: MŠ BLATENSKÁ 2145 | C27: Oprava plotu včetně podezdívek | D27: 200 | E27: 471 | F27: 470 | G27: =F27/E27*100 -> 99.787686
A28: 26. | B28: MŠ STACHOVA 518 | C28: malování suterénu | D28: 150 | E28: 59 | F28: 58 | G28: =F28/E28*100 -> 98.305085
A29: 27. | B29: MŠ KONSTANTINOVA 1480 | C29: oprava WC | D29: 300 | E29: 79 | F29: 79 | G29: =F29/E29*100 -> 100
B30: jmenovité akce školské objekty | D30: =SUM(D2:D29) -> 16250 | E30: =SUM(E2:E29) -> 7383 | F30: 7371 | G30: =F30/E30*100 -> 99.837464
B31: finanční rezerva pro jmenovité akce | D31: 750 | E31: 100 | F31: 0 | G31: =F31/E31*100 -> 0
B32: opravy po revizích | D32: 2000 | E32: 3500 | F32: 1428 | G32: =F32/E32*100 -> 40.8
B33: Celkem za položku | D33: =D30+D31+D32 -> 19000 | E33: =SUM(E30:E32) -> 10983 | F33: 8799 | G33: =F33/E33*100 -> 80.114723

Sheet org. 10
A1: Oblast: | B1: NBF OSTATNÍ OBJEKTY
E2: v tis. Kč
B3: SFP 2025 | C3: 4.ÚFP 2025 | D3: 46022 | E3: % SK/4.ÚFP
A4: Počet objektů | B4: 22 | C4: 22 | D4: 22 | E4: =+D4/C4*100 -> 100
A5: VÝNOSY | B5: =SUM(B6+B8) -> 57598 | C5: =SUM(C6+C8) -> 66321 | D5: =SUM(D6+D8) -> 66181 | E5: =(D5/C5)*100 -> 99.788905
A6: Výnosy z činnosti | B6: =SUM(B7:B7) -> 62000 | C6: =SUM(C7:C7) -> 68250 | D6: =SUM(D7:D7) -> 69884 | E6: =(D6/C6)*100 -> 102.39414
A7: Výnosy z pronájmu | B7: 62000 | C7: 68250 | D7: 69884 | E7: =(D7/C7)*100 -> 102.39414
A8: Režijní výnosy | B8: =SUM(B9:B12) -> -4402 | C8: =SUM(C9:C12) -> -1929 | D8: =SUM(D9:D12) -> -3703 | E8: =SUM(D8/-C8*100) -> -191.96475
A9: DPPO (předběžná) | B9: -4624 | C9: -2755 | D9: -4626 | E9: =(D9/-C9)*100 -> -167.91289
A10: Finanční výnosy | B10: 162 | C10: 448 | D10: 457 | E10: =(D10/C10)*100 -> 102.00893
A11: Ostatní výnosy | B11: 50 | C11: 10 | D11: 21 | E11: =(D11/C11)*100 -> 210
A12: Výnosy ze smluvních pokut a úroků z prodlení | B12: 10 | C12: 368 | D12: 445 | E12: =(D12/C12)*100 -> 120.92391
A13: NÁKLADY | B13: =SUM(B17+B21+B25+B29+B14) -> 62144 | C13: =SUM(C14+C17+C21+C25+C29) -> 83035 | D13: =SUM(D14+D17+D21+D25+D29) -> 84988 | E13: =(D13/C13)*100 -> 102.35202
A14: Spotřeba materiálu a energií | B14: =SUM(B15:B16) -> 4575 | C14: =SUM(C15:C16) -> 5620 | D14: =SUM(D15:D16) -> 7679 | E14: =(D14/C14)*100 -> 136.63701
A15: Energie | B15: 4500 | C15: 5500 | D15: 7583 | E15: =(D15/C15)*100 -> 137.87273
A16: Materiál | B16: 75 | C16: 120 | D16: 96 | E16: =(D16/C16)*100 -> 80
A17: Opravy a udržování | B17: =SUM(B18:B20) -> 17030 | C17: =SUM(C18:C20) -> 28304 | D17: =SUM(D18:D20) -> 18938 | E17: =(D17/C17)*100 -> 66.909271
A18: Běžná údržba | B18: 9000 | C18: 10000 | D18: 6218 | E18: =(D18/C18)*100 -> 62.18
A19: Havárie (bez SVJ) | B19: 3000 | C19: 3000 | D19: 1424 | E19: =(D19/C19)*100 -> 47.466667
A20: Jmenovité opravy | B20: 5030 | C20: 15304 | D20: 11296 | E20: =(D20/C20)*100 -> 73.810768
A21: Služby | B21: =SUM(B22:B24) -> 10500 | C21: =SUM(C22:C24) -> 12800 | D21: =SUM(D22:D24) -> 12435 | E21: =(D21/C21)*100 -> 97.148438
A22: Úklid, údržba, provoz | B22: 5000 | C22: 6000 | D22: 5185 | E22: =(D22/C22)*100 -> 86.416667
A23: Inženýrské a právní služby | B23: 1000 | C23: 800 | D23: 993 | E23: =(D23/C23)*100 -> 124.125
A24: Ostatní služby | B24: 4500 | C24: 6000 | D24: 6257 | E24: =(D24/C24)*100 -> 104.28333
A25: Režie | B25: =SUM(B26:B28) -> 8050 | C25: =SUM(C26:C28) -> 9185 | D25: =SUM(D26:D28) -> 8368 | E25: =(D25/C25)*100 -> 91.105063
A26: Odměna za správu | B26: 5844 | C26: 6926 | D26: 6937 | E26: =(D26/C26)*100 -> 100.15882
A27: Osobní náklady | B27: 1659 | C27: 1659 | D27: 1164 | E27: =(D27/C27)*100 -> 70.162749
A28: Ostatní náklady | B28: 547 | C28: 600 | D28: 267 | E28: =(D28/C28)*100 -> 44.5
A29: Úpravy hodnot | B29: =SUM(B30:B32) -> 21989 | C29: =SUM(C30:C32) -> 27126 | D29: =SUM(D30:D32) -> 37568 | E29: =(D29/C29)*100 -> 138.49443
A30: Odpisy majetku | B30: 21939 | C30: 27076 | D30: 36212 | E30: =(D30/C30)*100 -> 133.74206
A31: Odpisy pohledávek | B31: 0 | C31: 0 | D31: 0 | E31: 0
A32: Opravné položky | B32: 50 | C32: 50 | D32: 1356 | E32: =(D32/C32)*100 -> 2712
A33: H V - ztráta/ + zisk | B33: =SUM(B5-B13) -> -4546 | C33: =SUM(C5-C13) -> -16714 | D33: =SUM(D5-D13) -> -18807 | E33: =-D33/-C33*100 -> 112.52244
A34: POUŽITÍ ZISKU Z PŘEDCH. LET | B34: 5000 | C34: 5000 | D34: 5000 | E34: =(D34/C34)*100 -> 100

Sheet org. 11
A1: Oblast: | B1: NBF POZEMKY
E2: v tis. Kč
B3: SFP 2025 | C3: 4.ÚFP 2025 | D3: SK 31.12.2025 | E3: % SK/4.ÚFP
A4: VÝNOSY | B4: =SUM(B5+B8) -> 16790 | C4: =SUM(C5+C8) -> 18722 | D4: =SUM(D5+D8) -> 19437 | E4: =(D4/C4)*100 -> 103.81904
A5: Výnosy z činnosti | B5: =SUM(B6:B6) -> 19000 | C5: =SUM(C6:C7) -> 21376 | D5: =SUM(D6:D7) -> 22376 | E5: =(D5/C5)*100 -> 104.67814
A6: Výnosy z pronájmu | B6: 19000 | C6: 19000 | D6: 20000 | E6: =(D6/C6)*100 -> 105.26316
A7: Výnosy z prodeje pozemků | B7: 0 | C7: 2376 | D7: 2376 | E7: 0
A8: Režijní výnosy | B8: =SUM(B9:B12) -> -2210 | C8: =SUM(C9:C12) -> -2654 | D8: =SUM(D9:D12) -> -2939 | E8: =D8/-C8*100 -> -110.73851
A9: DPPO (předběžná) | B9: -2249 | C9: -2759 | D9: -3094 | E9: =(D9/-C9)*100 -> -112.14208
A10: Finanční výnosy | B10: 24 | C10: 42 | D10: 39 | E10: =(D10/C10)*100 -> 92.857143
A11: Ostatní výnosy | B11: 0 | C11: 48 | D11: 76 | E11: 0
A12: Výnosy ze smluvních pokut a úroků z prodlení | B12: 15 | C12: 15 | D12: 40 | E12: =(D12/C12)*100 -> 266.66667
A13: NÁKLADY | B13: =SUM(B16+B18+B22+B26+B14) -> 8330 | C13: =SUM(C14+C16+C18+C22+C26) -> 8341 | D13: =SUM(D14+D18+D22+D26) -> 7796 | E13: =(D13/C13)*100 -> 93.466011
A14: Spotřeba materiálu a energií | B14: =SUM(B15:B15) -> 150 | C14: =SUM(C15:C15) -> 250 | D14: =SUM(D15:D15) -> 167 | E14: =(D14/C14)*100 -> 66.8
A15: Materiál | B15: 150 | C15: 250 | D15: 167 | E15: =(D15/C15)*100 -> 66.8
A16: Opravy a udržování | B16: =SUM(B17:B17) -> 50 | C16: =SUM(C17:C17) -> 50 | D16: =SUM(D17:D17) -> 0 | E16: =(D16/C16)*100 -> 0
A17: Běžná údržba | B17: 50 | C17: 50 | D17: 0 | E17: =(D17/C17)*100 -> 0
A18: Služby | B18: =SUM(B19:B21) -> 765 | C18: =SUM(C19:C21) -> 665 | D18: =SUM(D19:D21) -> 480 | E18: =(D18/C18)*100 -> 72.180451
A19: Úklid, údržba, provoz | B19: 20 | C19: 20 | D19: 0 | E19: =(D19/C19)*100 -> 0
A20: Inženýrské a právní služby | B20: 200 | C20: 100 | D20: 65 | E20: =(D20/C20)*100 -> 65
A21: Ostatní služby | B21: 545 | C21: 545 | D21: 415 | E21: =(D21/C21)*100 -> 76.146789
A22: Režie | B22: =SUM(B23:B25) -> 7315 | C22: =SUM(C23:C25) -> 7326 | D22: =SUM(D23:D25) -> 7229 | E22: =(D22/C22)*100 -> 98.675949
A23: Odměna za správu | B23: 491 | C23: 502 | D23: 502 | E23: =(D23/C23)*100 -> 100
A24: Osobní náklady | B24: 6764 | C24: 6764 | D24: 6727 | E24: =(D24/C24)*100 -> 99.452986
A25: Ostatní náklady | B25: 60 | C25: 60 | D25: 0 | E25: =(D25/C25)*100 -> 0
A26: Úpravy hodnot | B26: =SUM(B27:B27) -> 50 | C26: =SUM(C27:C27) -> 50 | D26: =SUM(D27:D27) -> -80 | E26: =(D26/C26)*100 -> -160
A27: Opravné položky | B27: 50 | C27: 50 | D27: -80 | E27: =(D27/C27)*100 -> -160
A28: H V - ztráta/ + zisk | B28: =SUM(B4-B13) -> 8460 | C28: =SUM(C4-C13) -> 10381 | D28: =SUM(D4-D13) -> 11641 | E28: =(D28/C28)*100 -> 112.13756
A29: POUŽITÍ ZISKU Z PŘEDCH. LET | B29: 15000 | C29: 15000 | D29: 15000 | E29: =+D29/C29*100 -> 100

Sheet Souhrnná tabulka MČ
A1: Plnění finančního plánu VHČ - MČ zarok 2025
M2: v tis. Kč
A3: OKRUH VHČ | B3: VÝNOSY | F3: NÁKLADY | J3: HOSP. VÝSLEDEK
B4: SFP 2025 | C4: 4.ÚFP 2025 | D4: SK 31.12.2025 | E4: % SK/4.ÚFP | F4: =B4 -> SFP 2025 | G4: 4.ÚFP 2025 | H4: SK 31.12.2025 | I4: =E4 -> % SK/4.ÚFP | J4: =B4 -> SFP 2025 | K4: 4.ÚFP 2025 | L4: SK 31.12.2025 | M4: =E4 -> % SK/4.ÚFP
A5: ÚPLATNÝ PŘEVOD NEMOVITOSTÍ(org. 140) | B5: ='org. 140'!B4 -> 19808 | C5: ='org. 140'!C4 -> 15858 | D5: ='org. 140'!D4 -> 15718 | E5: =(D5/C5)*100 -> 99.117165 | F5: ='org. 140'!B11 -> 7 | G5: ='org. 140'!C11 -> 9 | H5: ='org. 140'!D11 -> 3176 | I5: =(H5/G5)*100 -> 35288.889 | J5: ='org. 140'!B16 -> 19801 | K5: ='org. 140'!C16 -> 15849 | L5: ='org. 140'!D16 -> 12542 | M5: =(L5/K5)*100 -> 79.13433
A6: OSTATNÍ HOSP. ČINNOST (org. 333) | B6: ='org. 333'!B4 -> 509 | C6: ='org. 333'!C4 -> 2703 | D6: ='org. 333'!D4 -> 1695 | E6: =(D6/C6)*100 -> 62.708102 | F6: ='org. 333'!B14 -> 507 | G6: ='org. 333'!C14 -> 509 | H6: ='org. 333'!D14 -> 589 | I6: =(H6/G6)*100 -> 115.71709 | J6: ='org. 333'!B22 -> 2 | K6: ='org. 333'!C22 -> 2194 | L6: ='org. 333'!D22 -> 1106 | M6: =(L6/K6)*100 -> 50.41021
A7: CELKEM | B7: =SUM(B5:B6) -> 20317 | C7: =SUM(C5:C6) -> 18561 | D7: =SUM(D5:D6) -> 17413 | E7: =SUM(D7/C7*100) -> 93.814988 | F7: =SUM(F5:F6) -> 514 | G7: =SUM(G5:G6) -> 518 | H7: =SUM(H5:H6) -> 3765 | I7: =(H7/G7)*100 -> 726.83398 | J7: =SUM(J5:J6) -> 19803 | K7: =SUM(K5:K6) -> 18043 | L7: =SUM(L5:L6) -> 13648 | M7: =(L7/K7)*100 -> 75.641523
A10: Informativně: použití zisku - zapojení do rozpočtu r. 2025 | J10: 10000 | K10: 10000 | L10: 10000 | M10: =SUM(L10/K10*100) -> 100

Sheet org. 140
A1: Oblast: | B1: ÚPLATNÝ PŘEVOD NEMOVITOSTÍ
E2: v tis. Kč
B3: SFP 2025 | C3: 4.ÚFP 2025 | D3: SK 31.12.2025 | E3: % SK/4.ÚFP
A4: VÝNOSY | B4: =SUM(B5+B7) -> 19808 | C4: =SUM(C5+C7) -> 15858 | D4: =SUM(D5+D7) -> 15718 | E4: =D4/C4*100 -> 99.117165
A5: Výnosy z činnosti | B5: =SUM(B6) -> 71 | C5: =SUM(C6:C6) -> 71 | D5: =SUM(D6:D6) -> 71 | E5: =(D5/C5)*100 -> 100
A6: Výnosy z pronájmu | B6: 71 | C6: 71 | D6: 71 | E6: =(D6/C6)*100 -> 100
A7: Režijní výnosy | B7: =SUM(B8:B9) -> 19737 | C7: =SUM(C8:C9) -> 15787 | D7: =SUM(D8:D10) -> 15647 | E7: =SUM(D7/C7*100) -> 99.113194
A8: DPPO (předběžná) | B8: -5263 | C8: -4213 | D8: -3334 | E8: =SUM(D8/-C8)*100 -> -79.136008
A9: Finanční výnosy | B9: 25000 | C9: 20000 | D9: 16463 | E9: =+D9/C9*100 -> 82.315
A10: Ostatní výnosy | B10: 0 | C10: 0 | D10: 2518 | E10: x
A11: NÁKLADY | B11: =SUM(B12:B12) -> 7 | C11: =SUM(C12:C12) -> 9 | D11: =SUM(D12+D14) -> 3176 | E11: =(D11/C11)*100 -> 35288.889
A12: Služby | B12: =SUM(B13:B13) -> 7 | C12: 9 | D12: =SUM(D13:D13) -> 2 | E12: =(D12/C12)*100 -> 22.222222
A13: Ostatní služby | B13: 7 | C13: 9 | D13: 2 | E13: =(D13/C13)*100 -> 22.222222
A14: Režijní náklady | B14: =B15 -> 0 | C14: =C15 -> 0 | D14: =SUM(D15:D15) -> 3174 | E14: x
A15: Ostatní náklady | B15: 0 | C15: 0 | D15: 3174 | E15: x
A16: H V - ztráta/ + zisk | B16: =SUM(B4-B11) -> 19801 | C16: =SUM(C4-C11) -> 15849 | D16: =SUM(D4-D11) -> 12542 | E16: =(D16/C16)*100 -> 79.13433
A17: POUŽITÍ ZISKU Z PŘEDCH. LET | B17: 10000 | C17: 10000 | D17: 10000 | E17: =(D17/C17)*100 -> 100

Sheet org. 333
A1: Oblast: | B1: OSTATNÍ HOSPODÁŘSKÁ ČINNOST
E2: v tis. Kč
B3: SFP 2025 | C3: 4.ÚFP 2025 | D3: SK 31.12.2025 | E3: % SK/4.ÚFP
A4: VÝNOSY | B4: =B8+B10+B5 -> 509 | C4: =SUM(C5+C8+C10) -> 2703 | D4: =SUM(D5+D8+D10) -> 1695 | E4: =(D4/C4)*100 -> 62.708102
A5: Výnosy z činnosti | B5: =SUM(B6:B7) -> 304 | C5: =SUM(C6:C7) -> 3004 | D5: =SUM(D6:D7) -> 1789 | E5: =(D5/C5)*100 -> 59.553928
A6: Výnosy z pronájmu | B6: 4 | C6: 4 | D6: 4 | E6: =(D6/C6)*100 -> 100
A7: Výnosy ze služeb | B7: 300 | C7: 3000 | D7: 1785 | E7: =(D7/C7)*100 -> 59.5
A8: Výnosy z prodeje majetku | B8: =SUM(B9:B9) -> 50 | C8: =SUM(C9:C9) -> 50 | D8: =SUM(D9:D9) -> 41 | E8: =(D8/C8)*100 -> 82
A9: Prodej movitých věcí | B9: 50 | C9: 50 | D9: 41 | E9: =(D9/C9)*100 -> 82
A10: Režijní výnosy | B10: =(B11+B12+B13) -> 155 | C10: =SUM(C11:C13) -> -351 | D10: =SUM(D11:D13) -> -135 | E10: =D10/C10*100 -> 38.461538
A11: DPPO (předběžná) | B11: -1 | C11: -507 | D11: -294 | E11: =SUM(D11/C11*100) -> 57.988166
A12: Finanční výnosy | B12: 50 | C12: 50 | D12: 46 | E12: =(D12/C12)*100 -> 92
A13: Ostatní výnosy | B13: 106 | C13: 106 | D13: 113 | E13: =(D13/C13)*100 -> 106.60377
A14: NÁKLADY | B14: =SUM(+B17+B19+B15) -> 507 | C14: =SUM(C15+C17+C19) -> 509 | D14: =SUM(D15+D17+D19) -> 589 | E14: =(D14/C14)*100 -> 115.71709
A15: Spotřeba materiálu a energií | B15: =SUM(B16:B16) -> 13 | C15: =SUM(C16:C16) -> 15 | D15: =SUM(D16:D16) -> 15 | E15: =(D15/C15)*100 -> 100
A16: Materiál | B16: 13 | C16: 15 | D16: 15 | E16: =(D16/C16)*100 -> 100
A17: Služby | B17: =SUM(B18:B18) -> 20 | C17: =SUM(C18:C18) -> 20 | D17: =SUM(D18:D18) -> 31 | E17: =(D17/C17)*100 -> 155
A18: Ostatní služby | B18: 20 | C18: 20 | D18: 31 | E18: =(D18/C18)*100 -> 155
A19: Režie | B19: =SUM(B20:B21) -> 474 | C19: =SUM(C20:C21) -> 474 | D19: =SUM(D20:D21) -> 543 | E19: =(D19/C19)*100 -> 114.55696
A20: Osobní náklady | B20: 472 | C20: 472 | D20: 543 | E20: =(D20/C20)*100 -> 115.04237
A21: Ostatní náklady | B21: 2 | C21: 2 | D21: 0 | E21: =(D21/C21)*100 -> 0
A22: H V - ztráta/ + zisk | B22: =SUM(B4-B14) -> 2 | C22: =SUM(C4-C14) -> 2194 | D22: =SUM(D4-D14) -> 1106 | E22: =(D22/C22)*100 -> 50.41021
A23: POUŽITÍ ZISKU Z PŘEDCH. LET | B23: 0 | C23: 0 | D23: 0 | E23: 0

Sheet POMOCNÉ ÚČTY
A1: Náklady
A2: Spotřeba materiálu a energií
A3: Energie
A4: 502 0110 Spotřeba energie - el. energie
A5: 502 0120 Spotřeba energie - teplo
A6: 502 0130 Spotřeba energie - TUV
A7: 502 0140 Spotřeba energie - vodné, stočné
A8: 502 0150 Spotřeba energie - el. energie spol. prostor
A9: Materiál
A10: 501 0100 Spotřeba materiálu - režijní materiál
A11: 501 0200 Spotřeba materiálu - přeúčtované náklady na spotřebu za prac. ÚMČ
A12: Opravy a udržování
... A159: 642 0218 Smluvní pokuty a úroky z prodlení - příslušenství dluhu – předpis (v daném roce neuhrazeno)

Sheet List1
