Workbook

Sheet I. program
A1: DOTAČNÍ PROGRAM PRO OBLAST KULTURY NA ROK 2026 - 1. KOLO
A3: I. | B3: Program - Celoroční činnost subjektů v oblasti kultury (finanční spoluúčast subjektu ve výši 10%) | M3: příloha usnesení č. 0000/24/Z/2026
A4: Číslo | B4: Subjekt | C4: Název projektu | D4: Obsah projektu | E4: Cílová skupina | F4: Počet účastníků akce | G4: Termín konání | H4: Přístupnost akce | I4: Typ akce | J4: Náklady celkem (Kč) | K4: Požadovaná částka (Kč) | L4: Doporučená částka (Kč) | M4: Požadavek organizace | N4: Účel dotace
A5: 1 | B5: Klub přátel školy, z. s. Ke Kateřinkám 1400/2 Praha 4 149 00 IČ: 49278339 č.ú. 2201399256/2010 Fio banka | C5: Kulturní činnost Klubu přátel školy | D5: Cílem projektu je organizační i finanční pomoc a spolupráce se ZŠ Ke Kateřinkám při realizaci akcí. Návštěvnost akcí, které jsou určeny i pro veřejnost má stoupající tendenci, stoupá i finanční náročnost. Klub přátel školy pořádá ve spolupráci se ZŠ Ke Kateřinkám v průběhu roku pravidelné kulturní akce – za období leden – červen: masopustní karneval, celoškolní soutěž Aprílová škola, slavnostní rozloučení se žáky devátých tříd, zahradní slavnost, v období září – prosinec: pasování prvňáků, Kateřinský Halloween, adventní jarmark a rozsvícení vánočního stromu. Akce jsou zdarma. | E5: žáci ZŠ, jejich rodiče, zaměstnanci školy i širší veřejnost | F5: 500 do 18 let + 100 seniorů + 300 dospělých + 200 diváků | G5: leden - prosinec 2026 (většina akcí v odpol. hodinách) | H5: O | I5: T | J5: 150000 | K5: 120000 | L5: 35000 | M5: Pronájem atrakcí pro děti, hudba, ozvučení akcí, věcné ceny za soutěže, program a dárky pro žáky 1. tříd, dýně na Halloween, ostatní materiální a technické zabezpečení | N5: Pronájem atrakcí pro děti, hudba, ozvučení akcí, věcné ceny za soutěže, program a dárky pro žáky 1. tříd, dýně na Halloween, ostatní materiální a technické zabezpečení
A6: 2 | B6: Městská knihovna v Praze Mariánské nám. 98/1, Praha 1, 115 72 IČ: 00064467 č.ú. 2000280005/6000 PPF Banka | C6: Knihovna, která potěší i naučí | D6: MK v Praze je významné komunitní centrum, jež vedle své hlavní činnosti vytváří vlídné prostředí pro setkávání různých věkových a sociálních skupin. Celý koncept spojuje jednotná myšlenka – představit knihovnu jako živé centrum komunitního života, jako místo podporující sounáležitost, otevřenost a vzájemné setkávání, které je přístupné všem bez rozdílu. Cílem projektu je nabídnout kulturní a vzdělávací program zaměřený na celé rodiny, být prostorem pro setkávání a aktivizaci seniorů, posílit kulturní program specializovaného oddělení Artotéka a přispět dílem k dobrému jménu Prahy 11. Akce dětského oddělení - dětské akce zejména v rámci tzv. rodinných sobot, akce pro ZŠ a SŠ k doplnění osnov, podpora integrace cizinců - besedy, divadlo, koncerty, dílny. Akce pro dospělé: cestovatelské přednášky, kurz trénování paměti, komponovaný hudební program, speciální program v rámci Dnů Prahy 11. Akce v rámci Artotéky: výtvarné dílny a workshopy pro příchozí napříč věkovými kategoriemi, doprovodný program k výstavám - komentované prohlídky, čtení, prezentace, akce pro celou rodinu. Akce budou přístupny zdarma a uskuteční se v pobočce MK v Praze Opatov. | E6: děti, rodiče, senioři, dospělí | F6: 250 do 18 let + 250 seniorů + 500 diváků | G6: červen - listopad 2026 | H6: O | I6: T | J6: 72800 | K6: 65520 | L6: 55000 | M6: personální výdaje (DPP, PS) | N6: personální výdaje (DPP, PS)
A7: 3 | B7: Domov pro seniory Chodov, Donovalská 2222/31, Praha 4, 149 00 IČ: 70876606 č.ú. 2001280007/6000 PPF banka | C7: Kulturní a společenský život v Domově pro seniory Chodov | D7: Cílem je zajistit plnohodnotný a žánrově pestrý kulturně společenský program, jehož pořádáním je podporován nejen aktivní a společensky plnohodnotný život klientů DS Chodov, ale také důležitá mezigenerační setkávání s dětmi, studenty, mladými rodinami a významné posilování vztahů s místní komunitou. Důležitým aspektem je prevence sociální izolace klientů a jejich ztráty zájmu o společenské dění. Pro všechny zájemce z řad veřejnosti a občany Prahy 11 je to alternativa aktivního a společensky přínosného trávení volného času. Do kulturního programu DS patří velmi oblíbený diskusní pořad Křeslo pro hosta, do kterého jsou zvány různé zajímavé osobnosti, divadelní představení, hudební vystoupení napříč žánry, tradiční společenské akce (maškarní bál, ples, pálení čarodějnic), méně tradiční akce (kouzelnické vystoupení, představení kubánské kultury, animoterapie s domácími i exotickými zvířaty aj.), výstavy s vernisážemi, na konci roku je organizováno Rozsvícení vánočního stromu spojené s kulturním programem, do kterého se zapojují místní MŠ, ZŠ i SŠ, se kterými během roku probíhají mezigenerační setkání. DS podporuje začínající umělce a studenty, klientům napomáhá při účasti v literárních a výtvarných soutěžích. Akce jsou zdarma. | E7: klienti DS Chodov, jejich rodinní příslušníci a přátelé, žáci a studenti spolupracujících škol, obyvatelé Prahy 11, široká veřejnost | F7: 20 do 18 let + 30 seniorů + 75 dospělých průměrná účast 60 diváků na akci | G7: leden - prosinec 2026 každá akce rozsah 1,5 hod. | H7: O | I7: T | J7: 250000 | K7: 90000 | L7: 65000 | M7: honoráře vystupujících umělců | N7: honoráře vystupujících umělců
A8: 4 | B8: Římskokatolická farnost u kostela sv. Františka z Assisi Praha - Chodov, Na sádce 1296/18, Praha 4, 14900 IČ: 61379701 č.ú. 104782676/2250 Banka CREDITAS, a.s. | C8: NEJEN KOSTEL 2026 | D8: Cílem projektu je nabídnout obyvatelům JM a přilehlých obcí kvalitní kulturní a společenské vyžití s ohledem na poslání Komunitního centra Matky Terezy (KCMT). Posláním KCMT je přispívat k rozvoji kulturního života a k podpoře občanské společnosti. Poskytuje místo pro setkávání a dialog všech generací, podporuje integraci osob, kterým hrozí sociální vyloučení. Projekt zvyšuje kvalitu a pestrost života na JM, rozšiřuje obzory v oblasti duchovní, kulturní a společenské. Projekt nabízí kvalitní kulturní, společenské a vzdělávácí programy: tradiční kulturní akce, koncerty včetně adventních, divadelní představení pro veřejnost a školní kolektivy, odpolední tančírny, rozhovory a přednášky, filmové noci, výtvarné dílny. Dále programy, které napomáhají uchovávání českých kulturních tradic. Některé akce se konají v kostele sv. Františka z roku 1938 (návaznost na historické dědictví v oblasti JM). Díky YouTube kanálu se rozšířila přístupnost programů pro širokou veřejnost. Žádost o dotaci se vztahuje na: Jihoměstský masopust, Jihoměstské posvícení a zároveň oslavu Dne dětí, Den nemocných , koncert v rámci Dnů Prahy 11, Noc kostelů, Chodovskou pouť u sv. Františka, cyklus adventních koncertů, Adventní jarmark, Filmové večery (1-2x měsíčně), výtvarné dílny, tančírny (cca 1x měsíčně v KCMT), cyklus přednášek a besed na téma psychického zdraví, Cesta světýlek (dušičkový program), Hudební kavárnu, divadelní představení, další koncerty, obnovu a rozšíření výstavního systému, vytvoření výstavního panelu o životě čestného občana Prahy 11 D. Zavřela. Vstupné v rozmezí: 0-150 Kč do 18 let, senioři, zdravotně znevýhodnění, 0-300 Kč dospělí. Místo konání: KCMT (U Modré školy 1), Kostel sv. Františka z Assisi. | E8: všechny generace obyvatel JM, včetně podpory a integrace osob, kterým hrozí sociální vyloučení | F8: 40 do 18 let + 50 seniorů + 30 zdravotně znevýhodněných+ 90 dospělých + 7000 diváků | G8: leden - prosinec 2026 | H8: O | I8: T | J8: 828310 | K8: 400000 | L8: 75000 | M8: Honoráře pro umělce, propagace projektu a jeho jednotlivých akcí, materiál a materiálové dovybavení, produkční služby, náklady na provoz sálu, výstavní panel | N8: Honoráře pro umělce, propagace projektu a jeho jednotlivých akcí, materiál a materiálové dovybavení, produkční služby, náklady na provoz sálu, výstavní panel
A9: 5 | B9: Sbor Církve bratrské v Praze 4 - Jižní Město, Modletická 1391/4, Praha 4 149 00 IČ: 73633267 č.ú. 2700505981/2010 Fio banka | C9: Kulturní a komunitní centrum Kostelna | D9: Projekt vznikl jako iniciativa zastřešující veškeré kulturní a volnočasové aktivity dětí, mládeže, dospělých a seniorů v budově Sboru Církve bratrské v Praze 4 - Jižní Město (zrekonstruovaná budova bývalé kotelny). Mnohé tyto aktivity probíhají pravidelně v podobě klubů, kde se jednou až dvakrát týdně schází účastníci z jediné generační skupiny. Jiné pravidelné aktivity (např. bohoslužby) navštěvují účastníci napříč všemi generacemi a jsou určeny široké veřejnosti. Kostelna je pro mnohé obyvatele JM, zejména pak pro sociálně vyloučené, místem odpočinku, přijetí a vzájemné podpory. Významný podíl tvoří kluby, ve kterých se účastníci věnují kulturním, sportovním, vzdělávacím a volnočasovým aktivitám. Ty jsou v rámci klubů nabízeny zdarma. Tak je zajištěno, že jsou programy přístupné i osobám, zejména dětem z nízkopříjmových rodin. Činnost klubů napomáhá vytváření zdravých sociálních vazeb, rozvíjení dovedností a celkovému rozvoji osobnosti. Projekt zastřešuje následující aktivity: BABY klub - tvořivé, vzdělávací, hudební a pohybové aktivity pro nejmenší děti a jejich rodiče, Kostelňáček - prostor pro setkávání rodičů s předškolními dětmi, Klub seniorů, Představ si! - účastníci pod vedením absolventa evangelické teologické fakulty studují Bibli, Bohoslužby - každou neděli otevřené široké veřejnosti. Většina vedoucích aktivit pracuje bez nároku na odměnu. Všechny aktivity jsou nabízeny zdarma, případně za dobrovolný příspěvek. Přístup a prostory v přízemí včetně zázemí jsou bezbariérové. | E9: širší veřejnost bez rozdílu věku, pohlaví, vzdělání, etnické příslušnosti a sexuální orientace | F9: 1000 do 18 let + 750 seniorů + 50 zdravotně znevýhodněných + 2000 dospělých + 2000 diváků | G9: 01.01. - 31.12.2026 | H9: O | I9: T | J9: 1250000 | K9: 500000 | L9: 30000 | M9: energie, provozní náklady, náklady na pracovníky | N9: energie, provozní náklady, náklady na pracovníky
A10: 6 | B10: YMCA Praha Na Poříčí 1041/12 Praha 1 110 00 IČ: 26529122 č.ú. 94-1018610207/0100 Komerční banka a.s. | C10: Celoroční kulturní činnost YMCA na Jedenáctce | D10: Cílem projektu je nabídnout kulturní aktivity ve střediscích YMCA Praha na JM a to všem sociálním skupinám - mateřské centrum Domeček (v KCMT) a nízkoprahové zařízení pro děti a mládež Ymkárium (Tererova 1551/8). Organizace na JM působí již skoro 20 let. MC Domeček nabízí rodičům na rodičovské dovolené a jejich dětem prostor pro setkávání a trávení volného času formou otevřené herny a pravidelných aktivit - kroužek angličtiny, dílnička, společné hraní a čtení pohádek, tématické výtvarné dílny, oslavy. Nízkoprahový klub Ymkárium je určený neorganizovaným dětem a mládeži, program tvoří rozvojová zájmová činnost (pravidelná činnost alespoň 1x týdně, aktivity rozvíjející kreativitu a zručnost, např. výtvarné a rukodělné činnosti, fotoateliér, hudební workshopy, drhání náramků, vánoční dílny aj.), během roku je to nejméně 60 hodin ve více než 40 setkáních pro cca 240 dětí a jednorázové akce pro děti a mládež (např. výtvarné dílny 8x, návštěva kina, ZOO, oslava Vánoc, Velikonoc, narozeniny klubu). Aktivity jsou omezeny kapacitně pro 10 účastníků. MC Domeček - vstup do herny pro rodinu 100 Kč, kroužky - cca 130 - 250 Kč, dílničky - od 100 Kč Ymkárium - rozvojová zájmová činnost zdarma, jednorázové pravidelné akce - symbolický poplatek 5 - 50 Kč. | E10: MC Domeček - rodiny s dětmi od narození do mladšího školního věku NZDM Ymkárium - děti a mládež 6 - 21 let, zejména ze sociálně a ekonomicky znevýhodněného prostředí veřejnost Prahy 11 | F10: 1200 do 18 let + 300 dospělých | G10: 01.01. - 31.12.2026 | H10: O/U | I10: T | J10: 137000 | K10: 60000 | L10: 50000 | M10: Ymkárium - spotřební a výtvarný materiál, kancelářské potřeby, materiál na programy, cestovné, vstupné, částečně provozní náklady, Domeček - spotřební a výtvarný materiál, materiál na programy, drobné vybavení, částečně provozní náklady | N10: Ymkárium - spotřební a výtvarný materiál, kancelářské potřeby, materiál na programy, cestovné, vstupné, částečně provozní náklady, Domeček - spotřební a výtvarný materiál, materiál na programy, drobné vybavení, částečně provozní náklady
A11: 7 | B11: Mezi námi, o.p.s. Medinská 1168/26, Praha 9 - Klánovice, 190 14 IČ: 02267217 č.ú. 5127272727/2010 Fio banka | C11: Mezigeneračně na Praze 11 | D11: Podpora a rozvoj mezigeneračních aktivit s kulturním programem v mezigeneračních skupinách na Praze 11 (od roku 2014). Cílovou skupinou jsou senioři ze seniorských zařízení na Praze 11 (DPS Blatenská, DPS Šalounova, DS Chodov, DS Háje, DS Janouchova) a děti ze školských zařízení na Praze 11 (MŠ Křejpského, MŠ Blatenská, MŠ Madolinka, MŠ V Benátkách, MŠ Sulanského, ZŠ Campanus). Ve všech skupinách na Praze 11 se uskuteční cca 45 setkání. Pravidelná setkávání v programech - "Povídej" (interakce a komunikace seniorů a dětí při společných činnostech - výtvarné, hudební, pohybové) a "Přečti" (aktivní senioři předčítají dětem knihy v MŠ i knihovnách). V roce 2026 budou rovněž připraveny Mezigenerační dílny pro širokou veřejnost v různých veřejných prostorách na Praze 11 (dle nabídky a možností např. v rámci Dnů Prahy 11), budou pokračovat akce ve spolupráci s MK Opatov a Chodov, "Klub pohádkových babiček a dědečků", setkání starších žáků se seniory v rámci projektu IT Zvesela. Pro spolupracovníky organizace jsou pořádána pracovní setkání. Mezigenerační aktivity jsou pro seniory volnočasovou aktivitou, aktivizační a prožitkovou složkou, jenž napomáhá ke zlepšení kvality života, jsou prevencí pocitu sociálního vyloučení a izolace. Děti tyto aktivity učí úctě, respektu a lásce k seniorům a ostatním generacím. | E11: senioři ze seniorských zařízení či klubů seniorů a děti z MŠ, ZŠ a SŠ na Praze 11 | F11: 230 seniorů + 280 dětí z MŠ, ZŠ a SŠ + 100 kooperující personál, 100 veřejnost - dílny | G11: leden - prosinec 2026 setkání 1x za 3 - 4 týdny, čtení 1x týdně, 1x měsíčně dílny v rámci akcí | H11: O | I11: T | J11: 170000 | K11: 80000 | L11: 50000 | M11: materiál a pomůcky na setkání, video/fotografické, produkční služby, grafik, správa webových stránek, tiskové služby, supervize setkání a čtení, školení seniorů, provozní náklady, kancelář | N11: materiál a pomůcky na setkání, video/fotografické, produkční služby, grafik, správa webových stránek, tiskové služby, supervize setkání a čtení, školení seniorů, provozní náklady, kancelář
A12: 8 | B12: Spolek přátel zpěvu, Na hlinách 1786/16, Praha 8 182 00 IČ: 05126801 č.ú. 6364837175/2010 Fio banka | C12: Činnost Spolku přátel zpěvu v r. 2026 | D12: Spolek byl založen za účelem sdružení amatérských zpěváků, kteří se chtějí zlepšovat ve svém projevu a vystupovat na veřejných akcích. Byla najata profesionální učitelka zpěvu, spolek našel výborné zázemí pro své zkoušky v Domově seniorů v Donovalské ul. na Praze 11. Cílem projektu je možnost pořádání dalších kulturních vystoupení (zejména pro klienty v domovech pro seniory, pro veřejnost v rámci projektů v době vánoční, vítání jara, dobročinných akcí) během celého kalendářního roku v Praze a jejím nejbližším okolí (4 koncerty v Domově pro seniory Chodov, v kostelích, modlitebnách apod.). Sbor se zaměřuje na písně klasické, muzikálové, populární, folkové a lidové s ohledem na skladbu diváků. V případě možnosti se spolek zúčastní písňového festivalu k nabytí nových zkušeností. Výše vstupného: děti a zdravotně znevýhodnění zdarma, 200 Kč dospělí a senioři (v domovech pro seniory zdarma). | E12: divácká obec na Praze 11 i jinde, zejména na území Prahy | F12: 40 (z toho 6 seniorů) + cca 800 diváků/rok | G12: leden až prosinec 2026 | H12: O | I12: T | J12: 270000 | K12: 100000 | L12: 35000 | M12: sbormistr, nájemné, platba Unii sborů, nákup not | N12: sbormistr, nájemné, platba Unii sborů, nákup not
A13: 9 | B13: "Oliva" z.s. Chmelová 2893/4, Praha 10, 10600 IČ: 26596229 č.ú. 178230188/0300 ČSOB, a.s. | C13: Bez bariér – můžeme tvořit společně | D13: Projekt pěti dvoudenních výtvarných haptických workshopů pro lidi se zrakovým postižením na Chodovské tvrzi. Cílem projektu je přiblížení světa handicapovaných široké veřejnosti, rozvoj hmatové estetiky nevidomých návštěvníků prostřednictvím hmatové stezky – při sochařských výstavách na Chodovské tvrzi, workshopy hmatového modelování nejen pro nevidomé. Projekt se na Praze 11 koná od roku 2021, předtím byl realizován na Praze 1. Pro nevidomé klienty jsou workshopy zdarma. | E13: lidé se zrakovým postižením i široká veřejnost | F13: 30 zrakově postižených, 5 z Prahy 11 a Prahy 4 + návštěvníci haptických výstav | G13: duben – listopad 2026 víkendy | H13: U/O | I13: T | J13: 190000 | K13: 50000 | L13: 40000 | M13: materiálové náklady, sochařské pomůcky, hlína, organizační náklady, lektorné, nájem výtvarného ateliéru Chodovské tvrze, propagace, informační materiál | N13: materiálové náklady, sochařské pomůcky, hlína, organizační náklady, lektorné, nájem výtvarného ateliéru Chodovské tvrze, propagace, informační materiál
A14: 10 | B14: Šikovné děti z.s. Průchova 710/49, Praha 5 155 00 IČ: 06194192 č.ú. 2201320771/2010 Fio Banka | C14: Kutil Junior - Pravidelné řemeslné dílny pro děti a mládež či seniory | D14: Cílem projektu je podpořit nejen rozvoj umělecké a řemeslné zručnosti, ale i aktivní trávení volného času dětí, mládeže a seniorů v MČ Praha 11 (koná se zde od roku 2016). Řemeslné dílny se konají pravidelně během školního roku v ZŠ, díky vlastním skládacím pracovním stolům i v těch, kde není k dispozici dílna. Dětem se v nich otevírá možnost uměleckého vzdělávání, seznamují se se skutečným nářadím a různými materiály a učí se s nimi pracovat. Výstupem jsou umělecké, funkční a praktické výrobky pro domácnost či hračky. Ze starých věcí zkouší vyrobit nové - učí se recyklovat a šetřit tak životní prostředí, pracují i s přírodními materiály a na ekologických projektech. Dílny nahrazují nedostatek polytechnické výuky ve školách, přivádí děti k technickým činnostem, je skvělým protipólem k době strávené u mobilních telefonů či počítačů. Ve spolupráci s komunitními centry a domovy pro seniory jsou pořádány pravidelné řemeslné akce, na nichž mohou senioři získat nové praktické zkušenosti z oblasti polytechniky, recyklace, dekorací, údržby domácnosti apod. Práce s nářadím je pro seniory velmi přínosná, trénují zručnost, plánují postup práce, přemýšlejí a hledají logická řešení. To vše přispívá k udržení dobrého duševního zdraví seniorů. Místo konání - ZŠ Mikulova, ZŠ K Milíčovu, DS Chodov. Řemeslné dílny pro seniory jsou zdarma, dílny pro děti a mládež jsou zpoplatněny - 2790 Kč, poplatek nepokryje náklady. | E14: děti, mládež a senioři MČ Praha 11 | F14: 25 - 45 do 18 let + 25 - 40 seniorů + 15 zdravotně znevýhodněných + 10 dospělých | G14: 01.01. - 23.12. 2026 | H14: U | I14: T | J14: 147000 | K14: 85500 | L14: 40000 | M14: Lektorská činnost + příprava materiálu, nájemné, materiál, nářadí, pomůcky, propagace, administrativa, doprava | N14: Lektorská činnost + příprava materiálu, nájemné, materiál, nářadí, pomůcky, propagace, administrativa, doprava
A15: 11 | B15: Rodinné centrum Pilné včelky z.s. Bachova 1567/5, 14900 Praha 4 IČ: 08874476 č.ú. 292053840/0300 ČSOB, a. s. | C15: Celoroční provoz rodinného centra Pilné včelky | D15: RC od roku 2009 realizuje řadu volnočasových aktivit pro rodiny s dětmi ve věku od 3 měsíců do cca 6 let. Jedná se o pravidelné kurzy (pohybové, kreativní - rozvoj dovedností dle montessori, keramika, pracovny na Smyslohrátky, hudební a další) včetně kurzů cvičení pro dospělé, jednorázové akce (veřejná čtení, tématické tvořivé dílny, oslavy významných svátků dle kalendářního roku) i akce pořádané zdarma pro širokou veřejnost. Dále jsou pořádány semináře pro rodiče a příměstské tábory. Akce zajišťuje odborný personál, jsou poskytovány služby logopedické poradny, psychomotorické poradny, výchovné poradenství, subjekt spolupracuje se ZŠ a zapojuje se do celorepublikových aktivit. RC využívá prostor pronajatý za komerční nájemné ve vilkové zástavbě, k dispozici je zahrada s herními prvky (Pacajevova 954/30, Praha - Háje). Aktivity pro rodiče s dětmi probíhají také v pronajatém prostoru v ZŠ Pošepného a v Komunitní centrum Filipovka. Výše vstupného je dle kurzu nebo jednorázové akce. Cena lekce v rámci kurzu již od 170 Kč. Některé akce jsou zdarma. | E15: rodiče s dětmi ve věku 6 měsíců - 7 let, matky na MD | G15: leden - prosinec 2026 | H15: O | I15: T | J15: 279700 | K15: 85000 | L15: 40000 | M15: nájemné, lektorné, materiál | N15: nájemné, lektorné, materiál
A16: 12 | B16: ZŠ PRO DĚTI, z.s., Vrázova 1059/8, Praha 5, 150 00 IČ: 09485015 č.ú. 2302071188/2010 Fio banka | C16: Bubenické workshopy pro děti ZŠ | D16: Cílem projektu je pořádání pravidelných bubenických workshopů (40) pro děti ZŠ Prahy 11 s tematikou bicích nástrojů. Projekt dětem zábavnou interaktivní formou přiblíží problematiku rytmu a historii bicích nástrojů. Jeden workshop trvá 90 minut s kapacitou pro cca 20 žáků. Tento počet je zvolen proto, aby s dětmi bylo možné zacházet individuálně. Děti se dozvědí základní informace o historii bicích nástrojů, projdou interaktivními cvičeními, získají základní přehled jak vytvořit rytmus, po té si každé dítě vyrobí svůj vlastní bicí nástroj, který si může odnést na památku. Na závěr budou děti rozděleny do menších skupin a vymyslí vlastní skladbu, kterou předvedou. Díky workshopu přijdou děti do kontaktu s hudbou jiným způsobem a je pravděpodobné, že u některých z nich vzbudí chuť věnovat se nějakému hudebnímu nástroji. Projekt se uskuteční v Music Clubu Jižák (Matúškova 831), akce se uskuteční zdarma. | E16: děti mladšího školního věku, žáci 1. až 5 tříd ZŠ | F16: 800 do 18 let | G16: červen - říjen 2026 | H16: U | I16: T | J16: 440000 | K16: 400000 | L16: 30000 | M16: Administrativní a účetní služby, příprava programu, organizace, materiály na výrobu nástrojů, doprava, honoráře lektorům a pomocným technikům, propagace, pronájem zvukové techniky a prostor | N16: Administrativní a účetní služby, příprava programu, organizace, materiály na výrobu nástrojů, doprava, honoráře lektorům a pomocným technikům, propagace, pronájem zvukové techniky a prostor
A17: 13 | B17: Sousedská klubovna Jižní Město, z.s. Tererova 1357/10, Praha 4, 14900 IČ: 08526095 č.ú. 2701716879/2010 FIO Banka | C17: Rozvoj komunitních a kulturních aktivit Sousedské klubovny JM v roce 2026 | D17: Cílem projektu je rozvíjet kulturní vyžití na komunitní úrovni s pestrou nabídkou aktivit v podobě různorodých dílen, kurzů, přednášek a besed a nadále otevírat fungující prostor Sousedské klubovny JM k vzájemnému setkávání a poznávání lidí všech generací nejen pro členy spolku, ale také pro širokou veřejnost z Prahy 11. Prostor vznikl v říjnu 2018 jako spontánní iniciativa místních obyvatel, na konci roku 2025 přišla klubovna díky prodeji prostor o své zázemí, podařilo se získat nové prostory a klubovna prošla kompletním restartem. Klubovna v rámci celoroční činnosti mj. plánuje: poskytnout celodenní zázemí pro trávení volného času rodin s dětmi, pravidelné tvořivé kurzy a dílny pro děti a dospělé (výtvarné činnosti, rukodělná výroba, sensory play apod.), pořádat večerní a víkendové kurzy, každotýdení podpůrné skupiny pro rodiny s malými dětmi, jednorázové přednášky, besedy, filmové, deskové a ženské večery, zajistit mezigenerační setkání prarodičů s dětmi, zapojit se do aktivit na podporu udržitelného způsobu života (bazárky, swapy, úklidy okolí), nabídnout pravidelná setkání rodin s dětmi na domácím vzdělávání, spolupracovat při pořádání letních příměstských táborů, spolupracovat s dalšími organizacemi na území P11. Klubovna chce zachovat míru nabízených aktivit i přes zvyšující se náklady na nájemném apod. Celý projekt je potřeba zaštítit jedním hlavním koordinátorem. Bez vstupného. | E17: primárně děti a dospělí žijící na Praze 11 široká veřejnost | F17: 400 do 18 let + 20 seniorů + 10 zdravotně znevýhodněných + 250 dospělých | G17: 01.01. - 31.12. 2026 | H17: O | I17: T | J17: 229840 | K17: 93840 | L17: 35000 | M17: část nájmu (+služby) za prostory | N17: část nájmu (+služby) za prostory
A18: 14 | B18: Ateliér pro Radost, z.s., Bachova 1568/3, Praha 4, 149 00 IČ: 17982472 č.ú. 2100666677/0600 MONETA Money Bank, a.s. | C18: Celoroční provoz výtvarného Ateliéru pro Radost, z.s. (včetně výtvarných kroužků Kurz kresby a malby a Kurz ručního šití na ZŠ Mikulova a ZŠ K Milíčovu) | D18: Výtvarný Ateliér pro Radost působí na Praze 11 od dubna 2015 (Bachova 1568). Celoroční provoz každý všední den odpoledne, víkendové akce, jednorázové akce (dle svátků cyklu roku), dílny, kreativní workshopy. Ateliérové lekce jsou koncipovány tak, že všechny věkové kategorie mohou tvořit najednou čili spolu a navzájem se inspirovat. Ateliér vede také kurzy mimoškolní činnosti na ZŠ Mikulova a ZŠ K Milíčovu (kurzy kresby a malby, kurzy ručního šití), pořádá výtvarně zaměřené příměstské tábory po celý rok, sousedská setkávání, jednorázové workshopy pro veřejnost 2x do měsíce, jednorázové projekty pro veřejnost ZDARMA (Den dětí, Den otevřených dveří, ukázkové lekce apod.), oslavy narozenin apod., účastní se různých soutěží. Vstupné do 18 let 210 - 250 Kč, ostatní 270 Kč, slevy pro ZTP. | E18: všichni občané Prahy 11 a všechny věkové kategorie | F18: 5000 do 18 let + 750 seniorů + 250 zdravotně znevýhodněných + 1200 dospělých | G18: 01.01. - 31.12. 2026 15 - 19 hod., o víkendu od 10 do 12 hod. | H18: O | I18: T | J18: 662000 | K18: 50000 | L18: 30000 | M18: Nájemné + elektřina, lektorné, výtvarný materiál (ateliér) | N18: Nájemné + elektřina, lektorné, výtvarný materiál (ateliér)
A19: 15 | B19: AGS Trade s.r.o, Krejnická 2021/1, Praha 4, 148 00 IČ: 27616169 č.ú 210306710/0300 ČSOB | C19: Fun Arena Events | D19: Cílem projektu je doplnit běžnou agendu (unikátní zábavní centrum a největší arkádová herna v ČR, Bartůňkova 1761/7) o pravidelný kulturní přesah a vytvořit prostor pro socializaci široké veřejnosti pořádáním několika multižánrových akcí měsíčně (koncerty, přednášky, stand-up, křty knih, pub kvízy, turnaje ve stolních a logických hrách, karaoke) za dostupné vstupné. Záměrem není nahrazovat klasická kulturní centra, ale otevřít a sdílet unikátní zázemí s komunitou na JM s důrazem na podporu lokální alternativní scény. Projekt doplňuje běžnou komerční činnost zábavního centra o veřejně prospěšný přesah a napomáhá integraci do místního dění. Vstupné 0 - 450 Kč. | E19: široká veřejnost a obyvatelé Prahy 11 napříč všemi věkovými kategoriemi | F19: 800 - 2000 do 18 let + 200 - 500 seniorů + 30 - 100 zdravotně znevýhodněných + 2000 - 6000 dospělých | G19: únor - prosinec 2026 | H19: O | I19: N | J19: 450000 | K19: 350000 | L19: 30000 | M19: hlavní ozvučení sálu, mixážní pult a stagebox, pódiové odposlechy, mikrofonní park, příslušenství (kabely, stojany) | N19: hlavní ozvučení sálu, mixážní pult a stagebox, pódiové odposlechy, mikrofonní park, příslušenství (kabely, stojany)
A20: 16 | B20: Minor, Vodičkova 674/6, Praha 1, 110 00 IČ: 00064351 č.ú 3493314/0300 ČSOB | C20: Celoroční činnost MINOR v Kulturní stanici Galaxie | D20: Cílem projektu je stabilní zajištění provozu Kulturní stanice Galaxie (Arkalycká 833, P11 - Háje), která zpřístupňuje kulturní program obyvatelům Prahy 11, rozvíjí kulturní vzdělání dětí a mládeže a propojuje profesionální umělecké instituce s místní komunitou. Roční provoz zahrnuje divadelní představení, vzdělávací aktivity pro školy, komunitní akce a spolupráci s partnerskými institucemi. Součástí programu jsou také tematické aktivity a jednorázové akce, které propojují kulturní a vzdělávací složku, zapojují různé partnery a rozšiřují kulturní dění v lokalitě. V jarním a letním období - festivaly, hudebně-divadelní projekt, dílny pro školy. V říjnu 2026 bude uvedena nová inscenace "UBER a HRAJS". Program doplňují aktivity propojující kulturu s veřejným prostorem, např. prohlídky Galaxie, outdoorová hra Vysílač GO84. Vstupné do 18 let a senioři 170/220 Kč, dospělí 220/320 Kč. | E20: děti a žáci škol z Prahy 11, rodiny s dětmi, místní obyvatelé, odborná i laická veřejnost | F20: 15 120 diváků (9 120 představení, cca 6000 festivaly, prohlídky, hry) | G20: leden - prosinec 2026 | H20: O | I20: N | J20: 6459000 | K20: 150000 | L20: 50000 | M20: honoráře, úhrada služeb spojených s provozem prostor | N20: honoráře, úhrada služeb spojených s provozem prostor
A21: 17 | B21: DanceConnected, z.s., Perucká 2247/18, Praha 2, 120 00 IČ: 05978351 č.ú 2202807645/2010 Fio banka, a.s. | C21: Galaxie -Celoroční činnost DanceConnected 2026 | D21: Cílem projektu je rozvíjet a ukotvovat dostupnou kulturní nabídku v oblasti současného tance přímo na území Prahy 11 (Kulturní stanice Galaxie a okolí) a to se zaměřením především na obyvatele a osoby, které zde žijí, pracují, tráví volný čas. Projekt se soustředí na aktivity s přímým lokálním dopadem - zejména pravidelné taneční lekce pro veřejnost, workshopy, participativní a komunitní formáty, site-specific projekty ve veřejném prostoru a programy pro všechny generace. Důraz je kladen na participaci, dostupnost a udržitelnost - tanec není prezentován jen v tradičních divadelních sálech, ale i ve veřejném protoru. Projekt přináší současný tanec do netradičních prostor a veřejných míst, oslovuje široké publikum, čímž podporuje inkluzivní přístup ke kultuře a bourá tradiční hranice mezi umělci a diváky. Vstupné do 18 let 0 - 180 Kč, senioři a zdravotně znevýhodnění 100 - 150 Kč, dospělí 230 - 500 Kč. | E21: široké spektrum cílových skupin - místní komunity, senioři a znevýhodněné skupiny, široká veřejnost, umělci a studenti | F21: 100 do 18 let + 100 seniorů + 50 zdravotně znevýhodněných + 750 dospělých + 4470 diváků | G21: leden - prosinec 2026 | H21: O | I21: N | J21: 2129600 | K21: 95000 | L21: 50000 | M21: honoráře, produkční zajištění, technické zajištění, pronájem techniky, propagace, marketing | N21: honoráře, produkční zajištění, technické zajištění, pronájem techniky, propagace, marketing
A22: 18 | B22: Čtyři dny z.s., Rybalkova 186/33, Praha 10, 101 00 IČ: 67362567 č.ú 19-5627250217/0100 Komerční banka a.s. | C22: Místa činu | D22: Cílem projektu je vyvolat zájem o společné sdílení veřejného prostoru a to formou umělecké aktivity site specific. Projekt si klade za cíl pracovat s lokalitou Jižního Města, cílit na její obyvatele a nabídnout program, který v pražské nabídce této části Prahy chybí. Bude opět využit unikátní prostor Galaxie. Průběh projektu: 3x výstava (25 umělců, komunitní a participativní projekt pro Sídliště Jižní Město), 1x vznik nového performativního projektu K sobě, uvedení a reprízy, 2x architektonické procházky po JM, 40x edukativní program pro děti vždy na aktuální výstavu, 2x dílny zaměřené na vzdělávání ve vizuální oblasti, 1x festivalová škola Ars Managementu pro odborníky z celé republiky. Řada akcí pro veřejnost zdarma, vstupné dospělí 150 Kč, senioři a zdravotně znevýhodnění 80 Kč. | E22: laická i odborná veřejnost, studenti uměleckých škol, děti a jejich rodiče, ZŠ, SŠ, senioři | F22: 250 do 18 let + 10 seniorů + 20 dospělých + 3500 diváků | G22: 08.01. - 15.11.2026 | H22: O | I22: N | J22: 4385000 | K22: 355000 | L22: 50000 | M22: ostatní provozní náklady, honoráře umělců, propagace projektu | N22: ostatní provozní náklady, honoráře umělců, propagace projektu
A23: 19 | B23: Nosálci, z.ú., Sušická 852/32, Dejvice,Praha 6, 160 00 IČ: 14440202 č.ú 2202222604/2010 Fio banka | C23: Celoroční činnost divadelní společnosti Nosálci, z.ú. | D23: Divadelní společnost v roce 2026 chystá premiéru představení pro děti Kouzelná Baterka podle knižní předlohy od Olgy Černé formou loutkového a hudebního divadla, zároveň se repertoár rozšíří o Pasování předškoláků s Omou (nový program do MŠ) a o nové loutky k představení Vánoční příběh. Nosálci přináší na dětskou a hudební scénu svébytnou plnokrevnou tvorbu s pilíři v autorské hudbě, loutkářském řemeslu a třeskutém humoru. Představení se budou hrát v MŠ Prahy 11 (a celé Praze a okolí), v Chodovské tvrzi a KC Zahrada, na Dnech Prahy 11 se sníženým honorářem. Vstupné do 18 let 30 Kč, dospělí 80 Kč. | E23: děti od 3 let, jejich rodiče, prarodiče a učitelé | F23: 3 + 800 diváků | G23: leden - prosinec 2026 | H23: O | I23: T | J23: 1160000 | K23: 200000 | L23: 50000 | M23: honoráře (herecké, režijní, výtvarné), propagace (foto, záznam, videoupoutávka), nákup materiálu | N23: honoráře (herecké, režijní, výtvarné), propagace (foto, záznam, videoupoutávka), nákup materiálu
A24: 20 | B24: MgA. Štěpánka Vanická, Na nivách 1058/19, Praha 4 - Michle 141 00 IČ: 05003032 č.ú 2055044173/0800 Česká spořitelna | C24: Vánoční dar | D24: V rámci dlouhodobé spolupráce s MČ Praha 11 (Divadlo KAKA, nyní Divadlo Vanička) a úspěšné realizace mnoha projektů podpořených MČ Praha 11 - snaha o uvedení premiéry nové loutkové inscenace "Vánoční dar". Cílem projektu je vytvořit a uvést autorskou divadelní inscenaci pro dětské a rodinné publikum, která přístupnou a současnou formou představí české vánoční tradice a jejich hodnoty. Projekt si klade za cíl posílit povědomí o kulturním dědictví, podpořit mezigenerační sdílení a nabídnout kvalitní kulturní obsah v rámci místní komunity. Premiéra je plánována na konec listopadu, dále bude inscenace reprízována v rámci vánočního období a to zejména v kulturních, školních a komunitních prostorách na Praze 11 a dalších lokalitách. Vstupné se bude odvíjet dle výše přidělené dotace (minimální), vstupné pro dospělé 100 Kč. | E24: děti 3 - 10 let a jejich rodiny z Prahy 11, školní kolektivy, širší veřejnost | F24: 320 do 18 let + 30 seniorů + 1600 diváků | G24: červen - listopad 2026 | H24: O | I24: T/N | J24: 325000 | K24: 85000 | L24: 45000 | M24: výroba scény, scénografie, materiál na výrobu scény, hudba na klíč, mastering zvuku, nákup zvukové techniky, honoráře, fotografie, audiozáznam | N24: výroba scény, scénografie, materiál na výrobu scény, hudba na klíč, mastering zvuku, nákup zvukové techniky, honoráře, fotografie, audiozáznam
A25: 21 | B25: Emilie Hajná Zakouřilova 955/9, 149 00 Praha 4 IČ: 62376314 č.ú. 278577381/0300 ČSOB | C25: Nadčasovost myšlenek J. A. Komenského "Obecná porada o nápravě věcí lidských", "Labyrint světa a ráj srdce" a jejich poselství současnosti | D25: Zajištění propagace a vydavatelské činnosti galerie, provozu a činnosti galerie, jejích výstav a pořadů pro mimoškolní výchovu a vzdělávání pro školy a veřejnost. Cílem projektu je otevřít Galerii Cesty ke světlu Zdeňka Hajného (Zakouřilova 955/9, Praha 11) pedagogům, školám, široké veřejnosti s novými výstavami a programy navazujícími na mnohaletou (přes 30 let) činnost. Vytvoření podmínek k zajištění plynulého chodu a rozvoje činností galerie podle dlouhodobého plánu. Uskutečnění pořadů, které budou zaměřeny na mládež tak, aby se rozvíjela jejich umělecká, filozofická a kulturní stránka osobnosti. Zdokonalování multimediálních programů výběrem jednotlivých protagonistů, prezentací, použitím nových technologií a to jak zvuku, tak nasvětlení. Výše vstupného pro dospělé 145 Kč, senioři nad 65 let a děti 120 Kč, ZTP zdarma, vstupné na večerní pořady 300 Kč. | E25: široká veřejnost, školy (MŠ, ZŠ, VŠ, univerzita 3. věku), pedagogové | F25: 1500 do 18 let, seniorů a zdravotně znevýhodněných + 7000 dospělých | G25: leden - prosinec 2026 (mimo srpen) dle dohody, 14 - 18 hod., v době večerních pořadů 19 - 22 hod. | H25: O | I25: T | J25: 490000 | K25: 341000 | L25: 35000 | M25: Honoráře, služby, propagace, zajištění audiovizuálních a dokumentárních vstupů a výstupů | N25: Honoráře, služby, propagace, zajištění audiovizuálních a dokumentárních vstupů a výstupů

Sheet II. program
A1: II. | B1: Program - Kulturní akce na území MČ Praha 11 (finanční spoluúčast subjektu ve výši 10%) | M1: =IF('I. program'!M3:N3="","",'I. program'!M3:N3) -> příloha usnesení č. 0000/24/Z/2026
A2: Číslo | B2: Subjekt | C2: Název projektu | D2: Obsahprojektu | E2: Cílová skupina | F2: Počet účastníků akce | G2: Termín konání | H2: Přístupnost akce | I2: Typ akce | J2: Náklady celkem (Kč) | K2: Požadovaná částka (Kč) | L2: Doporučená částka (Kč) | M2: Požadavek organizace | N2: Účel dotace
A3: 1 | B3: Základní umělecká škola Jižní Město Křtinská 673 Praha 4 149 00 IČ: 45246211 č.ú. 2000808359/0800 Česká spořitelna a.s. | C3: Soutěž Jižní Město Music 2026 | D3: Touto tradiční soutěží (již 31. ročník) s vysokou uměleckou úrovní oslovuje ZUŠ JM nadané děti, mladé muzikanty z celé P4, kteří mají zájem změřit své schopnosti a dovednosti na hudebním poli, inspirovat se výkony druhých a získat cenné zkušenosti. Soutěžní hudební obor je každoročně obměňován, v tomto ročníku byla vybrána komorní hra. Ocenění žáci následně reprezentují ZUŠ JM v celorepublikové soutěži. Na organizaci se jako dobrovolníci společně podílejí pedagogové a studenti ZUŠ. Soutěž se koná v koncertním, orchestrálním a sborovém sále ZUŠ JM - Křtinská. Akce je přístupná zdarma. | E3: děti a mládež od 7 do 26 let | F3: 58 + 18 dospělých + cca 110 diváků | G3: 28.02.2026 10 - 13:30 hod. | H3: O | I3: T | J3: 43000 | K3: 25000 | L3: 15000 | M3: Honoráře, ladění klavíru, tisk propagačních materiálů, nákup dárků, cen a odměn pro účastníky | N3: Honoráře, ladění klavíru, tisk propagačních materiálů, nákup dárků, cen a odměn pro účastníky
A4: 2 | B4: Spolek rodičů Milíčov K Milíčovu 674/2 Praha 4 149 00 IČ: 05530377 č.ú. 2301120232/2010 Fio banka | C4: Kulturní Milíčov - jaro 2026 | D4: Cílem projektu je zajištění kulturních a společenských aktivit žákům ZŠ K Milíčovu, které vznikly jako nápad v rámci Školního parlamentu - konkrétně Masopust, Karneval, Ples, Noc s Andersenem a Čtenářský maraton, Milíčov má talent, Zahradní slavnost a Rozloučení s deváťáky. V rámci Masopustu se koná výuka v maskách, průvod masek, scénické výstupy, akce končí karnevalovou a soutěžní zábavou. 2. reprezentační ples byl uspořádán pro rodiče, zaměstnance školy i veřejnost v KCMT jako příležitost setkání se mimo oficiální prostory školy. Milíčov má talent je 3. ročník talentové soutěže pro žáky školy v kategoriích zpěv, hra na hudební nástroj nebo tanec, soutěžící vystoupí před školní porotou a dětským publikem. Zaměření Noci s Andersenem a Čtenářského maratonu je rozvoj vztahu a zájem dětí o literaturu a čtení za příležitosti otevření nové školní knihovny. Zahradní slavnost je letitá akce na školní zahradě, kde se ke konci roku sejdou žáci, rodiče a zaměstnanci školy při vzdělávacích, zábavných a komunitních aktivitách. Rozloučení s deváťáky je slavnostním rozloučením žáků se školou, učiteli a vykročení do další životní etapy. Vstupné: ples 300 Kč/osoba, ostatní akce jsou přístupné zdarma. | E4: žáci školy a jejich rodiče, zaměstnanci školy, veřejnost | F4: 1000 + 400 dospělých | G4: únor (Masopust) březen (Karneval, Ples, Milíčov má talent, Noc s Andersenem a Čtenářský maraton) červen 2026 (Zahradní slavnost a Rozloučení s deváťáky) | H4: U/O | I4: T/N | J4: 89000 | K4: 80100 | L4: 15000 | M4: nákup dárků, cen, odměn, umělecké a autorské honoráře, kancelářské potřeby, nákup materiálu | N4: nákup dárků, cen, odměn, umělecké a autorské honoráře, kancelářské potřeby, nákup materiálu
A5: 3 | B5: YMCA Praha Na Poříčí 1041/12 Praha 1 110 00 IČ: 26529122 č.ú. 94-1018610207/0100 Komerční banka a.s. | C5: Veřejné akce YMCA na Jedenáctce | D5: Akce pořádané MC Domeček a NZDM Ymkárium. MC Domeček – tradiční akce pro nejmenší návštěvníky - Karneval (akce pouze pro přihlášené - hudba, tanec, masky, tématická výtvarná dílnička) a oslava Dne dětí (akce bez nutnosti přihlášení - soutěže, minitrampolína, Montessori koutek, hod na cíl, slalom, výtvarná dílnička, bublifukové atrakce, malování na obličej aj.). Obě akce se uskuteční v prostorách KCMT a okolí (vždy s ohledem na počasí a aktuální situaci). Z každé akce obdrží děti diplom a malou drobnost. Na organizaci se podílí hlavně dobrovolníci (rodiče). NZDM Ymkárium – Jižňák Fest (původně dlouholetá tradiční akce Čarodějnice na Jižňáku), která je spolupořádána s DDM JM pro širokou veřejnost (sportovní a pohybové soutěže, výroba masek, sítotisk, plackovací workshop, výtvarné workshopy, airbrush aj.), akce se uskuteční v Central parku u KCMT. Cílem projektu je zpestření veřejného dění na JM a představení služeb veřejnosti i potencionálním zájemcům. Akce MC Domeček jsou za poplatek 100 Kč, akce NZDM Ymkárium je přístupná zdarma. | E5: MC Domeček - rodiny s dětmi do 6 let NZDM Ymkárium - děti a mládež 6 - 26 let, rodiny s dětmi, širší veřejnost Prahy 11 | F5: 450 + 250 dospělých | G5: leden až červen 2026 (Karneval - únor, Den dětí - květen/červen, Jižňák Fest - červen) | H5: O | I5: T | J5: 80500 | K5: 50000 | L5: 20000 | M5: MC Domeček - spotřební materiál, výtvarné potřeby, odměny pro děti, úklidové prostředky, hygienické potřeby, provozní náklady - nájem prostor a služby, internet, telefon Ymkárium - cestovné a doprava materiálu, honoráře, drobné vybavení a spotřební materiál, částeně provozní náklady | N5: MC Domeček - spotřební materiál, výtvarné potřeby, odměny pro děti, úklidové prostředky, hygienické potřeby, provozní náklady - nájem prostor a služby, internet, telefon Ymkárium - cestovné a doprava materiálu, honoráře, drobné vybavení a spotřební materiál, částeně provozní náklady
A6: 4 | B6: Spolek dětského pěveckého sboru Svítání Štefánikova 217/19 Praha 5 150 00 IČ: 65991061 č.ú.: 2100699823/2010 Fio banka a.s. | C6: Zahrada písní 2026 | D6: Cílem projektu je uspořádání 19. ročníku celostátní soutěžní přehlídky dětských a mládežnických pěveckých sborů (25 sborů z celé republiky). Akce se tradičně koná v KC Zahrada (poprvé před 20 lety), kde jsou sbory rozděleny do 4 bloků po 6-7 sborech, soutěží se v několika kategoriích dle věku a hlasového složení. Jedná se o sbory ze základních uměleckých škol, ale i sbory školní či soukromých subjektů. Většinou jsou to velmi kvalitní tělesa s velmi dobrou uměleckou úrovní z celé ČR. Sbory hodnotí odborná porota. Přínosem je setkání se sbory podobného zaměření, navázání kontaktů, získání zkušeností a doporučení apod. Akce je svým rozsahem a zaměřením v rámci Prahy ojedinělá, je otevřena široké veřejnosti, vstup pro diváky je zdarma, účastnický poplatek činí 50 Kč za zpěváčka. | E6: dětské a mládežnické pěvecké sbory ve věku od 3 do cca 18 let | F6: 750 do 18 let + 2 zdravotně znevýhodnění + 80 dospělích + 250 diváků | G6: 11. - 12.04. 2026 7 – 19 hod. | H6: O | I6: T | J6: 180000 | K6: 23000 | L6: 18000 | M6: nájemné, zajištění akce - konferování, organizační zabezpečení, účetnické práce, odměny pro účastníky | N6: nájemné, zajištění akce - konferování, organizační zabezpečení, účetnické práce, odměny pro účastníky
A7: 5 | B7: P&J Music s.r.o. Ječná 516/28, Praha 2, 120 00 IČ: 45790221 č.ú. 217780001/5500 Raiffeisenbank | C7: JAZZ MEETS WORLD 2026 | D7: Cílem tohoto tradičního projektu je rozšířit volnočasové aktivity na Praze 11 a představit posluchačům ve dvou koncertech v Chodovské tvrzi dvě zajímavá hudební tělesa - Emil Viklický - piano, Scott Robinson - saxofony (ČR/USA) a HlasKontraBas (ČR) - Ridina Ahmedová - zpěv, Petr Tichý - kontrabas. Interpreti koncertů bývají vybíráni na mezinárodních festivalech a veletrzích. Ideou činnosti je prezentovat hudbu jako prvek spojující národy přes geografické, politické i náboženské hranice, takže vystupující hudební seskupení je často mezinárodní. Přínosem je prezentace zahraničních umělců, kteří patří ke špičkám ve svém oboru, přímo v místě bydliště obyvatel Prahy 11, navíc se daří přilákat na Prahu 11 i obyvatele jiných částí Prahy a okolí. Vstupné 400/300 Kč, senioři a zdravotně handicapovaní 300/200 Kč. | E7: obyvatelé Prahy 11 - všechny věkové a sociální skupiny | F7: 2x45 | G7: 21.04., 13.05.2026 19 - 20:15 hod. | H7: O | I7: T | J7: 124500 | K7: 65000 | L7: 28000 | M7: Nájem sálu, propagace, ubytování, honoráře vč. daní, technické zabezpečení | N7: Nájem sálu, propagace, ubytování, honoráře vč. daní, technické zabezpečení
A8: 6 | B8: Taneční klub SPARTA PRAHA, z.s. K Habrovce 674/6, Praha 4, 140 00 IČ: 70874182 č.ú. 6106106302/2010 Fio banka | C8: Praha 11 tančí s dětmi - taneční přehlídka TK SPARTA PRAHA | D8: Tradiční závěrečné vystoupení (9. ročník) dětí tanečního klubu v prostorách sálu KCMT. Představení standardního a latinsko-amerického tance v podání dětí, juniorů i špičkových párů ČR. V programu vystoupí skupinky dětí všech věkových a výkonostních skupin s choreografií různých tanců. Diváci budou moci zhlédnout finalisty mistrovství republiky v kategorii junioři ve standardních, latinsko-amerických a deseti tancích. Dále proběhne losování o půlroční školné zdarma, na závěr dostanou děti odměnu. Cílem je ukázat, že TK Sparta Praha, který má na JM již 25 letou tradici, se snaží pro děti najít smysluplné vyplnění volného času. Logo MČ Praha 11 bude uvedeno na všech propagačních materiálech. Děti (do 10 let zdarma) a mládež, senioři a zdravotně znevýhodnění občané 100 Kč, ostatní diváci 200 Kč. | E8: děti z MŠ a ZŠ, jejich rodiče, příbuzní a přátelé, ostatní diváci převážně z Prahy 11, kteří mají rádi tanec | F8: 120 dětí + 10 dospělých + 255 diváků | G8: 01.06.2026 17 - 19 hod. | H8: O | I8: T | J8: 83000 | K8: 38500 | L8: 15000 | M8: Pronájem prostor, hudební doprovod, choreografie, odměny pro děti, kostýmy pro účinkující | N8: Pronájem prostor, hudební doprovod, choreografie, odměny pro děti, kostýmy pro účinkující
A9: 7 | B9: "Oliva" z.s. Chmelová 2893/4, Praha 10, 10600 IČ: 26596229 č.ú. 178230188/0300 ČSOB, a.s. | C9: Otevřený ateliér profesionálních výtvarných technik a uměleckého řemesla na Chodovské tvrzi | D9: Doplnění výstavního plánu Chodovské tvrze o netradiční a materiálově nákladné dílny, které by měli občané Prahy 11 pouze za symbolickou cenu. Cílem projektu je vytvoření otevřeného prostoru pro sdílení, komunikaci a společné tvoření.V minulých letech byly výtvarné workshopy zaměřeny na řemeslné techniky, grafiku, hmatové koláže a keramiku. Nyní jsou plánovány 1x měsíčně o víkendu workshopy tematicky doplňující výstavy na ChT. Pořádány jsou rovněž worshopy pro školy. Projekt je určen pro dospělé, seniory, věková hranice dětí je individuální. Výše vstupného 100 Kč/hodina včetně materiálu. | E9: široká veřejnost | F9: 10 klientů na dílnu | G9: duben – červen 2026 14 – 17 hod. | H9: O | I9: T | J9: 50000 | K9: 35000 | L9: 15000 | M9: Materiálové náklady, výtvarné potřeby, nájem výtvarného ateliéru, organizační náklady, lektorné, propagace, informační materiál | N9: Materiálové náklady, výtvarné potřeby, nájem výtvarného ateliéru, organizační náklady, lektorné, propagace, informační materiál
A10: 8 | B10: Šikovné děti z.s. Průchova 710/49, Praha 5 155 00 IČ: 06194192 č.ú. 2201320771/2010 Fio Banka | C10: Řemeslné a umělecké dílny pro děti a mládež | D10: Cílem projektu je zpřístupnit řemeslnou a uměleckou výrobu dětem a mládeži, vyzkoušet si práci s jednotlivým nářadím a materiálem. Podpora aktivního trávení volného času, propagace řemesel, příprava na budoucí povolání. Děti mají možnost vyrobit praktický a umělecký výrobek, který si odnesou domů. Práce s nářadím je velmi přínosná, přispívá k rozvoji jemné a hrubé motoriky, soustředění, pozornosti, vytrvalosti, pečlivosti a technického myšlení. Workshop může probíhat v jakémkoliv prostoru, budou zajištěny skládací stoly, nářadí a kompletní materiál, k dispozici budou lektoři. Místo konání – ZŠ K Milíčovu, ZŠ Mikulova. Akce bez vstupného. | E10: děti a mládež z MČ Praha 11, případně celé školní družiny | F10: 200 - 220 dětí + 15 dospělých | G10: leden - červen 2026 | H10: U | I10: T | J10: 47200 | K10: 41500 | L10: 15000 | M10: Lektorská činnost + příprava materiálu, nářadí, pracovní stoly, materiál, pomůcky, propagace, administrativa, doprava | N10: Lektorská činnost + příprava materiálu, nářadí, pracovní stoly, materiál, pomůcky, propagace, administrativa, doprava
A11: 9 | B11: Sbor Církve bratrské v Praze 4 - Jižní Město, Modletická 1391/4, Praha 4 149 00 IČ: 73633267 č.ú. 2700505981/2010 Fio banka | C11: Kostelna - jednorázové akce | D11: Smyslem činnosti aktivit v rámci projektu je umožnit všem účastníkům smysluplné trávení volného času v bezpečném protředí. Sbor Církve bratrské v Praze 4 - Jižní Město se věnuje práci s lidmi již od svého založení v roce 2004. Kulturní, diskusní, sportovní, vzdělávací a volnočasové aktivity jsou v rámci klubů nabízeny zdarma.Tak je zajištěno, že jsou programy přístupné i osobám, zejména dětem z nízkopříjmových rodin. Činnost klubů napomáhá vytváření zdravých sociálních vazeb, rozvíjení dovedností a celkovému rozvoji osobnosti. V prvním pololetí 2026 jsou plánovány tyto jednorázové akce: L-EGO klub 1x měsíčně, Game session nepravidelně, Diskuzní večery s promítáním seriálu (únor-duben), Noc kostelů (květen), Den dětí (červen). Většina vedoucích aktivit pracuje bez nároku na odměnu. | E11: všechny děti, děti z MŠ a ZŠ, širší veřejnost bez rozdílu věku | F11: 200 do 18 let + 50 seniorů + 50 zdravotně znevýhodněných + 200 dospělých + 500 diváků | G11: 01.01. - 30.06.2026 | H11: O | I11: T | J11: 170000 | K11: 150000 | L11: 10000 | M11: vybavení L-EGO klubu a dětského koutku, hry na Game session, kancelářské potřeby, odměny pro děti, technické vybavení | N11: vybavení L-EGO klubu a dětského koutku, hry na Game session, kancelářské potřeby, odměny pro děti, technické vybavení
A12: 10 | B12: Ateliér pro Radost, z.s., Bachova 1568/3, Praha 4, 149 00 IČ: 17982472 č.ú. 2100666677/0600 MONETA Money Bank, a.s. | C12: Velikonoční příměstský tábor kresby a malby | D12: Výtvarný Ateliér pro Radost působí na Praze 11 od dubna 2015 (Bachova 1568). Cílem projektu je pomoc rodičům poskytnout jejich dětem smysluplný celodenní program v době velikonočních prázdnin. Odborně vedený výtvarný program vedoucí k hlubšímu propojení ve výtvarném projevu. Střídání činností tak, aby se v dětech udrželo nadšení, hravost a radost z vlastní tvorby. Seznámení s velikonoční tematikou. Cena za den - 1000 Kč. | E12: děti 6 - 16 let | F12: 16 | G12: 02. - 03.04.2026 od 8:00 do 17:00 | H12: O | I12: T | J12: 48000 | K12: 26000 | L12: 7000 | M12: Nájemné, lektorné, výtvarný materiál | N12: Nájemné, lektorné, výtvarný materiál
A13: 11 | B13: Česká Suzuki asociace, z.s. Nad spádem 639/16, Praha 4 - Podolí, 147 00 IČ: 05883342 č.ú. 2601208084/2010 Fio banka, a.s. | C13: Suzuki Majáles 2026 | D13: Akce, které se uskuteční v Komunitním centru Matky Terezy, jsou oslavou hudby a společného úsilí žáků a jejich rodičů, učitelů a interpretů. Akce jsou kromě vzdělávacího charakteru pro aktivní účastníky zacíleny na širokou veřejnost, které nabídne 2 koncerty. Dvoudenní program s účastí mezinárodních lektorů (zahajovací a závěrečný koncert - vystoupení Suzuki center z jednotlivých měst, společné vystoupení, skupinové lekce, sbor, druhý den individuální lekce s lektory). Akce se koná od roku 2022. ČSA je jedinou organizací v ČR, která slouží jako platforma pro příznivce Suzukiho metody v ČR. Vstupné dobrovolné. | E13: děti, mládež, dospělí, senioři, široká veřejnost | F13: 200 do 18 let + 400 diváků | G13: 23.-24.05. 2026 11 -18 hod. | H13: O/U | I13: T | J13: 208000 | K13: 30000 | L13: 9000 | M13: honoráře, produkce a organizace, technické zajištění | N13: honoráře, produkce a organizace, technické zajištění
A14: 12 | B14: Fosilie z.s., Hvozdnice 165, 252 05 IČ: 19770049 č.ú. 2775178014/3030 Air bank | C14: Homo Haius: Jižní procesí | D14: Cílem projektu je obohatit kulturní život obyvatel Prahy 11 a rozvoj prostoru Galaxie. Realizace premiéry zajímavého, originálního, umělecky hodnotného a divácky přístupného site specific projektu, který je realizován ve veřejných prostorách P11 (okolo stanice metra a OC Háje). Obsahuje složky - tanec, divadlo i hudbu a zapojuje do tvorby a interpretace skupiny profesionálních i amatérských performerů napříč generacemi. Oslava "Homo Haius" - hrdiny všedního dne, který se nebojí bláta, holínek ani betonu. Cílem je, aby umění v Hájích nebylo jen v uzavřených sálech, ale pulzovalo v cestách, kudy lidé denně chodí. Projekt je postaven na propojení zkušeností seniorů jako nositelů paměti s dravou energií dětí a studentů. Ve spolupráci s DanceConnected (Kulturní stanice Galaxie). Výše vstupného je v jednání. | E14: široká veřejnost - dospělí, studenti SŠ, VŠ, děti 5+ | F14: 34 + cca 250 diváků | G14: 23. a 24.05.2026 17 a 18 hod. Dvě představení (60 minut) | H14: O | I14: N | J14: 130000 | K14: 77000 | L14: 50000 | M14: Honoráře umělců, produkce, PR | N14: Honoráře umělců, produkce, PR
A15: 13 | B15: Slovácký krúžek v Praze, z.s., Nevanova 1070/35, Praha 6, 163 00 IČ: 44792841 č.ú. 51-1431230267/0100 Komerční banka, a.s. | C15: 24. výstava moravských a českých vín s koštem | D15: Podpora tradiční lidové kultury, komunitního života a mezigeneračního setkávání na území MČ Praha 11. Smyslem akce (konané v Komunitním centru Matky Terezy) bylo naplnění veřejně prospěšného vzdělávacího a kulturního záměru spočívajícího v osvětě v oblasti vinařství ČR a současně v podpoře a zachování tradiční lidové kultury prostřednictvím taneční výuky za doprovodu cimbálové muziky. Vstupné do 18 let zdarma, koštovné 350 Kč. | E15: občané se zájmem o lidové tradice a kulturu | F15: 200 + 160 diváků | G15: 12.04.2026 14 a 19 hod. | H15: O | I15: N | J15: 83000 | K15: 20000 | L15: 8000 | M15: pronájem sálu KCMT | N15: pronájem sálu KCMT
A16: 14 | B16: Ria Valterová fyzická osoba z Prahy 10 další osobní údaje jsou uvedeny v neveřejné příloze | C16: Chraň tě ruka boží | D16: Podpora studentského, krátkého filmu, který vzniká na území Prahy 11 ve spolupráci studentů a absolventů Akademie Michael. Film je inspirovaný skutečnou událostí, probádává motivy pokrytectví skryté v náboženských hodnotách, zamotaných rodinných vztahů a nespravedlnosti. Reaguje na aktuální společenské téma domácího násilí a jeho skrytých forem. Projekt směřuje nejen na festivaly, ale především do škol a vzdělávacích programů, kde může sloužit jako nástroj prevence a otevření diskuze. Na filmu nezištně spolupracuje skupina mladých filmařů doplněná o zkušené profesionály (V. Michálek, herci D. Novotný, Z. Stivínová). Většina rozpočtu je kryta z vlastních zdrojů, dotace by umožnila pokrýt klíčové složky ovlivňující celkovou kvalitu a dopad projektu. | E16: primárně dospívající nacházející se v násilných domácnostech, sekundárně dospělí | F16: 45 (štáb + herecké obsazení) + diváků 2000+ | G16: do 30.06.2026 | H16: O | I16: N | J16: 148000 | K16: 15000 | L16: 15000 | M16: zapůjčení světelné techniky pro realizaci vizuální koncepce, obrazová postprodukce (barvení snímků), scénografie a rekvizity (materálové náklady), hudba | N16: zapůjčení světelné techniky pro realizaci vizuální koncepce, obrazová postprodukce (barvení snímků), scénografie a rekvizity (materálové náklady), hudba
A17: 15 | B17: Kateřina Tošnarová fyzická osoba z Prahy - Kolovraty další osobní údaje jsou uvedeny v neveřejné příloze | C17: DPS Jiskřička slaví 40 let | D17: Realizace jubilejního koncertu dětského pěveckého sboru Jiskřička v Komunitním centru Matky Terezy. Koncert připomene 40 let existence sboru a zároveň zdůrazní jeho dlouhodobý přínos kulturnímu životu MČ Praha 11. Hlavní myšlenkou je mezigenerační propojení zpěváků, kteří prošli uměleckým vedením sbormistryně Dany Škardové, zakladatelky sboru a dlouholeté obyvatelky Prahy 11. Ta se v současnosti věnuje zejména aktivitám pro seniory. Na koncertu vystoupí současný sbor, ženský sbor Hafotet a také speciálně sestavený sbor bývalých členů. Program nabídne průřez významnými díly české, slovenské i světové sborové tvroby. Koncert je určen široké veřejnosti a přispívá k obohacení kulturní nabídky. Vstupné dobrovolné. | E17: široká veřejnost se zaměřením na obyvatele Prahy 11, děti a mládež zapojené do hudebního vzdělání, bývalí i sučasní členové sboru, senioři z Prahy 11 | F17: 25-30 do 18 let + 20 seniorů + 2 zdravotně znevýhodnění + 85 dospělých + 150-300 diváků | G17: 16.06.2026 18:30 - 20:00 | H17: O | I17: N | J17: 37125 | K17: 30000 | L17: 10000 | M17: nájem KCMT, nájem zkušebny, honorář dvou sbormistryň, honorář korepetitora, grafický návrh plakátů, tisk plakátů, tisk notových materiálů, doprava nástrojů na místo konání akce | N17: nájem KCMT, nájem zkušebny, honorář dvou sbormistryň, honorář korepetitora, grafický návrh plakátů, tisk plakátů, tisk notových materiálů, doprava nástrojů na místo konání akce

Sheet III. program
A1: III. | B1: Program - Reprezentace MČ Praha 11 - žadatel se podílí min. částkou 20% z celkových nákladů | L1: =IF('I. program'!M3:N3="","",'I. program'!M3:N3) -> #VALUE!
A2: Číslo | B2: Subjekt | C2: Název projektu | D2: Obsah projektu | E2: Počet účastníků akce | F2: Termín konání | G2: Přístupnost akce | H2: Typ akce | I2: Náklady celkem (Kč) | J2: Požadovaná částka (Kč) | K2: Doporučená částka (Kč) | L2: Požadavek organizace | M2: Účel daru
A3: 1
A4: 2

Sheet Součet
A1: Finanční částka k rozdělení dotací na rok 2026 celkem: 1 700 000 Kč | C1: =IF('I. program'!M3="","",'I. program'!M3) -> příloha usnesení č. 0000/24/Z/2026
A2: Do 2. kola a na mimořádné dotace zbývá 420 000 Kč.
A4: RMČ Praha 11 navrhuje ZMČ Praha 11:
C5: komise navrhuje | D5: subjekty požadují
A6: I. | B6: ='I. program'!B3 -> Program - Celoroční činnost subjektů v oblasti kultury (finanční spoluúčast subjektu ve výši 10%) | C6: =IF(SUM('I. program'!L5:L199)=0,"",SUM('I. program'!L5:L199)) -> 920000 | D6: =IF(SUM('I. program'!K5:K199)=0,"",SUM('I. program'!K5:K199)) -> 3755860
A7: =IF('II. program'!B3="","","II.") -> II. | B7: =IF('II. program'!B3="","",'II. program'!B1) -> Program - Kulturní akce na území MČ Praha 11 (finanční spoluúčast subjektu ve výši 10%) | C7: =IF(SUM('II. program'!L3:L61)=0,"",SUM('II. program'!L3:L61)) -> 250000 | D7: =IF(SUM('II. program'!K3:K61)=0,"",SUM('II. program'!K3:K61)) -> 706100
A8: =IF('III. program'!B3="","","III.") | B8: =IF('III. program'!B3="","",'III. program'!B1) | C8: =IF(SUM('III. program'!K3:K167)=0,"",SUM('III. program'!K3:K167)) | D8: =IF(SUM('III. program'!J3:J167)=0,"",SUM('III. program'!J3:J167))
A10: CELKEM navrhuje RMČ Praha 11 podpořit subjekty ve výši: | C10: =IF(SUM(C6:C8)=0,"",SUM(C6:C8)) -> 1170000
A12: CELKEM subjekty požadují: | C12: =IF(SUM(D6:D8)=0,"",SUM(D6:D8)) -> 4461960
A14: Základní fakta z Dotačního programu MČ P11 pro oblast kultury na rok 2026 - 1. kolo
A16: Vyhlášené okruhy:
A17: I. | B17: =IFERROR(LEFT('I. program'!B3,FIND(" - žad",'I. program'!B3,10)-1),'I. program'!B3) -> Program - Celoroční činnost subjektů v oblasti kultury (finanční spoluúčast subjektu ve výši 10%)
A18: =A7 -> II. | B18: =IFERROR(IF('II. program'!B3="","",LEFT('II. program'!B1,FIND(" - žad",'II. program'!B1,10)-1)),'II. program'!B1) -> Program - Kulturní akce na území MČ Praha 11 (finanční spoluúčast subjektu ve výši 10%)
A19: =A8 | B19: =IF('III. program'!B3="","",LEFT('III. program'!B1,FIND(" - žad",'III. program'!B1,10)-1))
B20: =IF('III. program'!B3="","",MID('III. program'!B1,FIND(" - žad",'III. program'!B1,10)+1,LEN('III. program'!B1)-FIND(" - žad",'III. program'!B1,10)))
A22: Termíny pro podání žádostí a termíny čerpání a vyúčtování finančních prostředků pro 1. kolo 2026:
A23: termín pro podání žádostí od 20.04.2026 do 27.04.2026 - shodný pro všechny programy
B24: termín čerpání finančních prostředků: I. program od 01.01. do 31.12.2026, II. program od 01.01. do 30.06.2026
B25: termín vyúčtování finančních prostředků: I. program do 08.01.2027, II. program do 31.08.2026
B27: Poskytovatel dotace: Městská část Praha 11, se sídlem Ocelíkova 672/1, 149 41 Praha 4, IČ: 00231126
B28: Číslo bankovního účtu poskytovatele dotace: 2000807399/0800 u České spořitelny a.s., variabilní symbol: 50053
B29: Číslo bankovního účtu pro vrácení dotace: 2000807399/0800 u České spořitelny a.s., variabilní symbol: 50053
B30: Podmínky, které je příjemce při použití dotace povinen splnit: užití dotace pouze ke schválenému účelu, řádné a včasné vyčerpání a vyúčtování dotace
B31: Povinnosti příjemce - právnické osoby při přeměně či likvidaci: v případě svého zániku, sloučení, přeměny nebo zrušení právnické osoby s likvidací tuto skutečnost
B32: písemně sdělit poskytovateli do 15 kalendářních dnů od vzniku této skutečnosti
