Workbook

Sheet Program 1a
B1: DOTAČNÍ PROGRAM PRO OBLAST SPORTU A VOLNÉHO ČASU NA ROK 2026 - 1. KOLO | H1: Příloha usnesení č. 0012/24/Z/2026
B2: Program 1a) Celoroční činnost sportovních organizací zaměřených na výkonnostní sport | H2: Hodnotící kritérium č. 1 | I2: Hodnotící kritérium č. 2 | J2: Hodnotící kritérium č. 3
A3: číslo dotace | B3: Název žadatele o dotaci: | C3: Sídlo žadatele: IČO: Bankovní účet: | D3: Název projektu (dotace): | E3: Požadovaná výše dotace: (Kč) | F3: Doporučená výše dotace: (Kč) | G3: Obsah, zdůvodnění a popis projektu, termín konání projektu, místo konání projektu, rozpočet, účel čerpání dotace: | H3: Počet členů do 18 let: | I3: Počet osobohodin za rok 2026: | J3: Podaná vyúčtování za rok 2025
A4: 1. | B4: Atletika Jižní Město z.s. | C4: Sídlo: Stříbrského 681/18, Praha 4, 149 00 IČO: 04277406 Název banky: Fio banka Bankovní účet: 2600888313/2010 | D4: Celoroční činnost sportovních organizací zaměřených na výkonnostní sport | E4: 990000 | F4: 922000 | G4: Termín čerpání dotace: od 1.1.2026 do 31.12.2026 Zdůvodnění žádosti o dotaci: zajištění materiálního, technického, trenérského, metodického a organizačního zabezpečení činnosti klubu Sportovní zaměření klubu: atletika Hlavní cíl činnosti klubu: sportovní vyžití dětí a mládeže z Prahy 11 Přínos činnosti klubu pro MČ Praha 11: propagace a reprezentace Prahy 11, aktivní využití volného času dětí a mládeže Datum založení klubu: 2016 Délka působení klubu na Praze 11: od 2016 Místo tréninkové činnosti na Praze 11: Sportovní areál Hrabákova, školní areál K Milíčovu Provozní výdaje přepočítané na členy do 18 let: 278 400 Kč Celkové výdaje přepočítané na členy do 18 let: 2 260 400 Kč Účel čerpání dotace: Provozní náklady, mzdy trenérů, sportovní oblečení, vzdělávání a školení trenérů a rozhodčích, registrační poplatky/členské příspěvky, reprezentace klubu, organizace ligových turnajů, zápasů apod., sportovní tábory, kempy, soustředění a další sportovní pobyty, rehabilitační a rekondiční služby, sportovní prohlídky dětí a mládeže, drogistické zboží, kancelářské potřeby, materiální vybavení organizace, propagace klubu, hudební skladby, nahrávky a choreografie související s činností, úklidové služby | H4: 479 | I4: 116292 | J4: V termínu
A5: 2. | B5: Baby dance Praha, z.s. | C5: Sídlo: Zlešická 1805/4, Chodov, 148 00 Praha 4 IČO: 07690860 Název banky: ČSOB Bankovní účet: 287346665/ 0300 | D5: Celoroční činnost sportovních organizací zaměřených na výkonnostní sport | E5: 850000 | F5: 171000 | G5: Termín čerpání dotace: od 1.1.2026 do 31.12.2026 Zdůvodnění žádosti o dotaci: příspěvek na zajištění rozvoje talentované mládeže v oblasti tance Sportovní zaměření klubu: tanec Hlavní cíl činnosti klubu: rozvoj výkonnostního tance Přínos činnosti klubu pro MČ Praha 11: rozvoj sportu na Praze 11 Datum založení klubu: 2018 Délka působení klubu na Praze 11: od 2018 Místo tréninkové činnosti na Praze 11: ZŠ Mikulova, sál Galaxie Háje Provozní výdaje přepočítané na členy do 18 let: 228 525 Kč Celkové výdaje přepočítané na členy do 18 let: 2 146 525 Kč Účel čerpání dotace: Provozní náklady, mzdy trenérů, sportovní oblečení, vzdělávání a školení trenérů a rozhodčích, registrační poplatky/členské příspěvky, reprezentace klubu, organizace ligových turnajů, zápasů apod., sportovní tábory, kempy, soustředění a další sportovní pobyty, rehabilitační a rekondiční služby, sportovní prohlídky dětí a mládeže, drogistické zboží, kancelářské potřeby, materiální vybavení organizace, propagace klubu, hudební skladby, nahrávky a choreografie související s činností, úklidové služby | H5: 140 | I5: 7860 | J5: V termínu
A6: 3. | B6: Beachvolejbalová škola Praha z.s. | C6: Sídlo: Novodvorská 1062/12, Praha 4, Lhotka 142 00 IČO: 22757147 Název banky: Komerční banka Bankovní účet: 107-1694630297/ 0100 | D6: Celoroční činnost sportovních organizací zaměřených na výkonnostní sport | E6: 400000 | F6: 243000 | G6: Termín čerpání dotace: od 1.1.2026 do 31.12.2026 Zdůvodnění žádosti o dotaci: podpora činnosti spolku, pravidelné tréninky dětí a mládeže Sportovní zaměření klubu: beachvolejbal Hlavní cíl činnosti klubu: podpora sportovní činnosti dětí v oblasti beachvolejbalu ve sportovním areálu Mikulovka. Nejlepší hráči se účastní halových MČR, letních MČR. Přínos činnosti klubu pro MČ Praha 11: přivést děti z Prahy 11 k atraktivnímu sportu, poskytnout prostor pro jejich sportovní rozvoj, nabídnout možnost účasti na letním příměstském táboře, letním soustředění atd. Datum založení klubu: 2012 Délka působení klubu na Praze 11: od 2021 Místo tréninkové činnosti na Praze 11: sportovní areál Mikulovka Provozní výdaje přepočítané na členy do 18 let: 607 300 Kč Celkové výdaje přepočítané na členy do 18 let: 2 244 700 Kč Účel čerpání dotace: Provozní náklady, mzdy trenérů, sportovní oblečení, vzdělávání a školení trenérů a rozhodčích, registrační poplatky/členské příspěvky, reprezentace klubu, organizace ligových turnajů, zápasů apod., sportovní tábory, kempy, soustředění a další sportovní pobyty, rehabilitační a rekondiční služby, sportovní prohlídky dětí a mládeže, drogistické zboží, kancelářské potřeby, materiální vybavení organizace, propagace klubu, hudební skladby, nahrávky a choreografie související s činností, úklidové služby | H6: 152 | I6: 16958.37 | J6: V termínu
A7: 4. | B7: FC Háje Jižní Město, z.s. | C7: Sídlo: Zdiměřická 1454/30, Praha 4, 149 00 IČO: 67779662 Název banky: Komerční banka Bankovní účet: 19-9362130217/ 0100 | D7: Celoroční činnost sportovních organizací zaměřených na výkonnostní sport | E7: 1000000 | F7: 463000 | G7: Termín čerpání dotace: od 1.1.2026 do 31.12.2026 Zdůvodnění žádosti o dotaci: finanční podpora pomůže zkvalitnit tréninkové zázemí, modernizovat vybavení, rozšířit pravidelné sportovní aktivity, podpořit zdravý životní styl a komunitní život Sportovní zaměření klubu: fotbal Hlavní cíl činnosti klubu: rozvoj mládežnického fotbalu, talentovaných hráčů, výchova dětí ke sportovním a morálním hodnotám, disciplíně, týmové spolupráci atd. Přínos činnosti klubu pro MČ Praha 11: podpora zdravého životního stylu, výchova dětí k hodnotám, rozvoj sportovní infrastruktury, prevence sociálního vyloučení, posilování komunitního života, možnost sportovního růstu hráčů, ekonomické a sociální benefity pro Prahu 11 Datum založení klubu: 1930 Délka působení klubu na Praze 11: od roku 1930 Místo tréninkové činnosti na Praze 11: K Jezeru 2 Provozní výdaje přepočítané na členy do 18 let: 1 250 000 Kč Celkové výdaje přepočítané na členy do 18 let: 6 555 600 kč Účel čerpání dotace: Provozní náklady, mzdy trenérů, sportovní oblečení, vzdělávání a školení trenérů a rozhodčích, registrační poplatky/členské příspěvky, reprezentace klubu, organizace ligových turnajů, zápasů apod., sportovní tábory, kempy, soustředění a další sportovní pobyty, rehabilitační a rekondiční služby, sportovní prohlídky dětí a mládeže, drogistické zboží, kancelářské potřeby, materiální vybavení organizace, propagace klubu, hudební skladby, nahrávky a choreografie související s činností, úklidové služby | H7: 250 | I7: 48148 | J7: po termínu
A8: 5. | B8: FK Dukla Jižní Město z.s. | C8: Sídlo: Mikulova 1594/4, Praha 4, 149 00 IČO: 26620596 Název banky: Raiffeisen Bank Bankovní účet: 6491078001/ 5500 | D8: Celoroční činnost sportovních organizací zaměřených na výkonnostní sport | E8: 1000000 | F8: 517000 | G8: Termín čerpání dotace: od 1.1.2026 do 31.12.2026 Zdůvodnění žádosti o dotaci: příspěvek na úhradu nákladů klubu (provozní výdaje, mzdy trenérů, nákup materiálu). Sportovní zaměření klubu: fotbal Hlavní cíl činnosti klubu: výkonnostní fotbal, pražské soutěže, divize Přínos činnosti klubu pro MČ Praha 11: rozvoj sportu na Jižním Městě Datum založení klubu: 2010 Délka působení klubu na Praze 11: od roku 2010 Místo tréninkové činnosti na Praze 11: Sportovní areál Mikulova, sportovní areál Schulhoffova Provozní výdaje přepočítané na členy do 18 let: 1 707 980 Kč Celkové výdaje přepočítané na členy do 18 let: 3 397 980 Kč Účel čerpání dotace: Provozní náklady, mzdy trenérů, sportovní oblečení, vzdělávání a školení trenérů a rozhodčích, registrační poplatky/členské příspěvky, reprezentace klubu, organizace ligových turnajů, zápasů apod., sportovní tábory, kempy, soustředění a další sportovní pobyty, rehabilitační a rekondiční služby, sportovní prohlídky dětí a mládeže, drogistické zboží, kancelářské potřeby, materiální vybavení organizace, propagace klubu, hudební skladby, nahrávky a choreografie související s činností, úklidové služby | H8: 264 | I8: 55227 | J8: po termínu
A9: 6. | B9: FLORBAL CHODOV z.s. | C9: Sídlo: Komárkova 2265/1, Praha 4, 148 00 IČO: 04104200 Název banky: Komerční banka Bankovní účet: 115 - 518190267/ 0100 | D9: Celoroční činnost sportovních organizací zaměřených na výkonnostní sport | E9: 1000000 | F9: 704000 | G9: Termín čerpání dotace: od 1.1.2026 do 31.12.2026 Zdůvodnění žádosti o dotaci: pomoc s financováním sportovního klubu, snížení nákladů za pronájmy, snaha zajistit kvalitní sportování Sportovní zaměření klubu: florbal Hlavní cíl činnosti klubu: Zajištění sportovní činnosti hráčů ve všech mužských a ženských kategoriích, jejich optimální sportovní, osobnostní i zdravotní rozvoj, dosažení sportovních úspěchů na celostátní i mezinárodní úrovni. Přínos činnosti klubu pro MČ Praha 11: nabídka kvalitního kulturně - sportovního vyžití obyvatel MČ, možnost navštěvy superligových zápasů, spolupráce se ZŠ z Prahy 11, vedení hodin tělesné výchovy, organizace Florbalových dnů na Praze 11 Datum založení klubu: 1991 Délka působení klubu na Praze 11: od 1991 Místo tréninkové činnosti na Praze 11: SH Jižní Město, SH Jedenáctka VS, SH ZŠ Campanus Provozní výdaje přepočítané na členy do 18 let: 4 122 760 Kč Celkové výdaje přepočítané na členy do 18 let: 12 892 760 Kč Účel čerpání dotace: Provozní náklady, mzdy trenérů, sportovní oblečení, vzdělávání a školení trenérů a rozhodčích, registrační poplatky/členské příspěvky, reprezentace klubu, organizace ligových turnajů, zápasů apod., sportovní tábory, kempy, soustředění a další sportovní pobyty, rehabilitační a rekondiční služby, sportovní prohlídky dětí a mládeže, drogistické zboží, kancelářské potřeby, materiální vybavení organizace, propagace klubu, hudební skladby, nahrávky a choreografie související s činností, úklidové služby | H9: 256 | I9: 74648 | J9: po termínu
A10: 7. | B10: Jižní Město Chodov - fotbalový klub, z.s. | C10: Sídlo: Volkovova 2291/3, Praha 4, 149 00 IČO: 22745262 Název banky: Česká spořitelna Bankovní účet: 4309597309/0800 | D10: Celoroční činnost sportovních organizací zaměřených na výkonnostní sport | E10: 670055 | F10: 440000 | G10: Termín čerpání dotace: od 1.1.2026 do 31.12.2026 Zdůvodnění žádosti o dotaci: snížení finanční zátěže v souvislosti s velmi vysokým nájmem fotbalového hřiště, podpora dětí a mládeže v oblasti fotbalu, zlepšení tréninkových podmínek, navázání na dlouholetou tradici klubu Sportovní zaměření klubu: fotbal Hlavní cíl činnosti klubu: rozvoj dětí a mládeže v oblasti fotbalu Přínos činnosti klubu pro MČ Praha 11: nabídka sportovního vyžití dětí a mládeže Datum založení klubu: 1924 Délka působení klubu na Praze 11: od 1924 Místo tréninkové činnosti na Praze 11: Volkovova 2291 Provozní výdaje přepočítané na členy do 18 let: 1 272 905 Kč Celkové výdaje přepočítané na členy do 18 let: 2 949 705 Kč Účel čerpání dotace: Provozní náklady, mzdy trenérů, sportovní oblečení, vzdělávání a školení trenérů a rozhodčích, registrační poplatky/členské příspěvky, reprezentace klubu, organizace ligových turnajů, zápasů apod., sportovní tábory, kempy, soustředění a další sportovní pobyty, rehabilitační a rekondiční služby, sportovní prohlídky dětí a mládeže, drogistické zboží, kancelářské potřeby, materiální vybavení organizace, propagace klubu, hudební skladby, nahrávky a choreografie související s činností, úklidové služby | H10: 292 | I10: 46720 | J10: V termínu
A11: 8. | B11: Jižní Supi, zapsaný spolek | C11: Sídlo: Brechtova 779/6 Praha 4 149 00 IČO: 11654228 Název banky: Fio banka Bankovní účet: 321321366/2010 | D11: Celoroční činnost sportovních organizací zaměřených na výkonnostní sport | E11: 330000 | F11: 318000 | G11: Termín čerpání dotace: od 1.1.2026 do 31.12.2026 Zdůvodnění žádosti o dotaci: finanční pomoc s náklady za pronájmy hal a tělocvičen na tréninky a zápasy, snaha zajistit dostupnost tréninků pro větší počet dětí Sportovní zaměření klubu: basketbal Hlavní cíl činnosti klubu: výchova mládeže po sportovní i lidské stránce, účast v ligových soutěžích, výchova talentů do reprezentace ČR Přínos činnosti klubu pro MČ Praha 11: rostoucí počet aktivně sportujících dětí Datum založení klubu: 2021 Délka působení klubu na Praze 11: od 2008 s jinou právní subjektivitou (původně pod BSK Fenix Modřany), od 2021 jako Jižní Supi Místo tréninkové činnosti na Praze 11: ZŠ a SŠ Kupeckého, ZŠ K Milíčovu Provozní výdaje přepočítané na členy do 18 let: 1 840 000 Kč Celkové výdaje přepočítané na členy do 18 let: 3 940 000 Kč Účel čerpání dotace: Provozní náklady, mzdy trenérů, sportovní oblečení, vzdělávání a školení trenérů a rozhodčích, registrační poplatky/členské příspěvky, reprezentace klubu, organizace ligových turnajů, zápasů apod., sportovní tábory, kempy, soustředění a další sportovní pobyty, rehabilitační a rekondiční služby, sportovní prohlídky dětí a mládeže, drogistické zboží, kancelářské potřeby, materiální vybavení organizace, propagace klubu, hudební skladby, nahrávky a choreografie související s činností, úklidové služby | H11: 188 | I11: 34960 | J11: V termínu
A12: 9. | B12: JNS cheerleaders z.s. | C12: Sídlo: Květnového vít. 1628/48, Praha 4, 149 00 IČO: 27025071 Název banky: ČSOB Bankovní účet: 203018155/0300 | D12: Celoroční činnost sportovních organizací zaměřených na výkonnostní sport | E12: 750000 | F12: 426000 | G12: Termín čerpání dotace: od 1.1.2026 do 31.12.2026 Zdůvodnění žádosti o dotaci: udržení a zlepšování sportovních podmínek pro děti a mládež, příprava sportovců k reprezentaci Sportovní zaměření klubu: sportovní cheerleading Hlavní cíl činnosti klubu: výchova dětí a mládeže v oblasti sportu a zdraví, rozvoj veřejného života, rozvoj sportu Přínos činnosti klubu pro MČ Praha 11: zvyšování výkonnosti a tělesné zdatnosti dětí a mládeže, upevňování fyzického a psychického zdraví dětí, propagace MČ Praha 11 Datum založení klubu: 2006 Délka působení klubu na Praze 11: od roku 1999 (nejdříve pod jinou právní subjektivitou) Místo tréninkové činnosti na Praze 11: Tělocvičny ZŠ Květnového vít. 1554 - Schulhoffova 844 a Květnového vít. 1554 Provozní výdaje přepočítané na členy do 18 let: 995 000 Kč Celkové výdaje přepočítané na členy do 18 let: 9 738 000 Kč Účel čerpání dotace: Provozní náklady, mzdy trenérů, sportovní oblečení, vzdělávání a školení trenérů a rozhodčích, registrační poplatky/členské příspěvky, reprezentace klubu, organizace ligových turnajů, zápasů apod., sportovní tábory, kempy, soustředění a další sportovní pobyty, rehabilitační a rekondiční služby, sportovní prohlídky dětí a mládeže, drogistické zboží, kancelářské potřeby, materiální vybavení organizace, propagace klubu, hudební skladby, nahrávky a choreografie související s činností, úklidové služby | H12: 269 | I12: 45240 | J12: po termínu
A13: 10. | B13: Judo club Kidsport, z.s. | C13: Sídlo: U Záběhlického zámku 57/2a, Záběhlice, Praha 10, 106 00 IČO: 22899596 Název banky: Fio Banka Bankovní účet: 2002234934/ 2010 | D13: Celoroční činnost sportovních organizací zaměřených na výkonnostní sport | E13: 950000 | F13: 543000 | G13: Termín čerpání dotace: od 1.1.2026 do 31.12.2026 Zdůvodnění žádosti o dotaci: příspěvek na zvýšení kvality tréninkových jednotek, modernizace výuky, dlouhodobé udržení dětí u sportu, zájem dětí o zdravý životní styl, kvalifikovaní trenéři Sportovní zaměření klubu: judo Hlavní cíl činnosti klubu: umožnit dětem sportovní aktivitu pod vedením kvalitních trenérů, důraz na všestranný harmonický rozvoj každého dítěte. Přínos činnosti klubu pro MČ Praha 11: komunitní setkávání dětí a mládeže, rozvoj zájmových aktivit, podpora aktivního a zdravého životního stylu obyvatel Jižního Města, nabídka fyzických aktivit, cvičení a rekreačních programů, podpora psychické odolnosti Datum založení klubu: 2007 Délka působení klubu na Praze 11: od 2011 Místo tréninkové činnosti na Praze 11: Judo Academy - Květnového vít. 85/2, ZŠ a MŠ Chodov, ZŠ Milíčov, ZŠ Mendelova, KC Zahrada Provozní výdaje přepočítané na členy do 18 let: 1 181 614 Kč Celkové výdaje přepočítané na členy do 18 let: 5 562 514 Kč Účel čerpání dotace: Provozní náklady, mzdy trenérů, sportovní oblečení, vzdělávání a školení trenérů a rozhodčích, registrační poplatky/členské příspěvky, reprezentace klubu, organizace ligových turnajů, zápasů apod., sportovní tábory, kempy, soustředění a další sportovní pobyty, rehabilitační a rekondiční služby, sportovní prohlídky dětí a mládeže, drogistické zboží, kancelářské potřeby, materiální vybavení organizace, propagace klubu, hudební skladby, nahrávky a choreografie související s činností, úklidové služby | H13: 723 | I13: 39582.5 | J13: po termínu
A14: 11. | B14: Krasobruslařský klub Stadion Praha, z.s. | C14: Sídlo: Ke Kateřinkám 2423/2a, Praha 4, 149 00 IČO: 49626892 Název banky: ČSOB Bankovní účet: 200803369/0800 | D14: Celoroční činnost sportovních organizací zaměřených na výkonnostní sport | E14: 800000 | F14: 125000 | G14: Termín čerpání dotace: od 1.1.2026 do 31.12.2026 Zdůvodnění žádosti o dotaci: Podpora celoroční sportovní činnosti, zajištění dostupnosti sportu Sportovní zaměření klubu: krasobruslení Hlavní cíl činnosti klubu: rozvoj výkonnostního sportu, účast na soutěžích Přínos činnosti klubu pro MČ Praha 11: rozvoj sportu na MČ Praha 11 pro děti od 5 let, vedení ke sportu a zdravému pohybu, organizace volnočasových kurzů Datum založení klubu: 1990 Délka působení klubu na Praze 11: od 2023 Místo tréninkové činnosti na Praze 11: ICE ARENA Kateřinky Provozní výdaje přepočítané na členy do 18 let: 2 200 000 Kč Celkové výdaje přepočítané na členy do 18 let: 3 891 800 Kč Účel čerpání dotace: Provozní náklady, mzdy trenérů, sportovní oblečení, vzdělávání a školení trenérů a rozhodčích, registrační poplatky/členské příspěvky, reprezentace klubu, organizace ligových turnajů, zápasů apod., sportovní tábory, kempy, soustředění a další sportovní pobyty, rehabilitační a rekondiční služby, sportovní prohlídky dětí a mládeže, drogistické zboží, kancelářské potřeby, materiální vybavení organizace, propagace klubu, hudební skladby, nahrávky a choreografie související s činností, úklidové služby | H14: 51 | I14: 8844 | J14: po termínu
A15: 12. | B15: OF dance group z.s. | C15: Sídlo: Valentova 1731/21, Praha 4, 149 00 IČO: 06530770 Název banky: ČSOB Bankovní účet: 281792242/0300 | D15: Celoroční činnost sportovních organizací zaměřených na výkonnostní sport | E15: 900000 | F15: 338000 | G15: Termín čerpání dotace: od 1.1.2026 do 31.12.2026 Zdůvodnění žádosti o dotaci: příspěvek na zajištění rozvoje talentované mládeže v oblasti tance Sportovní zaměření klubu: tanec Hlavní cíl činnosti klubu: rozvoj výkonnostního tance Přínos činnosti klubu pro MČ Praha 11: rozvoj sportu na MČ Praha 11 Datum založení klubu: 2017 Délka působení klubu na Praze 11: od 2017 Místo tréninkové činnosti na Praze 11: Blankyt - Matúškova 831, ZŠ Květnového vít. 1554 Provozní výdaje přepočítané na členy do 18 let: 397 500 Kč Celkové výdaje přepočítané na členy do 18 let: 3 176 300 Kč Účel čerpání dotace: Provozní náklady, mzdy trenérů, sportovní oblečení, vzdělávání a školení trenérů a rozhodčích, registrační poplatky/členské příspěvky, reprezentace klubu, organizace ligových turnajů, zápasů apod., sportovní tábory, kempy, soustředění a další sportovní pobyty, rehabilitační a rekondiční služby, sportovní prohlídky dětí a mládeže, drogistické zboží, kancelářské potřeby, materiální vybavení organizace, propagace klubu, hudební skladby, nahrávky a choreografie související s činností, úklidové služby | H15: 269 | I15: 29480 | J15: V termínu
... A29: 26. | B29: Tělocvičná jednota Sokol Nusle Praha | C29: Sídlo: Na Květnici 700/1a Praha 4, 140 00 IČO: 00569488 Název banky: FIO Bankovní účet: 2601000099/2010 | D29: Celoroční činnost sportovních organizací zaměřených na výkonnostní sport | E29: 492000 | F29: 173000 | G29: Termín čerpání dotace: od 1.1.2026 do 31.12.2026 Zdůvodnění žádosti o dotaci: podpora mládežnické složky basketbalového klubu působícího na Praza 11 Sportovní zaměření klubu: basketbal Hlavní cíl činnosti klubu: Rozšiřování členské základny klubu, dostupnější sport, důraz na všestranný rozvoj mládeže. Sokol Nusle basketbal je na Praze 11 aktivní od roku 2019. Klub se již od začátku zaměřoval na kategorii dívek. Od sezóny 2025/2026 má klub již 4 věkové kategorie dívek. Mládežnickou složku získal klub oddělením dívek od klubu Jižní Supi, kde tato složka zanikla. Po dohodě přešly dívky pod Sokol Nusle, čimž se členská základna významně rozšířila. Přínos činnosti klubu pro MČ Praha 11: reprezentace MČ Praha 11 Datum založení klubu: 1948 Délka působení klubu na Praze 11: od 2019 Místo tréninkové činnosti na Praze 11: ZŠ a SŠ Kupeckého, ZŠ Chodov (Květnového vít. 57), Provozní výdaje přepočítané na členy do 18 let: 294 300 Kč Celkové výdaje přepočítané na členy do 18 let: 2 024 100 Kč Účel čerpání dotace: Provozní náklady, mzdy trenérů, sportovní oblečení, vzdělávání a školení trenérů a rozhodčích, registrační poplatky/členské příspěvky, reprezentace klubu, organizace ligových turnajů, zápasů apod., sportovní tábory, kempy, soustředění a další sportovní pobyty, rehabilitační a rekondiční služby, sportovní prohlídky dětí a mládeže, drogistické zboží, kancelářské potřeby, materiální vybavení organizace, propagace klubu, hudební skladby, nahrávky a choreografie související s činností, úklidové služby | H29: 83 | I29: 13020 | J29: V termínu
A30: 27.
B31: CELKEM | E31: =SUM(E4:E30) -> 20032535 | F31: =SUM(F4:F30) -> 9091000 | H31: =SUM(H4:H30) -> 5617 | I31: =SUM(I4:I30) -> 957131.12

Sheet Program 1b
B1: DOTAČNÍ PROGRAM PRO OBLAST SPORTU A VOLNÉHO ČASU NA ROK 2026 - 1. KOLO | H1: ='Program 1a'!H1:J1 -> Příloha usnesení č. 0012/24/Z/2026
B2: Program 1b) Celoroční činnost sportovních a volnočasových organizací nezaměřených na výkonnostní sport | H2: Hodnotící kritérium č. 1 | I2: Hodnotící kritérium č. 2 | J2: Hodnotící kritérium č. 3
A3: číslo dotace | B3: Název žadatele o dotaci: | C3: Sídlo žadatele: IČO: Bankovní účet: | D3: Název projektu (dotace): | E3: Požadovaná výše dotace: (Kč) | F3: Doporučená výše dotace: (Kč) | G3: Obsah, zdůvodnění a popis projektu, termín konání projektu, místo konání projektu, rozpočet, účel čerpání dotace: | H3: Celkový počet členů do 18 let a 65+: | I3: Počet osobohodin členů do 18 let a 65+ za rok 2026: | J3: Podané vyúčtování za rok 2025
A4: 1. | B4: A23, z.s. | C4: Sídlo: Zvonková 3048/2, Záběhlice, 106 00 Praha 10 Působiště žadatele na Praze 11: KC Zahrada IČO: 70804818 Název banky: Fio banka Číslo účtu: 2700072653/ 2010 | D4: Celoroční činnost sportovních a volnočasových organizací nezaměřených na výkonnostní sport | E4: 210000 | F4: 55000 | G4: Termín čerpání dotace: od 1.1.2026 do 31.12.2026 Zdůvodnění žádosti o dotaci: Žádost podávána z důvodu rostoucích provozních nákladů, které výrazně zatěžují rozpočet spolku a z důvodu dostupnosti tanečních aktivit pro širokou veřejnost nechce spolek navyšovat členské příspěvky. Popis pravidelné celoroční činnosti: Rozvoj v oblasti uměleckého tance. Děti dochází každý týden na lekce. Hlavní cíl činnosti organizace: Umělecký nevýkonnostní tanec. Sportovní/volnočasové zaměření organizace: Sportovní zaměření. Přínos činnosti organizace pro MČ Praha 11 a pro obyvatele Prahy 11: Rozšíření nabídky pohybových aktivit pro seniory a zejména pro seniory 65+. Datum založení organizace: Od roku 1999 pod názvem Pop balet (z.s.) a od roku 2025 pod nynějším názvem A23, z.s. Délka působení organizace na Praze 11: od roku 2017, tj. 9 let. Dříve bez žádostí o dotaci od MČ Praha 11. Místo pravidelné činnosti na Praze 11: KC Zahrada, Malenická 1784/2, P11 Provozní výdaje přepočítané na členy do 18 let a 65+: 150 000 Kč Celkové výdaje přepočítané na členy do 18 let a 65+: 512 000 Kč Účel čerpání dotace: Provozní náklady, mzdy, sportovní oblečení pro členy organizace, vzdělávání a školení, registrační poplatky/členské příspěvky, reprezentace organizace, organizace sportovních akcí, turnajů a volnočasových aktivit apod., drogistické zboží, kancelářské potřeby, materiální vybavení organizace, propagace, hudební skladby, nahrávky a choreografie (související s činností organizace), úklidové služby. | H4: 64 | I4: 3390 | J4: Nový žadatel
A5: 2. | B5: Dům-jógy s.r.o. | C5: Sídlo: V Lipkách 768/49, Slivenec, Praha 5, 154 00 Působiště žadatele na Praze 11: Hráského 2231/25 IČO: 06624839 Název banky: ČSOB Bankovní účet: 282034021/ 0300 | D5: Celoroční činnost sportovních a volnočasových organizací nezaměřených na výkonnostní sport | E5: 100000 | F5: 55000 | G5: Termín čerpání dotace: od 1.1.2026 do 31.12.2026 Zdůvodnění žádosti o dotaci: Získání finanční i mediální podporu pro realizaci lekcí jógy pro seniory a osoby s různým zdravotním omezením, kteří žijí především na území Prahy 11. Popis pravidelné celoroční činnosti: Cvičení probíhá každou středu od 9-11 hodin, s výjimkou letních prázdnin. Hlavní cíl činnosti organizace: Zlepšení fyzické a duševní kondice seniorů 65+. Sportovní/volnočasové zaměření organizace: Zlepšení zdraví seniorů. Přínos činnosti organizace pro MČ Praha 11 a pro obyvatele Prahy 11: Rozšíření nabídky pohybových aktivit pro seniory a zejména pro seniory 65+. Datum založení organizace: 01.09.2013 Délka působení organizace na Praze 11: od roku 2013 Místo pravidelné činnosti na Praze 11: KC Zahrada, Malenická 1784/2, P11 Provozní výdaje přepočítané na členy do 18 let a 65+: 77 031 Kč Celkové výdaje přepočítané na členy do 18 let a 65+: 353 031 Kč Účel čerpání dotace: Provozní náklady, mzdy, sportovní oblečení pro členy organizace, vzdělávání a školení, registrační poplatky/členské příspěvky, reprezentace organizace, organizace sportovních akcí, turnajů a volnočasových aktivit apod., drogistické zboží, kancelářské potřeby, materiální vybavení organizace, propagace, hudební skladby, nahrávky a choreografie (související s činností organizace), úklidové služby. | H5: 40 | I5: 3055 | J5: V termínu
A6: 3. | B6: Eva Ondríková | C6: Sídlo: Tréglova 808/7, Hlubočepy, Praha 5, 152 00 Působiště žadatele na Praze 11: KC Zahrada IČO: 01377302 Název banky: Česká spořitelna Bankovní účet: 437659123/ 0800 | D6: Celoroční činnost sportovních a volnočasových organizací nezaměřených na výkonnostní sport | E6: 40000 | F6: 33000 | G6: Termín čerpání dotace: od 1.1.2026 do 31.12.2026 Zdůvodnění žádosti o dotaci: Opětovné navýšení nájmu a služeb v tělocvičně KC Zahrada. Popis pravidelné celoroční činnosti: Cvičení probíhá každou středu od 9-11 hodin, s výjimkou letních prázdnin. Hlavní cíl činnosti organizace: Zlepšení fyzické a duševní kondice seniorů 65+. Sportovní/volnočasové zaměření organizace: Zlepšení zdraví seniorů. Přínos činnosti organizace pro MČ Praha 11 a pro obyvatele Prahy 11: Rozšíření nabídky pohybových aktivit pro seniory a zejména pro seniory 65+. Datum založení organizace: 01.09.2013 Délka působení organizace na Praze 11: od roku 2013 Místo pravidelné činnosti na Praze 11: KC Zahrada, Malenická 1784/2, P11 Provozní výdaje přepočítané na členy do 18 let a 65+: 40 000 Kč Celkové výdaje přepočítané na členy do 18 let a 65+: 53 600 Kč Účel čerpání dotace: Provozní náklady, mzdy, sportovní oblečení pro členy organizace, vzdělávání a školení, registrační poplatky/členské příspěvky, reprezentace organizace, organizace sportovních akcí, turnajů a volnočasových aktivit apod., drogistické zboží, kancelářské potřeby, materiální vybavení organizace, propagace, hudební skladby, nahrávky a choreografie (související s činností organizace), úklidové služby. | H6: 25 | I6: 2000 | J6: V termínu
A7: 4. | B7: FUTURUM FAMILY a BENJAMINEK mateřská škola o.p.s. | C7: Sídlo: Hausmannova 3003/9, Praha 4, 143 00 IČO: 66000262 Název banky: Česká spořitelna Bankovní účet: 66281319/0800 | D7: Celoroční činnost sportovních a volnočasových organizací nezaměřených na výkonnostní sport | E7: 400000 | F7: 109000 | G7: Termín čerpání dotace: od 1.1.2026 do 31.12.2026 Zdůvodnění žádosti o dotaci: Své aktivity na Praze 11 provozují již 28 let. Hlavním posláním je zapojit do volnočasových aktivit a sportovního vyžití co největší počet obyvatel z Prahy 11. Popis pravidelné celoroční činnosti: Během celého roku probíhají od pondělí do pátku pravidelné kurzy a klienti si mohou vybrat dle svých časových možností, věku či zájmu z bohaté nabídky 23 kurzů, denně od 8 do 20 hodin. Pro děti do 3 let nabízí 8 pravidelných hodinových kurzů. Pro děti a mládež od 4 do 18 let nabízí 10 pravidelných hodinových kurzů. Pro seniory 65+ nabízí 5 kurzů. Cena za jednu lekci pro cvičení seniorů je 80 Kč a pro děti a mládež do 18 let 120 Kč. Hlavní cíl činnosti organizace: Cílem klubu je realizace aktivit pro děti, rodiny s dětmi, mládež a seniory - podporují jejich zdravý pohybový i smyslový vývoj, aktivně strávený společný čas, který již v raném období dítěte zakládá jeho pozitivní vztah ke sportu a k aktivně strávenému volnému času. Sportovní/volnočasové zaměření organizace: Volnočasové kurzy: 1.Pohybové programy cvičení rodičů s dětmi a fit batole od 9 měsíců do 3 let; 2.Fit program pro děti ve věku 3-7 let a pohybové hry v tělocvičně; 3.Gymnasticko-taneční přípravka; 4.Hi hop (street dance); 5. Hravá jóga; 6.Cvičení pro seniory a fyziopilátes. Přínos činnosti organizace pro MČ Praha 11 a pro obyvatele Prahy 11: Oslovení velkého počtu dětí, mládeže a seniorů na Praze 11 pro pohybové aktivity. Datum založení organizace: 1. 9. 1998. Délka působení organizace na Praze 11: 28 let. Místo pravidelné činnosti na Praze 11: Vejvanovského 1610, Praha 11; ZŠ Mikulova, ZŠ Ke Kateřinkám. Provozní výdaje přepočítané na členy do 18 let a 65+: 225 654 Kč Celkové výdaje přepočítané na členy do 18 let a 65+: 824 654 Kč Účel čerpání dotace: Provozní náklady, mzdy, sportovní oblečení pro členy organizace, vzdělávání a školení, registrační poplatky/členské příspěvky, reprezentace organizace, organizace sportovních akcí, turnajů a volnočasových aktivit apod., drogistické zboží, kancelářské potřeby, materiální vybavení organizace, propagace, hudební skladby, nahrávky a choreografie (související s činností organizace), úklidové služby. | H7: 175 | I7: 5451.4 | J7: V termínu
A8: 5. | B8: Háje - SOS, o.p.s. | C8: Sídlo: Zdiměřická 1454/30, Praha 4, 149 00 IČO: 26725461 Název banky: Česká spořitelna Bankovní účet: 83786319/ 0800 | D8: Celoroční činnost sportovních a volnočasových organizací nezaměřených na výkonnostní sport | E8: 100000 | F8: 77000 | G8: Termín čerpání dotace: od 1.1.2026 do 31.12.2026 Zdůvodnění žádosti o dotaci: Dlouhodobé zajištění kvalitní sportovní výchovy dětí předškolního věku, zejména ročníků 2018 a 2019. Klub je součástí širší fotbalové organizace FC Háje Jižní Město a jeho hlavní posláním je přiblížit dětem sport. Popis pravidelné celoroční činnosti: Háje - SOS funguje jako fotbalový klub zaměřený na nejmladší věkovou kategorii - děti ve věku 4-7 let. Jeho činnost je celoroční. Tréninky 2-3x týdně, soutěže přátelská utkání, letní i zimní program, spolupráce s rodiči, rozvoj sociálních dovedností. Hlavní cíl činnosti organizace: Vytvářet pozitivní vztah dětí ke sportu a pohybu již od útlého věku. Sportovní/volnočasové zaměření organizace: Fotbal a všeobecný pohybový rozvoj dětí. Přínos činnosti organizace pro MČ Praha 11 a pro obyvatele Prahy 11: Poskytuje dětem MČ možnost začít se pravidelně věnovat sportu. Posílení komunity a sousedských vztahů. Výchova k hodnotám jako je týmová spolupráce a respekt. Příležitost pro děti z různých socio-ekonomických skupin sportovat. Příprava dětí na budoucí aktivní účast v místní společnosti. Podpora a zviditelnění MČ Praha 11. Zajištění kvalitní infrastruktury pro místní děti. Datum založení organizace: 2002. Délka působení organizace na Praze 11: 24 let. Místo pravidelné činnosti na Praze 11: K Jezeru 2, hřiště a zázemí na ZŠ Schulhoffova Provozní výdaje přepočítané na členy do 18 let a 65+: 112 000 Kč. Celkové výdaje přepočítané na členy do 18 let a 65+: 540 400 Kč. Účel čerpání dotace: Provozní náklady, mzdy, sportovní oblečení pro členy organizace, vzdělávání a školení, registrační poplatky/členské příspěvky, reprezentace organizace, organizace sportovních akcí, turnajů a volnočasových aktivit apod., drogistické zboží, kancelářské potřeby+G5, materiální vybavení organizace, propagace, hudební skladby, nahrávky a choreografie (související s činností organizace), úklidové služby. | H8: 57 | I8: 7353 | J8: V termínu
A9: 6. | B9: KSK Praha, z.s. | C9: Sídlo: U modré školy 2337/1, Chodov, 149 00 Praha IČO: 26989603 Název banky: Fio banka, a.s. Číslo účtu: 2902292953/ 2010 | D9: Sportovní kroužek VOSA | E9: 18000 | F9: 5200 | G9: Termín čerpání dotace: od 1.1.2026 do 31.12.2026. Zdůvodnění žádosti o dotaci: Hlavním důvodem žádosti je potřeba modernizace a rozšíření materiálního vybavení. Popis pravidelné celoroční činnosti: Projekt je zaměřen na zajištění a rozvoj pravidelné sportovní činnosti pro děti a mládež z Prahy 11. Hlavní cíl činnosti organizace: Péče o pražskou mládež, zejména pak o mládež ze sídlišť v MČ Praha 11. Sportovní/volnočasové zaměření organizace: Volnočasové. Přínos činnosti organizace pro MČ Praha 11 a pro obyvatele Prahy 11: Rozšíření nabídky pohybových aktivit pro seniory a zejména pro seniory 65+. Datum založení organizace: 2005. Délka působení organizace na Praze 11: 21 let. Místo pravidelné činnosti na Praze 11: KCMT, U modré školy 2337/1, Praha 11. Provozní výdaje přepočítané na členy do 18 let a 65+: 0 Kč Celkové výdaje přepočítané na členy do 18 let a 65+: 20 000 Kč Účel čerpání dotace: Provozní náklady, mzdy, sportovní oblečení pro členy organizace, vzdělávání a školení, registrační poplatky/členské příspěvky, reprezentace organizace, organizace sportovních akcí, turnajů a volnočasových aktivit apod., drogistické zboží, kancelářské potřeby, materiální vybavení organizace, propagace, hudební skladby, nahrávky a choreografie (související s činností organizace), úklidové služby | H9: 5 | I9: 270 | J9: Nový žadatel
A10: 7. | B10: LUDUS MAGNUS, z.s. | C10: Sídlo: Stroupežnického 1720/3, Praha 5, 150 00 IČO: 03578151 Název banky: FIO banka Bankovní účet: 2000701199/ 2010 | D10: Sportovní kurzy při ZŠ na Praze 11 | E10: 100000 | F10: 78000 | G10: Termín čerpání dotace: od 1.1.2026 do 31.12.2026 Zdůvodnění žádosti o dotaci: Spolek přichází s moderním konceptem volnočasové sportovní činnosti intenzivní spoluprací se školskými zařízeními. Děti i jejich rodiče jsou snadnou formou informováni o nabídkách sportovních kroužků, které se konají přímo v jejich škole nebo v její blízkosti. Popis pravidelné celoroční činnosti: Provozují celoroční sportovní kurzy v Praze 11 ve dvou sportovních odvětvích - inline bruslení a gymnastika-všeobecná pohybová příprava. Cílem kurzu inline bruslení je seznámit děti s tímto sportem jako s populárním a stále se rozšiřujícím sportem. Cílem projektu "Gymnastiky pro děti" je všeobecný pohybový rozvod dětí. Hlavní cíl činnosti organizace: Vést kroužky zábavnou a herní formou a tím umožnit dětem zažívat radost ze sportovní činnosti. Zapojit do celoroční organizované sportovní činnosti, co nejvíce dětí, které žijí nebo chodí do školy na území Prahy 11. Naučit děti základů inline bruslení s důrazem na bezpečnost při výkonu tohoto sportu. Rozvíjet všeobecné pohybové dovednosti dětí v kroužcích gymnastiky. Vyhledávat malé talenty a nadšence a podporovat je v aktivní sportovní činnosti. Kroužky realizovat profesionálně. Sportovní/volnočasové zaměření organizace: Gymnastika pro děti, inline bruslení. Přínos činnosti organizace pro MČ Praha 11 a pro obyvatele Prahy 11: V roce 2025 předpokládáme na Praze 11 spolupráci se 7 školami. Celkem by se do projektu v r. 2025 mohou zapojit 300 dětí. Datum založení organizace: 21. 11. 2014. Délka působení organizace na Praze 11: od roku 2016. Místo pravidelné činnosti na Praze 11: ZŠ Donovalská, Ke Kateřinkám, Mikulova, Květňák, Milíčov, Mendelova, Klíček. Provozní výdaje přepočítané na členy do 18 let a 65+: 100 000 Kč Celkové výdaje přepočítané na členy do 18 let a 65+: 265 000 Kč Účel čerpání dotace: Provozní náklady, mzdy, sportovní oblečení pro členy organizace, vzdělávání a školení, registrační poplatky/členské příspěvky, reprezentace organizace, organizace sportovních akcí, turnajů a volnočasových aktivit apod., drogistické zboží, kancelářské potřeby, materiální vybavení organizace, propagace, hudební skladby, nahrávky a choreografie (související s činností organizace), úklidové služby. | H10: 226 | I10: 2376 | J10: Po termínu
A11: 8. | B11: OLYMP FLORBAL, z.s. | C11: Sídlo: Bulharská 996/20, Praha 10, 101 000 IČO: 26575418 Název banky: FIO banka Bankovní účet: 22235222/2010 | D11: Celoroční činnost sportovních a volnočasových organizací nezaměřených na výkonnostní sport | E11: 55000 | F11: 1000 | G11: Termín čerpání dotace: od 1.1.2026 do 31.12.2026 Zdůvodnění žádosti o dotaci: Díky podpoře MČ Praha 11 sníží náklady na provoz florbalových kroužků, zejména náklady na pronájem tělocvičen a hal. Popis pravidelné celoroční činnosti: Na florbalových kroužcích se děti mohou seznámit s daným sportem. Rovněž si na hodinách osvojí základy pohybových dovedností a florbalové techniky. Obsahem tréninků jsou základní pohybová průprava, atletické základy, základní a následně pokročilé florbalové dovednosti a hry. Hlavní cíl činnosti organizace: Usnadnit přístup dětí na florbalové kroužky na ZŠ Mikulova, Pošepného náměstí a K Milíčovu a zkvalitnit je. Sportovní/volnočasové zaměření organizace: florbalové kroužky. Přínos činnosti organizace pro MČ Praha 11 a pro obyvatele Prahy 11: Přilákat k pravidelnému sportování co nejvíce dětí z MČ Praha 11. Dětem se snaží předat sportovní návyky a vybudovat u nich kladný vztah ke sportu. Datum založení organizace: 10. 12. 2008. Délka působení organizace na Praze 11: 11 let. Místo pravidelné činnosti na Praze 11: ZŠ Mikulova, ZŠ Pošepného nám., ZŠ K Milíčovu, SH Mírového hnutí 2137 Provozní výdaje přepočítané na členy do 18 let a 65+: 43 000 Kč Celkové výdaje přepočítané na členy do 18 let a 65+: 110 000 Kč Účel čerpání dotace: Provozní náklady, mzdy, sportovní oblečení pro členy organizace, vzdělávání a školení, registrační poplatky/členské příspěvky, reprezentace organizace, organizace sportovních akcí, turnajů a volnočasových aktivit apod., drogistické zboží, kancelářské potřeby, materiální vybavení organizace, propagace, hudební skladby, nahrávky a choreografie (související s činností organizace), úklidové služby. | H11: 53 | I11: 1590 | J11: V termínu
A12: 9. | B12: Pionýr, z.s. - Pionýrská skupina Kraken M | C12: Sídlo: Mendelova 538/25, Praha 4, 149 00 IČO: 68402287 Název banky: FIO banka Bankovní účet: 2000901238/ 2010 | D12: Celoroční činnost sportovních a volnočasových organizací nezaměřených na výkonnostní sport | E12: 100000 | F12: 52000 | G12: Termín čerpání dotace: od 1.1.2026 do 31.12.2026 Zdůvodnění žádosti o dotaci: Snaha zajistit podporu pro pravidelné celoroční aktivity 4 oddílů sdružených v pionýrské skupině Kraken M, které se věnují sportu (interkrosu, in-line i lednímu rekreačnímu hokeji, turistice a táboření). Díky případné podpoře se snaží udržet členské příspěvky pro členy na dostupné výši, zejména pro děti a mládež i ze sociálně slabších rodin. Popis pravidelné celoroční činnosti: Oddíl interkrosu - 3x tréninky týdně v ZŠ Mendelova. Oddíl rekreačního hokeje 1x týdně na ledové ploše ve Vestci a v r. 2025 zajištění pronájmu v nové hale ICE ARENA na JM. Oddíl Bobříci turistika. Oddíl Božani víkendové akce. Hlavní cíl činnosti organizace: Pravidelná činnost všech oddílu sdružených v PS Kraken M. V rámci této činnosti se jim daří umožnit dětem zdravý pohyb během sportování, dále častější pobyt v přírodě, možnost vyzkoušet si méně přístupné sporty na soutěžní i nesoutěžní úrovni. Sportovní/volnočasové zaměření organizace: Sportovně - turistické, volnočasové. Přínos činnosti organizace pro MČ Praha 11 a pro obyvatele Prahy 11: Nevychovávají sice špičkové sportovce, ale snaží se, aby si děti mohly vyzkoušet zahrát různé druhy sportů, vyrazit na turistické či cyklistické výlety, na táboření ve stanu, apod. Datum založení organizace: 1.1.1997. Délka působení organizace na Praze 11: 28 let. Místo pravidelné činnosti na Praze 11: tělocvična v ZŠ Mendelova, tělocvična ZŠ Kupeckého. Provozní výdaje přepočítané na členy do 18 let a 65+: 113 600 Kč Celkové výdaje přepočítané na členy do 18 let a 65+: 525 000 Kč Účel čerpání dotace: Provozní náklady, mzdy, sportovní oblečení pro členy organizace, vzdělávání a školení, registrační poplatky/členské příspěvky, reprezentace organizace, organizace sportovních akcí, turnajů a volnočasových aktivit apod., drogistické zboží, kancelářské potřeby, materiální vybavení organizace, propagace, hudební skladby, nahrávky a choreografie (související s činností organizace), úklidové služby. | H12: 71 | I12: 2431 | J12: Po termínu
A13: 10. | B13: Pionýr, z.s. - 213. pionýrská skupina UFO | C13: Sídlo: Kryštofova 21/1013, 149 00 Praha 4, Háje IČO: 67982557 Název banky: Fio banka, a.s. Bankovní účet: 2001453721/2010 | D13: Celoroční činnost sportovních a volnočasových organizací nezaměřených na výkonnostní sport | E13: 10000 | F13: 10000 | G13: Termín čerpání dotace: od 1.1.2026 do 31.12.2026 Zdůvodnění žádosti o dotaci: Dostupnější možnost sportování - cykloturistika pro děti z nemajetných rodin. Popis pravidelné celoroční činnosti: Vyjížďky v okolí Jižního Města a blízkého okolí Prahy. Cykloturistické vyjížďky jsou doplněny o různé hry a sportovní aktivity. V zimním období využití tělocvičny ZŠ, případně sportovního areálu Jedenáctka a klubovny na Gymnáziu Jižní Město. Hlavní cíl činnosti organizace: Umožnění dětem ze všech sociálních skupin smysluplné trávní volného času a podpoření jejich vzdělávání a socializace. Sportovní/volnočasové zaměření organizace: Volnočasové. Přínos činnosti organizace pro MČ Praha 11 a pro obyvatele Prahy 11: Původní působení jako softbalový klub, nyní transformovaný na cykloturistický oddíl, který se věnuje zejména dětem z Prahy 11. Datum založení organizace: 1991. Délka působení organizace na Praze 11: od roku 1992 Místo pravidelné činnosti na Praze 11: Tererova 2135/17 (zejména zimní období), v ostatním čase převážně provozování cykloturistiky. Provozní výdaje přepočítané na členy do 18 let a 65+: 2 000 Kč Celkové výdaje přepočítané na členy do 18 let a 65+: 41 000 Kč Účel čerpání dotace: Provozní náklady, mzdy, sportovní oblečení pro členy organizace, vzdělávání a školení, registrační poplatky/členské příspěvky, reprezentace organizace, organizace sportovních akcí, turnajů a volnočasových aktivit apod., drogistické zboží, kancelářské potřeby, materiální vybavení organizace, propagace, hudební skladby, nahrávky a choreografie (související s činností organizace), úklidové služby. | H13: 19 | I13: 1406 | J13: V termínu
A14: 11. | B14: POCTA - První osobní cyklistická talentová akademie, z.s. | C14: Sídlo: Cuřínova 588/10, Praha 4, 142 00 Působiště žadatele na Praze 11: ZŠ K Milíčovu ZŠ Mendelova ZŠ Mikulova ZŠ Campanus IČO: 04487818 Název banky: Raiffeisenbank Bankovní účet: 530175/5500 | D14: Celoroční činnost sportovních a volnočasových organizací nezaměřených na výkonnostní sport | E14: 160000 | F14: 0 | G14: Termín čerpání dotace: od 1.1.2026 do 31.12.2026 Zdůvodnění žádosti o dotaci: podpora cyklistického klubu na Jižním Městě. Popis pravidelné celoroční činnosti: Jízda na kole - každá kategorie nacvičuje jiné dovednosti. Dále se věnují i dalším sportům, plavání atd. Hlavní cíl činnosti organizace: jejich cílem je nabídnout sport všem. Sportovní/volnočasové zaměření organizace: Jedná se o všestranný kroužek, ale hlavním zaměřením je cyklistika a plavání. Přínos činnosti organizace pro MČ Praha 11 a pro obyvatele Prahy 11: Postupný nárůst zájmu dětí o sport. Pomoc v rámci sociální odpovědnosti a podpory sportu u dětí. Datum založení organizace: 15. 10. 2015. Délka působení organizace na Praze 11: 8 let. Místo pravidelné činnosti na Praze 11: ZŠ K Milíčovu, ZŠ Mendelova, ZŠ Mikulova Provozní výdaje přepočítané na členy do 18 let a 65+: 51 600 Kč Celkové výdaje přepočítané na členy do 18 let a 65+: 301 600 Kč Účel čerpání dotace: Provozní náklady, mzdy, sportovní oblečení pro členy organizace, vzdělávání a školení, registrační poplatky/členské příspěvky, reprezentace organizace, organizace sportovních akcí, turnajů a volnočasových aktivit apod., drogistické zboží, kancelářské potřeby, materiální vybavení organizace, propagace, hudební skladby, nahrávky a choreografie (související s činností organizace), úklidové služby. | H14: 42 | I14: 2709 | J14: V termínu
A15: 12. | B15: PRAŽSKÝ ROHOVNÍK z.s. | C15: Sídlo: Šmeralova 198/25, Praha 7, 170 00 IČO: 26597489 Název banky: Česká spořitelna Bankovní účet: 146376369/ 0800 | D15: Celoroční činnost sportovních a volnočasových organizací nezaměřených na výkonnostní sport | E15: 150000 | F15: 150000 | G15: Termín čerpání dotace: od 1.1.2026 do 31.12.2026 Zdůvodnění žádosti o dotaci: Žádost je podávána z důvodu vysokých nákladů na provoz tělocvičny, zejména energií. Část dotace použijí na samotnou sportovní činnost, soustředění pro děti a mládež a nákup sportovního vybavení. Popis pravidelné celoroční činnosti: Zabezpečení sportovních aktivit dětí a mládeže. Provoz sportovního zařízení v dlouhodobém nájmu. Sportovní soustředění na horách a víkendové kempy pro děti a mládež. Spáringy středočeské oblasti boxu. Startovné na zápasech, cestovné a náklady na ubytování s tím spojené, stravování. Hlavní cíl činnosti organizace: Sportovní činnost. Sportovní/volnočasové zaměření organizace: Box. Přínos činnosti organizace pro MČ Praha 11 a pro obyvatele Prahy 11: Prevence kriminality, sportovní vyžití, radost z pohybu, socializace dětí a mládeže, zlepšení fyzické kondice a fyzického zdraví, psychiky dětí. Datum založení organizace: 21.6.2020 Délka působení organizace na Praze 11: 16 let. Místo pravidelné činnosti na Praze 11: Opatovská 1754/14, Praha 11. Provozní výdaje přepočítané na členy do 18 let a 65+: 522 000 Kč Celkové výdaje přepočítané na členy do 18 let a 65+: 1 104 600 Kč Účel čerpání dotace: Provozní náklady, mzdy, sportovní oblečení pro členy organizace, vzdělávání a školení, registrační poplatky/členské příspěvky, reprezentace organizace, organizace sportovních akcí, turnajů a volnočasových aktivit apod., drogistické zboží, kancelářské potřeby, materiální vybavení organizace, propagace, hudební skladby, nahrávky a choreografie (související s činností organizace), úklidové služby. | H15: 119 | I15: 30270 | J15: V termínu
... A23: 20. | B23: Tenisová škola TALLENT s.r.o. | C23: Sídlo: Opatovická 160/18, Praha 1, 110 00 IČO: 25663437 Název banky: ČSOB Bankovní účet: 1800232103/ 0300 | D23: Celoroční činnost sportovních a volnočasových organizací nezaměřených na výkonnostní sport: Pravidelné kroužky tenisu, popularizace tenisu a turnaje pro neregistrované děti a mládež z Prahy 11 | E23: 64000 | F23: 32000 | G23: Termín čerpání dotace: od 1.1.2026 do 31.12.2026 Zdůvodnění žádosti o dotaci: Dotace je žádána na podporu zájmu o sport, protože dnešní děti mají velmi málo pohybu. Tím je narušen jejich přirozený vývoj a již ve velmi nízkém věku se i díky tomu potýkají s řadou zdravotních problémů. Rádi by tyto děti rozhýbali a přivedli je ke sportu zpět a že se nemusí soustředit jen na výkon. Děti se s tenisem seznámí na ukázkových hodinách případně prostřednictvím informačních materiálů, které opakovaně dětem s pomocí škol předáváme. Díky tomuto projektu se tak s tenisem setkají všechny děti MŠ a ZŠ na Praze 11. Popis pravidelné celoroční činnosti: Výuce tenisu dětí se věnují od roku 1998. Hlavní činností je zajistit dětem a mládeži pravidelný tenisový kroužek v průběhu školního roku. Dále pro neregistrované děti 4x ročně pořádáme tenisový turnaj. Hlavní cíl činnosti organizace: Přivádět mladou generaci zpět ke sportu. Tenis propagovat a poukazovat tak, že sportování je přirozenou součástí života. Sportovní/volnočasové zaměření organizace: Tenisový kroužek, popularizace tenisu mezi dětmi a mládeží a turnaje pro neregistrované hráče. Přínos činnosti organizace pro MČ Praha 11 a pro obyvatele Prahy 11: Hlavním přínosem je zajištění tréninku v docházkové vzdálenosti dětí. Datum založení organizace: rok 1998. Délka působení organizace na Praze 11: 28 let od založení organizace. Místo pravidelné činnosti na Praze 11: ZŠ K Milíčovu, K Milíčovu 674/1. Provozní výdaje přepočítané na členy do 18 let a 65+: 85 000 Kč Celkové výdaje přepočítané na členy do 18 let a 65+: 221 000 Kč Účel čerpání dotace: Provozní náklady, mzdy, sportovní oblečení pro členy organizace, vzdělávání a školení, registrační poplatky/členské příspěvky, reprezentace organizace, organizace sportovních akcí, turnajů a volnočasových aktivit apod., drogistické zboží, kancelářské potřeby, materiální vybavení organizace, propagace, hudební skladby, nahrávky a choreografie (související s činností organizace), úklidové služby. | H23: 30 | I23: 810 | J23: V termínu
B25: CELKEM | E25: =SUM(E4:E24) -> 2999100 | F25: =SUM(F4:F24) -> 1247200 | H25: =SUM(H4:H24) -> 1561 | I25: =SUM(I4:I24) -> 108267.4

Sheet Program 2a
B1: DOTAČNÍ PROGRAM PRO OBLAST SPORTU A VOLNÉHO ČASU NA ROK 2026 - 1. KOLO | H1: ='Program 1a'!H1:J1 -> Příloha usnesení č. 0012/24/Z/2026
B2: Program 2a) Jednorázové sportovní akce konané na území MČ Praha 11 | H2: Hodnotící kritérium č. 1 | I2: Hodnotící kritérium č. 2
A3: číslo dotace | B3: Název žadatele o dotaci: | C3: Sídlo žadatele: IČO: Bankovní účet: | D3: Název projektu (dotace): | E3: Požadovaná výše dotace: (Kč) | F3: Doporučená výše dotace: (Kč) | G3: Obsah, zdůvodnění a popis projektu, termín konání projektu, místo konání projektu, účel čerpání dotace, předpokládané výdaje na projekt: | H3: Předpokládaný počet účastníků projektu do 18 let, 65+, zdravotně znevýhodněných | I3: Podané vyúčtování za rok 2025
A4: 1. | B4: Aliance dětského plavání z.s. | C4: Sídlo: José Martího 269/31, Praha 6, 162 52 IČO: 70945331 Název banky: Fio Banka, a.s. Bankovní účet: 2502174835/ 2010 | D4: Plavecké závody dětí z klubů Aliance dětského plavání 2026 | E4: 54070 | F4: 11000 | G4: Termín čerpání dotace: od 1.1.2026 do 30.6.2026 Zdůvodnění žádosti o dotaci: získat finanční příspěvek na organizaci akce Cíl projektu: nabídnout dětem zazávodit si v přátelské atmosféře, akce má volnočasový charakter Popis projektu: Jedná se o organizaci závodů pro děti navštěvující kurzy plavání (14 klubů sdružených v Alianci dětského plavání). Tréninky jsou 1x týdně, cílem je naučit děti různé plavecké techniky - nejedná se ale o závodní plavce! Projekt probíhá od roku 2015 v plaveckém areálu Jedenáctka VS. Přínos projektu pro MČ Praha 11: medializace Plaveckého bazénu 11 VS, podpora sportovních aktivit dětí a mládeže ročníků narození 2016 - 2019 Historie konání projektu na Praze 11: pravidelné konání Výše vstupného pro závodníky: 240 Kč Výše vstupného pro diváky: zdarma Projekt je určen široké veřejnosti závodníků: NE - přihlášeným závodníkům z Aliance Projekt je určen široké veřejnosti diváků: NE Místo konání projektu: Plavecký bazén 11 VS Termín konání projektu: 16.5.2026 (9-12 hod.) Projekt bude realizován za podmínek: i bez přidělení dotace Celkové předpokládané výdaje na projekt: 78 170 Kč Celkový počet účastníků projektu: 112 Účel čerpání dotace: Provozní náklady k organizaci akce, honoráře a mzdy organizátorů, rozhodčích, spolupracovníků, materiál související s uspořádáním akce, ceny a odměny, organizační a technické zajištění akce, reklama a propagace akce, kancelářské a papírenské potřeby, platba za služby v rámci akce, doprava, drogistické zboží, ostatní výdaje bezprostředně související s organizací a přípravou akce | H4: 112 | I4: Nový žadatel
A5: 2. | B5: Atletika Jižní Město z.s. | C5: Sídlo: Stříbrského 681/18, Praha 4, 149 00 IČO: 04277406 Název banky: Fio banka Bankovní účet: 2600888313/ 2010 | D5: Jarní běhání - 15. ročník | E5: 50000 | F5: 43000 | G5: Termín čerpání dotace: od 1.1.2026 do 30.6.2026 Zdůvodnění žádosti o dotaci: podpora akce pro veřejnost, rostoucí počet účastníků akce z řad dětí a mládeže Cíl projektu: propagace a rozvoj běhání, atletiky, zdravého životního stylu, podpora amatérského běhání Popis projektu: sportovní akce je součástí Poháru Pražských běžeckých nadějí Přínos projektu pro MČ Praha 11: propagace sportu na Jižním Městě, zvýšení zájmu o běhání Historie konání projektu na Praze 11: pravidelná organizace akce Výše vstupného pro závodníky: 50 Kč Výše vstupného pro diváky: zdarma Projekt je určen široké veřejnosti závodníků: ANO Projekt je určen široké veřejnosti diváků: ANO Místo konání projektu: Sportovní areál Hrabákova + okolí Termín konání projektu: 5.4.2026, 8 - 14 hod. Projekt bude realizován za podmínek: i bez přidělení dotace Celkové předpokládané výdaje na projekt: 72 500 Kč Celkový počet účastníků projektu: 400 Účel čerpání dotace: Provozní náklady k organizaci akce, honoráře a mzdy organizátorů, rozhodčích, spolupracovníků, materiál související s uspořádáním akce, ceny a odměny, organizační a technické zajištění akce, reklama a propagace akce, kancelářské a papírenské potřeby, platba za služby v rámci akce, doprava, drogistické zboží, ostatní výdaje bezprostředně související s organizací a přípravou akce | H5: 370 | I5: V termínu
A6: 3. | B6: Beachvolejbalová škola Praha z.s. | C6: Sídlo: Novodvorská 1062/12, Praha 4, Lhotka 142 00 IČO: 22757147 Název banky: Komerční banka Bankovní účet: 107-1694630297/ 0100 | D6: Organizace Halového Mistrovství ČR (únor 2026) a turnajů pražské Beach Ligy U8 - U20 sezóny 1.1.2026 - 30.6.2026 | E6: 126000 | F6: 44000 | G6: Termín čerpání dotace: od 1.1.2026 do 30.6.2026 Zdůvodnění žádosti o dotaci: snížení nákladů na organizaci turnajů Cíl projektu: organizace vrcholných turnajů v areálu ZŠ Mikulova Popis projektu: V rámci projektu proběhne Mistrovství ČR v beachvolejbalu U16 - ženy/muži. Dále kvalifikační turnaje Pražské Beach Ligy U8 - U20 a hlavní turnajový den ABV ligy a Českého poháru. Přínos projektu pro MČ Praha 11: rozšíření povědomí o dětském vrcholovém beachvolejbalu na územé Prahy 11 Historie konání projektu na Praze 11: projekt se již několikrát konal na území Prahy 11 Výše vstupného pro závodníky: 1 100 - 1 800 Kč (dle turnaje) Výše vstupného pro diváky: zdarma Projekt je určen široké veřejnosti závodníků: NE - omezenému okruhu závodníků Projekt je určen široké veřejnosti diváků: ANO Místo konání projektu: Areál ZŠ Mikulova Termín konání projektu: 28.2.-1.3.2026 /1.1.-30.6.2026 Projekt bude realizován za podmínek: i bez přidělení dotace Celkové předpokládané výdaje na projekt: 426 900 Kč Celkový počet účastníků projektu: 930 Účel čerpání dotace: Provozní náklady k organizaci akce, honoráře a mzdy organizátorů, rozhodčích, spolupracovníků, materiál související s uspořádáním akce, ceny a odměny, organizační a technické zajištění akce, reklama a propagace akce, kancelářské a papírenské potřeby, platba za služby v rámci akce, doprava, drogistické zboží, ostatní výdaje bezprostředně související s organizací a přípravou akce | H6: 930 | I6: V termínu
A7: 4. | B7: Česká asociace squashe, z.s. | C7: Sídlo: Zátopkova 100/2, Praha 6, 169 00 IČO: 48132217 Název banky: Komerční banka, a.s. Bankovní účet: 107-2923330277 /0100 | D7: Mistrovství Evropy juniorů do 15 a 17 let ve squashi 2026 | E7: 200000 | F7: 8400 | G7: Termín čerpání dotace: od 1.1.2026 do 30.6.2026 Zdůvodnění žádosti o dotaci: příspěvek na zajištění špičkové sportovní akce Cíl projektu: umožnit českým reprezentantům bojovat o evropské medaile v domácím prostředí Popis projektu: soutěž smíšených dvojic, účastní se 19 týmů do 15 let a 17 týmů do 17 let z celkem 22 zemí Přínos projektu pro MČ Praha 11: zviditelnění MČ Praha 11 jako místa vhodného pro pořádání sportovních akcí Historie konání projektu na Praze 11: poprvé na Praze 11 Výše vstupného pro závodníky: 5 025 - 6 700 Kč za tým Výše vstupného pro diváky: zdarma Projekt je určen široké veřejnosti závodníků: NE - určeno pro reprezentanty účastnících se zemí Projekt je určen široké veřejnosti diváků: ANO Místo konání projektu: Squash Bowling Centrum, K Horkám 2284/1 Termín konání projektu: 7.-10.5.2026 Projekt bude realizován za podmínek: i bez přidělení dotace Celkové předpokládané výdaje na projekt: 3 031 000 Kč Celkový počet účastníků projektu: 161 Účel čerpání dotace: Provozní náklady k organizaci akce, honoráře a mzdy organizátorů, rozhodčích, spolupracovníků, materiál související s uspořádáním akce, ceny a odměny, organizační a technické zajištění akce, reklama a propagace akce, kancelářské a papírenské potřeby, platba za služby v rámci akce, doprava, drogistické zboží, ostatní výdaje bezprostředně související s organizací a přípravou akce | H7: 161 | I7: Nežádali
A8: 5. | B8: Český florbal | C8: Sídlo: Lomnického 1705/5, Praha 4, 140 00 IČO: 61387991 Název banky: Komerční banka Bankovní účet: 7411730237/ 0100 | D8: Národní finále florbalového poháru pro 1. stupeň ZŠ - ČEPS CUP | E8: 90000 | F8: 35000 | G8: Termín čerpání dotace: od 1.1.2026 do 30.6.2026 Zdůvodnění žádosti o dotaci: příspěvek na zajištění kvalitní organizace národního finále celorepublikového projektu pro děti 1 . stupně ZŠ Cíl projektu: motivovat co nejširší skupinu dětí k pravidelnému pohybu a sportování Popis projektu: do národního finále postoupilo 32 týmů (16 dívčích a 16 chlapeckých) z okresních a krajských kol, organizován dvoudenní turnaj Přínos projektu pro MČ Praha 11: zviditelnění MČ Praha 11 jako místa vhodného pro pořádání sportovních akcí celonárodního významu Historie konání projektu na Praze 11: každoročně Výše vstupného pro závodníky: zdarma Výše vstupného pro diváky: zdarma Projekt je určen široké veřejnosti závodníků: NE - určeno pro týmy zapojené do ČEPS CUP Projekt je určen široké veřejnosti diváků: ANO Místo konání projektu: SH Jedenáctka VS Termín konání projektu: 9.-10.4.2026, 8:00 - 15:00 Projekt bude realizován za podmínek: i bez přidělení dotace Celkové předpokládané výdaje na projekt: 136 900 Kč Celkový počet účastníků projektu: 320 Účel čerpání dotace: Provozní náklady k organizaci akce, honoráře a mzdy organizátorů, rozhodčích, spolupracovníků, materiál související s uspořádáním akce, ceny a odměny, organizační a technické zajištění akce, reklama a propagace akce, kancelářské a papírenské potřeby, platba za služby v rámci akce, doprava, drogistické zboží, ostatní výdaje bezprostředně související s organizací a přípravou akce | H8: 320 | I8: Nový žadatel
