Workbook

Sheet Program 1a
B1: DOTAČNÍ PROGRAM PRO OBLAST SPORTU A VOLNÉHO ČASU NA ROK 2026 - 1. KOLO | H1: Příloha usnesení č. 0012/24/Z/2026
B2: Program 1a) Celoroční činnost sportovních organizací zaměřených na výkonnostní sport | H2: Hodnotící kritérium č. 1 | I2: Hodnotící kritérium č. 2 | J2: Hodnotící kritérium č. 3
A3: číslo dotace | B3: Název žadatele o dotaci: | C3: Sídlo žadatele: IČO: Bankovní účet: | D3: Název projektu (dotace): | E3: Požadovaná výše dotace: (Kč) | F3: Doporučená výše dotace: (Kč) | G3: Obsah, zdůvodnění a popis projektu, termín konání projektu, místo konání projektu, rozpočet, účel čerpání dotace: | H3: Počet členů do 18 let: | I3: Počet osobohodin za rok 2026: | J3: Podaná vyúčtování za rok 2025
A4: 1. | B4: Atletika Jižní Město z.s. | C4: Sídlo: Stříbrského 681/18, Praha 4, 149 00 IČO: 04277406 Název banky: Fio banka Bankovní účet: 2600888313/2010 | D4: Celoroční činnost sportovních organizací zaměřených na výkonnostní sport | E4: 990000 | F4: 922000 | G4: Termín čerpání dotace: od 1.1.2026 do 31.12.2026 Zdůvodnění žádosti o dotaci: zajištění materiálního, technického, trenérského, metodického a organizačního zabezpečení činnosti klubu Sportovní zaměření klubu: atletika Hlavní cíl činnosti klubu: sportovní vyžití dětí a mládeže z Prahy 11 Přínos činnosti klubu pro MČ Praha 11: propagace a reprezentace Prahy 11, aktivní využití volného času dětí a mládeže Datum založení klubu: 2016 Délka působení klubu na Praze 11: od 2016 Místo tréninkové činnosti na Praze 11: Sportovní areál Hrabákova, školní areál K Milíčovu Provozní výdaje přepočítané na členy do 18 let: 278 400 Kč Celkové výdaje přepočítané na členy do 18 let: 2 260 400 Kč Účel čerpání dotace: Provozní náklady, mzdy trenérů, sportovní oblečení, vzdělávání a školení trenérů a rozhodčích, registrační poplatky/členské příspěvky, reprezentace klubu, organizace ligových turnajů, zápasů apod., sportovní tábory, kempy, soustředění a další sportovní pobyty, rehabilitační a rekondiční služby, sportovní prohlídky dětí a mládeže, drogistické zboží, kancelářské potřeby, materiální vybavení organizace, propagace klubu, hudební skladby, nahrávky a choreografie související s činností, úklidové služby | H4: 479 | I4: 116292 | J4: V termínu
A5: 2. | B5: Baby dance Praha, z.s. | C5: Sídlo: Zlešická 1805/4, Chodov, 148 00 Praha 4 IČO: 07690860 Název banky: ČSOB Bankovní účet: 287346665/ 0300 | D5: Celoroční činnost sportovních organizací zaměřených na výkonnostní sport | E5: 850000 | F5: 171000 | G5: Termín čerpání dotace: od 1.1.2026 do 31.12.2026 Zdůvodnění žádosti o dotaci: příspěvek na zajištění rozvoje talentované mládeže v oblasti tance Sportovní zaměření klubu: tanec Hlavní cíl činnosti klubu: rozvoj výkonnostního tance Přínos činnosti klubu pro MČ Praha 11: rozvoj sportu na Praze 11 Datum založení klubu: 2018 Délka působení klubu na Praze 11: od 2018 Místo tréninkové činnosti na Praze 11: ZŠ Mikulova, sál Galaxie Háje Provozní výdaje přepočítané na členy do 18 let: 228 525 Kč Celkové výdaje přepočítané na členy do 18 let: 2 146 525 Kč Účel čerpání dotace: Provozní náklady, mzdy trenérů, sportovní oblečení, vzdělávání a školení trenérů a rozhodčích, registrační poplatky/členské příspěvky, reprezentace klubu, organizace ligových turnajů, zápasů apod., sportovní tábory, kempy, soustředění a další sportovní pobyty, rehabilitační a rekondiční služby, sportovní prohlídky dětí a mládeže, drogistické zboží, kancelářské potřeby, materiální vybavení organizace, propagace klubu, hudební skladby, nahrávky a choreografie související s činností, úklidové služby | H5: 140 | I5: 7860 | J5: V termínu
A6: 3. | B6: Beachvolejbalová škola Praha z.s. | C6: Sídlo: Novodvorská 1062/12, Praha 4, Lhotka 142 00 IČO: 22757147 Název banky: Komerční banka Bankovní účet: 107-1694630297/ 0100 | D6: Celoroční činnost sportovních organizací zaměřených na výkonnostní sport | E6: 400000 | F6: 243000 | G6: Termín čerpání dotace: od 1.1.2026 do 31.12.2026 Zdůvodnění žádosti o dotaci: podpora činnosti spolku, pravidelné tréninky dětí a mládeže Sportovní zaměření klubu: beachvolejbal Hlavní cíl činnosti klubu: podpora sportovní činnosti dětí v oblasti beachvolejbalu ve sportovním areálu Mikulovka. Nejlepší hráči se účastní halových MČR, letních MČR. Přínos činnosti klubu pro MČ Praha 11: přivést děti z Prahy 11 k atraktivnímu sportu, poskytnout prostor pro jejich sportovní rozvoj, nabídnout možnost účasti na letním příměstském táboře, letním soustředění atd. Datum založení klubu: 2012 Délka působení klubu na Praze 11: od 2021 Místo tréninkové činnosti na Praze 11: sportovní areál Mikulovka Provozní výdaje přepočítané na členy do 18 let: 607 300 Kč Celkové výdaje přepočítané na členy do 18 let: 2 244 700 Kč Účel čerpání dotace: Provozní náklady, mzdy trenérů, sportovní oblečení, vzdělávání a školení trenérů a rozhodčích, registrační poplatky/členské příspěvky, reprezentace klubu, organizace ligových turnajů, zápasů apod., sportovní tábory, kempy, soustředění a další sportovní pobyty, rehabilitační a rekondiční služby, sportovní prohlídky dětí a mládeže, drogistické zboží, kancelářské potřeby, materiální vybavení organizace, propagace klubu, hudební skladby, nahrávky a choreografie související s činností, úklidové služby | H6: 152 | I6: 16958.37 | J6: V termínu
A7: 4. | B7: FC Háje Jižní Město, z.s. | C7: Sídlo: Zdiměřická 1454/30, Praha 4, 149 00 IČO: 67779662 Název banky: Komerční banka Bankovní účet: 19-9362130217/ 0100 | D7: Celoroční činnost sportovních organizací zaměřených na výkonnostní sport | E7: 1000000 | F7: 463000 | G7: Termín čerpání dotace: od 1.1.2026 do 31.12.2026 Zdůvodnění žádosti o dotaci: finanční podpora pomůže zkvalitnit tréninkové zázemí, modernizovat vybavení, rozšířit pravidelné sportovní aktivity, podpořit zdravý životní styl a komunitní život Sportovní zaměření klubu: fotbal Hlavní cíl činnosti klubu: rozvoj mládežnického fotbalu, talentovaných hráčů, výchova dětí ke sportovním a morálním hodnotám, disciplíně, týmové spolupráci atd. Přínos činnosti klubu pro MČ Praha 11: podpora zdravého životního stylu, výchova dětí k hodnotám, rozvoj sportovní infrastruktury, prevence sociálního vyloučení, posilování komunitního života, možnost sportovního růstu hráčů, ekonomické a sociální benefity pro Prahu 11 Datum založení klubu: 1930 Délka působení klubu na Praze 11: od roku 1930 Místo tréninkové činnosti na Praze 11: K Jezeru 2 Provozní výdaje přepočítané na členy do 18 let: 1 250 000 Kč Celkové výdaje přepočítané na členy do 18 let: 6 555 600 kč Účel čerpání dotace: Provozní náklady, mzdy trenérů, sportovní oblečení, vzdělávání a školení trenérů a rozhodčích, registrační poplatky/členské příspěvky, reprezentace klubu, organizace ligových turnajů, zápasů apod., sportovní tábory, kempy, soustředění a další sportovní pobyty, rehabilitační a rekondiční služby, sportovní prohlídky dětí a mládeže, drogistické zboží, kancelářské potřeby, materiální vybavení organizace, propagace klubu, hudební skladby, nahrávky a choreografie související s činností, úklidové služby | H7: 250 | I7: 48148 | J7: po termínu
A8: 5. | B8: FK Dukla Jižní Město z.s. | C8: Sídlo: Mikulova 1594/4, Praha 4, 149 00 IČO: 26620596 Název banky: Raiffeisen Bank Bankovní účet: 6491078001/ 5500 | D8: Celoroční činnost sportovních organizací zaměřených na výkonnostní sport | E8: 1000000 | F8: 517000 | G8: Termín čerpání dotace: od 1.1.2026 do 31.12.2026 Zdůvodnění žádosti o dotaci: příspěvek na úhradu nákladů klubu (provozní výdaje, mzdy trenérů, nákup materiálu). Sportovní zaměření klubu: fotbal Hlavní cíl činnosti klubu: výkonnostní fotbal, pražské soutěže, divize Přínos činnosti klubu pro MČ Praha 11: rozvoj sportu na Jižním Městě Datum založení klubu: 2010 Délka působení klubu na Praze 11: od roku 2010 Místo tréninkové činnosti na Praze 11: Sportovní areál Mikulova, sportovní areál Schulhoffova Provozní výdaje přepočítané na členy do 18 let: 1 707 980 Kč Celkové výdaje přepočítané na členy do 18 let: 3 397 980 Kč Účel čerpání dotace: Provozní náklady, mzdy trenérů, sportovní oblečení, vzdělávání a školení trenérů a rozhodčích, registrační poplatky/členské příspěvky, reprezentace klubu, organizace ligových turnajů, zápasů apod., sportovní tábory, kempy, soustředění a další sportovní pobyty, rehabilitační a rekondiční služby, sportovní prohlídky dětí a mládeže, drogistické zboží, kancelářské potřeby, materiální vybavení organizace, propagace klubu, hudební skladby, nahrávky a choreografie související s činností, úklidové služby | H8: 264 | I8: 55227 | J8: po termínu
A9: 6. | B9: FLORBAL CHODOV z.s. | C9: Sídlo: Komárkova 2265/1, Praha 4, 148 00 IČO: 04104200 Název banky: Komerční banka Bankovní účet: 115 - 518190267/ 0100 | D9: Celoroční činnost sportovních organizací zaměřených na výkonnostní sport | E9: 1000000 | F9: 704000 | G9: Termín čerpání dotace: od 1.1.2026 do 31.12.2026 Zdůvodnění žádosti o dotaci: pomoc s financováním sportovního klubu, snížení nákladů za pronájmy, snaha zajistit kvalitní sportování Sportovní zaměření klubu: florbal Hlavní cíl činnosti klubu: Zajištění sportovní činnosti hráčů ve všech mužských a ženských kategoriích, jejich optimální sportovní, osobnostní i zdravotní rozvoj, dosažení sportovních úspěchů na celostátní i mezinárodní úrovni. Přínos činnosti klubu pro MČ Praha 11: nabídka kvalitního kulturně - sportovního vyžití obyvatel MČ, možnost navštěvy superligových zápasů, spolupráce se ZŠ z Prahy 11, vedení hodin tělesné výchovy, organizace Florbalových dnů na Praze 11 Datum založení klubu: 1991 Délka působení klubu na Praze 11: od 1991 Místo tréninkové činnosti na Praze 11: SH Jižní Město, SH Jedenáctka VS, SH ZŠ Campanus Provozní výdaje přepočítané na členy do 18 let: 4 122 760 Kč Celkové výdaje přepočítané na členy do 18 let: 12 892 760 Kč Účel čerpání dotace: Provozní náklady, mzdy trenérů, sportovní oblečení, vzdělávání a školení trenérů a rozhodčích, registrační poplatky/členské příspěvky, reprezentace klubu, organizace ligových turnajů, zápasů apod., sportovní tábory, kempy, soustředění a další sportovní pobyty, rehabilitační a rekondiční služby, sportovní prohlídky dětí a mládeže, drogistické zboží, kancelářské potřeby, materiální vybavení organizace, propagace klubu, hudební skladby, nahrávky a choreografie související s činností, úklidové služby | H9: 256 | I9: 74648 | J9: po termínu
A10: 7. | B10: Jižní Město Chodov - fotbalový klub, z.s. | C10: Sídlo: Volkovova 2291/3, Praha 4, 149 00 IČO: 22745262 Název banky: Česká spořitelna Bankovní účet: 4309597309/0800 | D10: Celoroční činnost sportovních organizací zaměřených na výkonnostní sport | E10: 670055 | F10: 440000 | G10: Termín čerpání dotace: od 1.1.2026 do 31.12.2026 Zdůvodnění žádosti o dotaci: snížení finanční zátěže v souvislosti s velmi vysokým nájmem fotbalového hřiště, podpora dětí a mládeže v oblasti fotbalu, zlepšení tréninkových podmínek, navázání na dlouholetou tradici klubu Sportovní zaměření klubu: fotbal Hlavní cíl činnosti klubu: rozvoj dětí a mládeže v oblasti fotbalu Přínos činnosti klubu pro MČ Praha 11: nabídka sportovního vyžití dětí a mládeže Datum založení klubu: 1924 Délka působení klubu na Praze 11: od 1924 Místo tréninkové činnosti na Praze 11: Volkovova 2291 Provozní výdaje přepočítané na členy do 18 let: 1 272 905 Kč Celkové výdaje přepočítané na členy do 18 let: 2 949 705 Kč Účel čerpání dotace: Provozní náklady, mzdy trenérů, sportovní oblečení, vzdělávání a školení trenérů a rozhodčích, registrační poplatky/členské příspěvky, reprezentace klubu, organizace ligových turnajů, zápasů apod., sportovní tábory, kempy, soustředění a další sportovní pobyty, rehabilitační a rekondiční služby, sportovní prohlídky dětí a mládeže, drogistické zboží, kancelářské potřeby, materiální vybavení organizace, propagace klubu, hudební skladby, nahrávky a choreografie související s činností, úklidové služby | H10: 292 | I10: 46720 | J10: V termínu
A11: 8. | B11: Jižní Supi, zapsaný spolek | C11: Sídlo: Brechtova 779/6 Praha 4 149 00 IČO: 11654228 Název banky: Fio banka Bankovní účet: 321321366/2010 | D11: Celoroční činnost sportovních organizací zaměřených na výkonnostní sport | E11: 330000 | F11: 318000 | G11: Termín čerpání dotace: od 1.1.2026 do 31.12.2026 Zdůvodnění žádosti o dotaci: finanční pomoc s náklady za pronájmy hal a tělocvičen na tréninky a zápasy, snaha zajistit dostupnost tréninků pro větší počet dětí Sportovní zaměření klubu: basketbal Hlavní cíl činnosti klubu: výchova mládeže po sportovní i lidské stránce, účast v ligových soutěžích, výchova talentů do reprezentace ČR Přínos činnosti klubu pro MČ Praha 11: rostoucí počet aktivně sportujících dětí Datum založení klubu: 2021 Délka působení klubu na Praze 11: od 2008 s jinou právní subjektivitou (původně pod BSK Fenix Modřany), od 2021 jako Jižní Supi Místo tréninkové činnosti na Praze 11: ZŠ a SŠ Kupeckého, ZŠ K Milíčovu Provozní výdaje přepočítané na členy do 18 let: 1 840 000 Kč Celkové výdaje přepočítané na členy do 18 let: 3 940 000 Kč Účel čerpání dotace: Provozní náklady, mzdy trenérů, sportovní oblečení, vzdělávání a školení trenérů a rozhodčích, registrační poplatky/členské příspěvky, reprezentace klubu, organizace ligových turnajů, zápasů apod., sportovní tábory, kempy, soustředění a další sportovní pobyty, rehabilitační a rekondiční služby, sportovní prohlídky dětí a mládeže, drogistické zboží, kancelářské potřeby, materiální vybavení organizace, propagace klubu, hudební skladby, nahrávky a choreografie související s činností, úklidové služby | H11: 188 | I11: 34960 | J11: V termínu
A12: 9. | B12: JNS cheerleaders z.s. | C12: Sídlo: Květnového vít. 1628/48, Praha 4, 149 00 IČO: 27025071 Název banky: ČSOB Bankovní účet: 203018155/0300 | D12: Celoroční činnost sportovních organizací zaměřených na výkonnostní sport | E12: 750000 | F12: 426000 | G12: Termín čerpání dotace: od 1.1.2026 do 31.12.2026 Zdůvodnění žádosti o dotaci: udržení a zlepšování sportovních podmínek pro děti a mládež, příprava sportovců k reprezentaci Sportovní zaměření klubu: sportovní cheerleading Hlavní cíl činnosti klubu: výchova dětí a mládeže v oblasti sportu a zdraví, rozvoj veřejného života, rozvoj sportu Přínos činnosti klubu pro MČ Praha 11: zvyšování výkonnosti a tělesné zdatnosti dětí a mládeže, upevňování fyzického a psychického zdraví dětí, propagace MČ Praha 11 Datum založení klubu: 2006 Délka působení klubu na Praze 11: od roku 1999 (nejdříve pod jinou právní subjektivitou) Místo tréninkové činnosti na Praze 11: Tělocvičny ZŠ Květnového vít. 1554 - Schulhoffova 844 a Květnového vít. 1554 Provozní výdaje přepočítané na členy do 18 let: 995 000 Kč Celkové výdaje přepočítané na členy do 18 let: 9 738 000 Kč Účel čerpání dotace: Provozní náklady, mzdy trenérů, sportovní oblečení, vzdělávání a školení trenérů a rozhodčích, registrační poplatky/členské příspěvky, reprezentace klubu, organizace ligových turnajů, zápasů apod., sportovní tábory, kempy, soustředění a další sportovní pobyty, rehabilitační a rekondiční služby, sportovní prohlídky dětí a mládeže, drogistické zboží, kancelářské potřeby, materiální vybavení organizace, propagace klubu, hudební skladby, nahrávky a choreografie související s činností, úklidové služby | H12: 269 | I12: 45240 | J12: po termínu
A13: 10. | B13: Judo club Kidsport, z.s. | C13: Sídlo: U Záběhlického zámku 57/2a, Záběhlice, Praha 10, 106 00 IČO: 22899596 Název banky: Fio Banka Bankovní účet: 2002234934/ 2010 | D13: Celoroční činnost sportovních organizací zaměřených na výkonnostní sport | E13: 950000 | F13: 543000 | G13: Termín čerpání dotace: od 1.1.2026 do 31.12.2026 Zdůvodnění žádosti o dotaci: příspěvek na zvýšení kvality tréninkových jednotek, modernizace výuky, dlouhodobé udržení dětí u sportu, zájem dětí o zdravý životní styl, kvalifikovaní trenéři Sportovní zaměření klubu: judo Hlavní cíl činnosti klubu: umožnit dětem sportovní aktivitu pod vedením kvalitních trenérů, důraz na všestranný harmonický rozvoj každého dítěte. Přínos činnosti klubu pro MČ Praha 11: komunitní setkávání dětí a mládeže, rozvoj zájmových aktivit, podpora aktivního a zdravého životního stylu obyvatel Jižního Města, nabídka fyzických aktivit, cvičení a rekreačních programů, podpora psychické odolnosti Datum založení klubu: 2007 Délka působení klubu na Praze 11: od 2011 Místo tréninkové činnosti na Praze 11: Judo Academy - Květnového vít. 85/2, ZŠ a MŠ Chodov, ZŠ Milíčov, ZŠ Mendelova, KC Zahrada Provozní výdaje přepočítané na členy do 18 let: 1 181 614 Kč Celkové výdaje přepočítané na členy do 18 let: 5 562 514 Kč Účel čerpání dotace: Provozní náklady, mzdy trenérů, sportovní oblečení, vzdělávání a školení trenérů a rozhodčích, registrační poplatky/členské příspěvky, reprezentace klubu, organizace ligových turnajů, zápasů apod., sportovní tábory, kempy, soustředění a další sportovní pobyty, rehabilitační a rekondiční služby, sportovní prohlídky dětí a mládeže, drogistické zboží, kancelářské potřeby, materiální vybavení organizace, propagace klubu, hudební skladby, nahrávky a choreografie související s činností, úklidové služby | H13: 723 | I13: 39582.5 | J13: po termínu
A14: 11. | B14: Krasobruslařský klub Stadion Praha, z.s. | C14: Sídlo: Ke Kateřinkám 2423/2a, Praha 4, 149 00 IČO: 49626892 Název banky: ČSOB Bankovní účet: 200803369/0800 | D14: Celoroční činnost sportovních organizací zaměřených na výkonnostní sport | E14: 800000 | F14: 125000 | G14: Termín čerpání dotace: od 1.1.2026 do 31.12.2026 Zdůvodnění žádosti o dotaci: Podpora celoroční sportovní činnosti, zajištění dostupnosti sportu Sportovní zaměření klubu: krasobruslení Hlavní cíl činnosti klubu: rozvoj výkonnostního sportu, účast na soutěžích Přínos činnosti klubu pro MČ Praha 11: rozvoj sportu na MČ Praha 11 pro děti od 5 let, vedení ke sportu a zdravému pohybu, organizace volnočasových kurzů Datum založení klubu: 1990 Délka působení klubu na Praze 11: od 2023 Místo tréninkové činnosti na Praze 11: ICE ARENA Kateřinky Provozní výdaje přepočítané na členy do 18 let: 2 200 000 Kč Celkové výdaje přepočítané na členy do 18 let: 3 891 800 Kč Účel čerpání dotace: Provozní náklady, mzdy trenérů, sportovní oblečení, vzdělávání a školení trenérů a rozhodčích, registrační poplatky/členské příspěvky, reprezentace klubu, organizace ligových turnajů, zápasů apod., sportovní tábory, kempy, soustředění a další sportovní pobyty, rehabilitační a rekondiční služby, sportovní prohlídky dětí a mládeže, drogistické zboží, kancelářské potřeby, materiální vybavení organizace, propagace klubu, hudební skladby, nahrávky a choreografie související s činností, úklidové služby | H14: 51 | I14: 8844 | J14: po termínu
A15: 12. | B15: OF dance group z.s. | C15: Sídlo: Valentova 1731/21, Praha 4, 149 00 IČO: 06530770 Název banky: ČSOB Bankovní účet: 281792242/0300 | D15: Celoroční činnost sportovních organizací zaměřených na výkonnostní sport | E15: 900000 | F15: 338000 | G15: Termín čerpání dotace: od 1.1.2026 do 31.12.2026 Zdůvodnění žádosti o dotaci: příspěvek na zajištění rozvoje talentované mládeže v oblasti tance Sportovní zaměření klubu: tanec Hlavní cíl činnosti klubu: rozvoj výkonnostního tance Přínos činnosti klubu pro MČ Praha 11: rozvoj sportu na MČ Praha 11 Datum založení klubu: 2017 Délka působení klubu na Praze 11: od 2017 Místo tréninkové činnosti na Praze 11: Blankyt - Matúškova 831, ZŠ Květnového vít. 1554 Provozní výdaje přepočítané na členy do 18 let: 397 500 Kč Celkové výdaje přepočítané na členy do 18 let: 3 176 300 Kč Účel čerpání dotace: Provozní náklady, mzdy trenérů, sportovní oblečení, vzdělávání a školení trenérů a rozhodčích, registrační poplatky/členské příspěvky, reprezentace klubu, organizace ligových turnajů, zápasů apod., sportovní tábory, kempy, soustředění a další sportovní pobyty, rehabilitační a rekondiční služby, sportovní prohlídky dětí a mládeže, drogistické zboží, kancelářské potřeby, materiální vybavení organizace, propagace klubu, hudební skladby, nahrávky a choreografie související s činností, úklidové služby | H15: 269 | I15: 29480 | J15: V termínu
... A29: 26. | B29: Tělocvičná jednota Sokol Nusle Praha | C29: Sídlo: Na Květnici 700/1a Praha 4, 140 00 IČO: 00569488 Název banky: FIO Bankovní účet: 2601000099/2010 | D29: Celoroční činnost sportovních organizací zaměřených na výkonnostní sport | E29: 492000 | F29: 173000 | G29: Termín čerpání dotace: od 1.1.2026 do 31.12.2026 Zdůvodnění žádosti o dotaci: podpora mládežnické složky basketbalového klubu působícího na Praza 11 Sportovní zaměření klubu: basketbal Hlavní cíl činnosti klubu: Rozšiřování členské základny klubu, dostupnější sport, důraz na všestranný rozvoj mládeže. Sokol Nusle basketbal je na Praze 11 aktivní od roku 2019. Klub se již od začátku zaměřoval na kategorii dívek. Od sezóny 2025/2026 má klub již 4 věkové kategorie dívek. Mládežnickou složku získal klub oddělením dívek od klubu Jižní Supi, kde tato složka zanikla. Po dohodě přešly dívky pod Sokol Nusle, čimž se členská základna významně rozšířila. Přínos činnosti klubu pro MČ Praha 11: reprezentace MČ Praha 11 Datum založení klubu: 1948 Délka působení klubu na Praze 11: od 2019 Místo tréninkové činnosti na Praze 11: ZŠ a SŠ Kupeckého, ZŠ Chodov (Květnového vít. 57), Provozní výdaje přepočítané na členy do 18 let: 294 300 Kč Celkové výdaje přepočítané na členy do 18 let: 2 024 100 Kč Účel čerpání dotace: Provozní náklady, mzdy trenérů, sportovní oblečení, vzdělávání a školení trenérů a rozhodčích, registrační poplatky/členské příspěvky, reprezentace klubu, organizace ligových turnajů, zápasů apod., sportovní tábory, kempy, soustředění a další sportovní pobyty, rehabilitační a rekondiční služby, sportovní prohlídky dětí a mládeže, drogistické zboží, kancelářské potřeby, materiální vybavení organizace, propagace klubu, hudební skladby, nahrávky a choreografie související s činností, úklidové služby | H29: 83 | I29: 13020 | J29: V termínu
A30: 27.
B31: CELKEM | E31: =SUM(E4:E30) -> 20032535 | F31: =SUM(F4:F30) -> 9091000 | H31: =SUM(H4:H30) -> 5617 | I31: =SUM(I4:I30) -> 957131.12

Sheet Program 1b
B1: DOTAČNÍ PROGRAM PRO OBLAST SPORTU A VOLNÉHO ČASU NA ROK 2026 - 1. KOLO | H1: ='Program 1a'!H1:J1 -> Příloha usnesení č. 0012/24/Z/2026
B2: Program 1b) Celoroční činnost sportovních a volnočasových organizací nezaměřených na výkonnostní sport | H2: Hodnotící kritérium č. 1 | I2: Hodnotící kritérium č. 2 | J2: Hodnotící kritérium č. 3
A3: číslo dotace | B3: Název žadatele o dotaci: | C3: Sídlo žadatele: IČO: Bankovní účet: | D3: Název projektu (dotace): | E3: Požadovaná výše dotace: (Kč) | F3: Doporučená výše dotace: (Kč) | G3: Obsah, zdůvodnění a popis projektu, termín konání projektu, místo konání projektu, rozpočet, účel čerpání dotace: | H3: Celkový počet členů do 18 let a 65+: | I3: Počet osobohodin členů do 18 let a 65+ za rok 2026: | J3: Podané vyúčtování za rok 2025
A4: 1. | B4: A23, z.s. | C4: Sídlo: Zvonková 3048/2, Záběhlice, 106 00 Praha 10 Působiště žadatele na Praze 11: KC Zahrada IČO: 70804818 Název banky: Fio banka Číslo účtu: 2700072653/ 2010 | D4: Celoroční činnost sportovních a volnočasových organizací nezaměřených na výkonnostní sport | E4: 210000 | F4: 55000 | G4: Termín čerpání dotace: od 1.1.2026 do 31.12.2026 Zdůvodnění žádosti o dotaci: Žádost podávána z důvodu rostoucích provozních nákladů, které výrazně zatěžují rozpočet spolku a z důvodu dostupnosti tanečních aktivit pro širokou veřejnost nechce spolek navyšovat členské příspěvky. Popis pravidelné celoroční činnosti: Rozvoj v oblasti uměleckého tance. Děti dochází každý týden na lekce. Hlavní cíl činnosti organizace: Umělecký nevýkonnostní tanec. Sportovní/volnočasové zaměření organizace: Sportovní zaměření. Přínos činnosti organizace pro MČ Praha 11 a pro obyvatele Prahy 11: Rozšíření nabídky pohybových aktivit pro seniory a zejména pro seniory 65+. Datum založení organizace: Od roku 1999 pod názvem Pop balet (z.s.) a od roku 2025 pod nynějším názvem A23, z.s. Délka působení organizace na Praze 11: od roku 2017, tj. 9 let. Dříve bez žádostí o dotaci od MČ Praha 11. Místo pravidelné činnosti na Praze 11: KC Zahrada, Malenická 1784/2, P11 Provozní výdaje přepočítané na členy do 18 let a 65+: 150 000 Kč Celkové výdaje přepočítané na členy do 18 let a 65+: 512 000 Kč Účel čerpání dotace: Provozní náklady, mzdy, sportovní oblečení pro členy organizace, vzdělávání a školení, registrační poplatky/členské příspěvky, reprezentace organizace, organizace sportovních akcí, turnajů a volnočasových aktivit apod., drogistické zboží, kancelářské potřeby, materiální vybavení organizace, propagace, hudební skladby, nahrávky a choreografie (související s činností organizace), úklidové služby. | H4: 64 | I4: 3390 | J4: Nový žadatel
A5: 2. | B5: Dům-jógy s.r.o. | C5: Sídlo: V Lipkách 768/49, Slivenec, Praha 5, 154 00 Působiště žadatele na Praze 11: Hráského 2231/25 IČO: 06624839 Název banky: ČSOB Bankovní účet: 282034021/ 0300 | D5: Celoroční činnost sportovních a volnočasových organizací nezaměřených na výkonnostní sport | E5: 100000 | F5: 55000 | G5: Termín čerpání dotace: od 1.1.2026 do 31.12.2026 Zdůvodnění žádosti o dotaci: Získání finanční i mediální podporu pro realizaci lekcí jógy pro seniory a osoby s různým zdravotním omezením, kteří žijí především na území Prahy 11. Popis pravidelné celoroční činnosti: Cvičení probíhá každou středu od 9-11 hodin, s výjimkou letních prázdnin. Hlavní cíl činnosti organizace: Zlepšení fyzické a duševní kondice seniorů 65+. Sportovní/volnočasové zaměření organizace: Zlepšení zdraví seniorů. Přínos činnosti organizace pro MČ Praha 11 a pro obyvatele Prahy 11: Rozšíření nabídky pohybových aktivit pro seniory a zejména pro seniory 65+. Datum založení organizace: 01.09.2013 Délka působení organizace na Praze 11: od roku 2013 Místo pravidelné činnosti na Praze 11: KC Zahrada, Malenická 1784/2, P11 Provozní výdaje přepočítané na členy do 18 let a 65+: 77 031 Kč Celkové výdaje přepočítané na členy do 18 let a 65+: 353 031 Kč Účel čerpání dotace: Provozní náklady, mzdy, sportovní oblečení pro členy organizace, vzdělávání a školení, registrační poplatky/členské příspěvky, reprezentace organizace, organizace sportovních akcí, turnajů a volnočasových aktivit apod., drogistické zboží, kancelářské potřeby, materiální vybavení organizace, propagace, hudební skladby, nahrávky a choreografie (související s činností organizace), úklidové služby. | H5: 40 | I5: 3055 | J5: V termínu
A6: 3. | B6: Eva Ondríková | C6: Sídlo: Tréglova 808/7, Hlubočepy, Praha 5, 152 00 Působiště žadatele na Praze 11: KC Zahrada IČO: 01377302 Název banky: Česká spořitelna Bankovní účet: 437659123/ 0800 | D6: Celoroční činnost sportovních a volnočasových organizací nezaměřených na výkonnostní sport | E6: 40000 | F6: 33000 | G6: Termín čerpání dotace: od 1.1.2026 do 31.12.2026 Zdůvodnění žádosti o dotaci: Opětovné navýšení nájmu a služeb v tělocvičně KC Zahrada. Popis pravidelné celoroční činnosti: Cvičení probíhá každou středu od 9-11 hodin, s výjimkou letních prázdnin. Hlavní cíl činnosti organizace: Zlepšení fyzické a duševní kondice seniorů 65+. Sportovní/volnočasové zaměření organizace: Zlepšení zdraví seniorů. Přínos činnosti organizace pro MČ Praha 11 a pro obyvatele Prahy 11: Rozšíření nabídky pohybových aktivit pro seniory a zejména pro seniory 65+. Datum založení organizace: 01.09.2013 Délka působení organizace na Praze 11: od roku 2013 Místo pravidelné činnosti na Praze 11: KC Zahrada, Malenická 1784/2, P11 Provozní výdaje přepočítané na členy do 18 let a 65+: 40 000 Kč Celkové výdaje přepočítané na členy do 18 let a 65+: 53 600 Kč Účel čerpání dotace: Provozní náklady, mzdy, sportovní oblečení pro členy organizace, vzdělávání a školení, registrační poplatky/členské příspěvky, reprezentace organizace, organizace sportovních akcí, turnajů a volnočasových aktivit apod., drogistické zboží, kancelářské potřeby, materiální vybavení organizace, propagace, hudební skladby, nahrávky a choreografie (související s činností organizace), úklidové služby. | H6: 25 | I6: 2000 | J6: V termínu
A7: 4. | B7: FUTURUM FAMILY a BENJAMINEK mateřská škola o.p.s. | C7: Sídlo: Hausmannova 3003/9, Praha 4, 143 00 IČO: 66000262 Název banky: Česká spořitelna Bankovní účet: 66281319/0800 | D7: Celoroční činnost sportovních a volnočasových organizací nezaměřených na výkonnostní sport | E7: 400000 | F7: 109000 | G7: Termín čerpání dotace: od 1.1.2026 do 31.12.2026 Zdůvodnění žádosti o dotaci: Své aktivity na Praze 11 provozují již 28 let. Hlavním posláním je zapojit do volnočasových aktivit a sportovního vyžití co největší počet obyvatel z Prahy 11. Popis pravidelné celoroční činnosti: Během celého roku probíhají od pondělí do pátku pravidelné kurzy a klienti si mohou vybrat dle svých časových možností, věku či zájmu z bohaté nabídky 23 kurzů, denně od 8 do 20 hodin. Pro děti do 3 let nabízí 8 pravidelných hodinových kurzů. Pro děti a mládež od 4 do 18 let nabízí 10 pravidelných hodinových kurzů. Pro seniory 65+ nabízí 5 kurzů. Cena za jednu lekci pro cvičení seniorů je 80 Kč a pro děti a mládež do 18 let 120 Kč. Hlavní cíl činnosti organizace: Cílem klubu je realizace aktivit pro děti, rodiny s dětmi, mládež a seniory - podporují jejich zdravý pohybový i smyslový vývoj, aktivně strávený společný čas, který již v raném období dítěte zakládá jeho pozitivní vztah ke sportu a k aktivně strávenému volnému času. Sportovní/volnočasové zaměření organizace: Volnočasové kurzy: 1.Pohybové programy cvičení rodičů s dětmi a fit batole od 9 měsíců do 3 let; 2.Fit program pro děti ve věku 3-7 let a pohybové hry v tělocvičně; 3.Gymnasticko-taneční přípravka; 4.Hi hop (street dance); 5. Hravá jóga; 6.Cvičení pro seniory a fyziopilátes. Přínos činnosti organizace pro MČ Praha 11 a pro obyvatele Prahy 11: Oslovení velkého počtu dětí, mládeže a seniorů na Praze 11 pro pohybové aktivity. Datum založení organizace: 1. 9. 1998. Délka působení organizace na Praze 11: 28 let. Místo pravidelné činnosti na Praze 11: Vejvanovského 1610, Praha 11; ZŠ Mikulova, ZŠ Ke Kateřinkám. Provozní výdaje přepočítané na členy do 18 let a 65+: 225 654 Kč Celkové výdaje přepočítané na členy do 18 let a 65+: 824 654 Kč Účel čerpání dotace: Provozní náklady, mzdy, sportovní oblečení pro členy organizace, vzdělávání a školení, registrační poplatky/členské příspěvky, reprezentace organizace, organizace sportovních akcí, turnajů a volnočasových aktivit apod., drogistické zboží, kancelářské potřeby, materiální vybavení organizace, propagace, hudební skladby, nahrávky a choreografie (související s činností organizace), úklidové služby. | H7: 175 | I7: 5451.4 | J7: V termínu
A8: 5. | B8: Háje - SOS, o.p.s. | C8: Sídlo: Zdiměřická 1454/30, Praha 4, 149 00 IČO: 26725461 Název banky: Česká spořitelna Bankovní účet: 83786319/ 0800 | D8: Celoroční činnost sportovních a volnočasových organizací nezaměřených na výkonnostní sport | E8: 100000 | F8: 77000 | G8: Termín čerpání dotace: od 1.1.2026 do 31.12.2026 Zdůvodnění žádosti o dotaci: Dlouhodobé zajištění kvalitní sportovní výchovy dětí předškolního věku, zejména ročníků 2018 a 2019. Klub je součástí širší fotbalové organizace FC Háje Jižní Město a jeho hlavní posláním je přiblížit dětem sport. Popis pravidelné celoroční činnosti: Háje - SOS funguje jako fotbalový klub zaměřený na nejmladší věkovou kategorii - děti ve věku 4-7 let. Jeho činnost je celoroční. Tréninky 2-3x týdně, soutěže přátelská utkání, letní i zimní program, spolupráce s rodiči, rozvoj sociálních dovedností. Hlavní cíl činnosti organizace: Vytvářet pozitivní vztah dětí ke sportu a pohybu již od útlého věku. Sportovní/volnočasové zaměření organizace: Fotbal a všeobecný pohybový rozvoj dětí. Přínos činnosti organizace pro MČ Praha 11 a pro obyvatele Prahy 11: Poskytuje dětem MČ možnost začít se pravidelně věnovat sportu. Posílení komunity a sousedských vztahů. Výchova k hodnotám jako je týmová spolupráce a respekt. Příležitost pro děti z různých socio-ekonomických skupin sportovat. Příprava dětí na budoucí aktivní účast v místní společnosti. Podpora a zviditelnění MČ Praha 11. Zajištění kvalitní infrastruktury pro místní děti. Datum založení organizace: 2002. Délka působení organizace na Praze 11: 24 let. Místo pravidelné činnosti na Praze 11: K Jezeru 2, hřiště a zázemí na ZŠ Schulhoffova Provozní výdaje přepočítané na členy do 18 let a 65+: 112 000 Kč. Celkové výdaje přepočítané na členy do 18 let a 65+: 540 400 Kč. Účel čerpání dotace: Provozní náklady, mzdy, sportovní oblečení pro členy organizace, vzdělávání a školení, registrační poplatky/členské příspěvky, reprezentace organizace, organizace sportovních akcí, turnajů a volnočasových aktivit apod., drogistické zboží, kancelářské potřeby+G5, materiální vybavení organizace, propagace, hudební skladby, nahrávky a choreografie (související s činností organizace), úklidové služby. | H8: 57 | I8: 7353 | J8: V termínu
A9: 6. | B9: KSK Praha, z.s. | C9: Sídlo: U modré školy 2337/1, Chodov, 149 00 Praha IČO: 26989603 Název banky: Fio banka, a.s. Číslo účtu: 2902292953/ 2010 | D9: Sportovní kroužek VOSA | E9: 18000 | F9: 5200 | G9: Termín čerpání dotace: od 1.1.2026 do 31.12.2026. Zdůvodnění žádosti o dotaci: Hlavním důvodem žádosti je potřeba modernizace a rozšíření materiálního vybavení. Popis pravidelné celoroční činnosti: Projekt je zaměřen na zajištění a rozvoj pravidelné sportovní činnosti pro děti a mládež z Prahy 11. Hlavní cíl činnosti organizace: Péče o pražskou mládež, zejména pak o mládež ze sídlišť v MČ Praha 11. Sportovní/volnočasové zaměření organizace: Volnočasové. Přínos činnosti organizace pro MČ Praha 11 a pro obyvatele Prahy 11: Rozšíření nabídky pohybových aktivit pro seniory a zejména pro seniory 65+. Datum založení organizace: 2005. Délka působení organizace na Praze 11: 21 let. Místo pravidelné činnosti na Praze 11: KCMT, U modré školy 2337/1, Praha 11. Provozní výdaje přepočítané na členy do 18 let a 65+: 0 Kč Celkové výdaje přepočítané na členy do 18 let a 65+: 20 000 Kč Účel čerpání dotace: Provozní náklady, mzdy, sportovní oblečení pro členy organizace, vzdělávání a školení, registrační poplatky/členské příspěvky, reprezentace organizace, organizace sportovních akcí, turnajů a volnočasových aktivit apod., drogistické zboží, kancelářské potřeby, materiální vybavení organizace, propagace, hudební skladby, nahrávky a choreografie (související s činností organizace), úklidové služby | H9: 5 | I9: 270 | J9: Nový žadatel
A10: 7. | B10: LUDUS MAGNUS, z.s. | C10: Sídlo: Stroupežnického 1720/3, Praha 5, 150 00 IČO: 03578151 Název banky: FIO banka Bankovní účet: 2000701199/ 2010 | D10: Sportovní kurzy při ZŠ na Praze 11 | E10: 100000 | F10: 78000 | G10: Termín čerpání dotace: od 1.1.2026 do 31.12.2026 Zdůvodnění žádosti o dotaci: Spolek přichází s moderním konceptem volnočasové sportovní činnosti intenzivní spoluprací se školskými zařízeními. Děti i jejich rodiče jsou snadnou formou informováni o nabídkách sportovních kroužků, které se konají přímo v jejich škole nebo v její blízkosti. Popis pravidelné celoroční činnosti: Provozují celoroční sportovní kurzy v Praze 11 ve dvou sportovních odvětvích - inline bruslení a gymnastika-všeobecná pohybová příprava. Cílem kurzu inline bruslení je seznámit děti s tímto sportem jako s populárním a stále se rozšiřujícím sportem. Cílem projektu "Gymnastiky pro děti" je všeobecný pohybový rozvod dětí. Hlavní cíl činnosti organizace: Vést kroužky zábavnou a herní formou a tím umožnit dětem zažívat radost ze sportovní činnosti. Zapojit do celoroční organizované sportovní činnosti, co nejvíce dětí, které žijí nebo chodí do školy na území Prahy 11. Naučit děti základů inline bruslení s důrazem na bezpečnost při výkonu tohoto sportu. Rozvíjet všeobecné pohybové dovednosti dětí v kroužcích gymnastiky. Vyhledávat malé talenty a nadšence a podporovat je v aktivní sportovní činnosti. Kroužky realizovat profesionálně. Sportovní/volnočasové zaměření organizace: Gymnastika pro děti, inline bruslení. Přínos činnosti organizace pro MČ Praha 11 a pro obyvatele Prahy 11: V roce 2025 předpokládáme na Praze 11 spolupráci se 7 školami. Celkem by se do projektu v r. 2025 mohou zapojit 300 dětí. Datum založení organizace: 21. 11. 2014. Délka působení organizace na Praze 11: od roku 2016. Místo pravidelné činnosti na Praze 11: ZŠ Donovalská, Ke Kateřinkám, Mikulova, Květňák, Milíčov, Mendelova, Klíček. Provozní výdaje přepočítané na členy do 18 let a 65+: 100 000 Kč Celkové výdaje přepočítané na členy do 18 let a 65+: 265 000 Kč Účel čerpání dotace: Provozní náklady, mzdy, sportovní oblečení pro členy organizace, vzdělávání a školení, registrační poplatky/členské příspěvky, reprezentace organizace, organizace sportovních akcí, turnajů a volnočasových aktivit apod., drogistické zboží, kancelářské potřeby, materiální vybavení organizace, propagace, hudební skladby, nahrávky a choreografie (související s činností organizace), úklidové služby. | H10: 226 | I10: 2376 | J10: Po termínu
A11: 8. | B11: OLYMP FLORBAL, z.s. | C11: Sídlo: Bulharská 996/20, Praha 10, 101 000 IČO: 26575418 Název banky: FIO banka Bankovní účet: 22235222/2010 | D11: Celoroční činnost sportovních a volnočasových organizací nezaměřených na výkonnostní sport | E11: 55000 | F11: 1000 | G11: Termín čerpání dotace: od 1.1.2026 do 31.12.2026 Zdůvodnění žádosti o dotaci: Díky podpoře MČ Praha 11 sníží náklady na provoz florbalových kroužků, zejména náklady na pronájem tělocvičen a hal. Popis pravidelné celoroční činnosti: Na florbalových kroužcích se děti mohou seznámit s daným sportem. Rovněž si na hodinách osvojí základy pohybových dovedností a florbalové techniky. Obsahem tréninků jsou základní pohybová průprava, atletické základy, základní a následně pokročilé florbalové dovednosti a hry. Hlavní cíl činnosti organizace: Usnadnit přístup dětí na florbalové kroužky na ZŠ Mikulova, Pošepného náměstí a K Milíčovu a zkvalitnit je. Sportovní/volnočasové zaměření organizace: florbalové kroužky. Přínos činnosti organizace pro MČ Praha 11 a pro obyvatele Prahy 11: Přilákat k pravidelnému sportování co nejvíce dětí z MČ Praha 11. Dětem se snaží předat sportovní návyky a vybudovat u nich kladný vztah ke sportu. Datum založení organizace: 10. 12. 2008. Délka působení organizace na Praze 11: 11 let. Místo pravidelné činnosti na Praze 11: ZŠ Mikulova, ZŠ Pošepného nám., ZŠ K Milíčovu, SH Mírového hnutí 2137 Provozní výdaje přepočítané na členy do 18 let a 65+: 43 000 Kč Celkové výdaje přepočítané na členy do 18 let a 65+: 110 000 Kč Účel čerpání dotace: Provozní náklady, mzdy, sportovní oblečení pro členy organizace, vzdělávání a školení, registrační poplatky/členské příspěvky, reprezentace organizace, organizace sportovních akcí, turnajů a volnočasových aktivit apod., drogistické zboží, kancelářské potřeby, materiální vybavení organizace, propagace, hudební skladby, nahrávky a choreografie (související s činností organizace), úklidové služby. | H11: 53 | I11: 1590 | J11: V termínu
A12: 9. | B12: Pionýr, z.s. - Pionýrská skupina Kraken M | C12: Sídlo: Mendelova 538/25, Praha 4, 149 00 IČO: 68402287 Název banky: FIO banka Bankovní účet: 2000901238/ 2010 | D12: Celoroční činnost sportovních a volnočasových organizací nezaměřených na výkonnostní sport | E12: 100000 | F12: 52000 | G12: Termín čerpání dotace: od 1.1.2026 do 31.12.2026 Zdůvodnění žádosti o dotaci: Snaha zajistit podporu pro pravidelné celoroční aktivity 4 oddílů sdružených v pionýrské skupině Kraken M, které se věnují sportu (interkrosu, in-line i lednímu rekreačnímu hokeji, turistice a táboření). Díky případné podpoře se snaží udržet členské příspěvky pro členy na dostupné výši, zejména pro děti a mládež i ze sociálně slabších rodin. Popis pravidelné celoroční činnosti: Oddíl interkrosu - 3x tréninky týdně v ZŠ Mendelova. Oddíl rekreačního hokeje 1x týdně na ledové ploše ve Vestci a v r. 2025 zajištění pronájmu v nové hale ICE ARENA na JM. Oddíl Bobříci turistika. Oddíl Božani víkendové akce. Hlavní cíl činnosti organizace: Pravidelná činnost všech oddílu sdružených v PS Kraken M. V rámci této činnosti se jim daří umožnit dětem zdravý pohyb během sportování, dále častější pobyt v přírodě, možnost vyzkoušet si méně přístupné sporty na soutěžní i nesoutěžní úrovni. Sportovní/volnočasové zaměření organizace: Sportovně - turistické, volnočasové. Přínos činnosti organizace pro MČ Praha 11 a pro obyvatele Prahy 11: Nevychovávají sice špičkové sportovce, ale snaží se, aby si děti mohly vyzkoušet zahrát různé druhy sportů, vyrazit na turistické či cyklistické výlety, na táboření ve stanu, apod. Datum založení organizace: 1.1.1997. Délka působení organizace na Praze 11: 28 let. Místo pravidelné činnosti na Praze 11: tělocvična v ZŠ Mendelova, tělocvična ZŠ Kupeckého. Provozní výdaje přepočítané na členy do 18 let a 65+: 113 600 Kč Celkové výdaje přepočítané na členy do 18 let a 65+: 525 000 Kč Účel čerpání dotace: Provozní náklady, mzdy, sportovní oblečení pro členy organizace, vzdělávání a školení, registrační poplatky/členské příspěvky, reprezentace organizace, organizace sportovních akcí, turnajů a volnočasových aktivit apod., drogistické zboží, kancelářské potřeby, materiální vybavení organizace, propagace, hudební skladby, nahrávky a choreografie (související s činností organizace), úklidové služby. | H12: 71 | I12: 2431 | J12: Po termínu
A13: 10. | B13: Pionýr, z.s. - 213. pionýrská skupina UFO | C13: Sídlo: Kryštofova 21/1013, 149 00 Praha 4, Háje IČO: 67982557 Název banky: Fio banka, a.s. Bankovní účet: 2001453721/2010 | D13: Celoroční činnost sportovních a volnočasových organizací nezaměřených na výkonnostní sport | E13: 10000 | F13: 10000 | G13: Termín čerpání dotace: od 1.1.2026 do 31.12.2026 Zdůvodnění žádosti o dotaci: Dostupnější možnost sportování - cykloturistika pro děti z nemajetných rodin. Popis pravidelné celoroční činnosti: Vyjížďky v okolí Jižního Města a blízkého okolí Prahy. Cykloturistické vyjížďky jsou doplněny o různé hry a sportovní aktivity. V zimním období využití tělocvičny ZŠ, případně sportovního areálu Jedenáctka a klubovny na Gymnáziu Jižní Město. Hlavní cíl činnosti organizace: Umožnění dětem ze všech sociálních skupin smysluplné trávní volného času a podpoření jejich vzdělávání a socializace. Sportovní/volnočasové zaměření organizace: Volnočasové. Přínos činnosti organizace pro MČ Praha 11 a pro obyvatele Prahy 11: Původní působení jako softbalový klub, nyní transformovaný na cykloturistický oddíl, který se věnuje zejména dětem z Prahy 11. Datum založení organizace: 1991. Délka působení organizace na Praze 11: od roku 1992 Místo pravidelné činnosti na Praze 11: Tererova 2135/17 (zejména zimní období), v ostatním čase převážně provozování cykloturistiky. Provozní výdaje přepočítané na členy do 18 let a 65+: 2 000 Kč Celkové výdaje přepočítané na členy do 18 let a 65+: 41 000 Kč Účel čerpání dotace: Provozní náklady, mzdy, sportovní oblečení pro členy organizace, vzdělávání a školení, registrační poplatky/členské příspěvky, reprezentace organizace, organizace sportovních akcí, turnajů a volnočasových aktivit apod., drogistické zboží, kancelářské potřeby, materiální vybavení organizace, propagace, hudební skladby, nahrávky a choreografie (související s činností organizace), úklidové služby. | H13: 19 | I13: 1406 | J13: V termínu
A14: 11. | B14: POCTA - První osobní cyklistická talentová akademie, z.s. | C14: Sídlo: Cuřínova 588/10, Praha 4, 142 00 Působiště žadatele na Praze 11: ZŠ K Milíčovu ZŠ Mendelova ZŠ Mikulova ZŠ Campanus IČO: 04487818 Název banky: Raiffeisenbank Bankovní účet: 530175/5500 | D14: Celoroční činnost sportovních a volnočasových organizací nezaměřených na výkonnostní sport | E14: 160000 | F14: 0 | G14: Termín čerpání dotace: od 1.1.2026 do 31.12.2026 Zdůvodnění žádosti o dotaci: podpora cyklistického klubu na Jižním Městě. Popis pravidelné celoroční činnosti: Jízda na kole - každá kategorie nacvičuje jiné dovednosti. Dále se věnují i dalším sportům, plavání atd. Hlavní cíl činnosti organizace: jejich cílem je nabídnout sport všem. Sportovní/volnočasové zaměření organizace: Jedná se o všestranný kroužek, ale hlavním zaměřením je cyklistika a plavání. Přínos činnosti organizace pro MČ Praha 11 a pro obyvatele Prahy 11: Postupný nárůst zájmu dětí o sport. Pomoc v rámci sociální odpovědnosti a podpory sportu u dětí. Datum založení organizace: 15. 10. 2015. Délka působení organizace na Praze 11: 8 let. Místo pravidelné činnosti na Praze 11: ZŠ K Milíčovu, ZŠ Mendelova, ZŠ Mikulova Provozní výdaje přepočítané na členy do 18 let a 65+: 51 600 Kč Celkové výdaje přepočítané na členy do 18 let a 65+: 301 600 Kč Účel čerpání dotace: Provozní náklady, mzdy, sportovní oblečení pro členy organizace, vzdělávání a školení, registrační poplatky/členské příspěvky, reprezentace organizace, organizace sportovních akcí, turnajů a volnočasových aktivit apod., drogistické zboží, kancelářské potřeby, materiální vybavení organizace, propagace, hudební skladby, nahrávky a choreografie (související s činností organizace), úklidové služby. | H14: 42 | I14: 2709 | J14: V termínu
A15: 12. | B15: PRAŽSKÝ ROHOVNÍK z.s. | C15: Sídlo: Šmeralova 198/25, Praha 7, 170 00 IČO: 26597489 Název banky: Česká spořitelna Bankovní účet: 146376369/ 0800 | D15: Celoroční činnost sportovních a volnočasových organizací nezaměřených na výkonnostní sport | E15: 150000 | F15: 150000 | G15: Termín čerpání dotace: od 1.1.2026 do 31.12.2026 Zdůvodnění žádosti o dotaci: Žádost je podávána z důvodu vysokých nákladů na provoz tělocvičny, zejména energií. Část dotace použijí na samotnou sportovní činnost, soustředění pro děti a mládež a nákup sportovního vybavení. Popis pravidelné celoroční činnosti: Zabezpečení sportovních aktivit dětí a mládeže. Provoz sportovního zařízení v dlouhodobém nájmu. Sportovní soustředění na horách a víkendové kempy pro děti a mládež. Spáringy středočeské oblasti boxu. Startovné na zápasech, cestovné a náklady na ubytování s tím spojené, stravování. Hlavní cíl činnosti organizace: Sportovní činnost. Sportovní/volnočasové zaměření organizace: Box. Přínos činnosti organizace pro MČ Praha 11 a pro obyvatele Prahy 11: Prevence kriminality, sportovní vyžití, radost z pohybu, socializace dětí a mládeže, zlepšení fyzické kondice a fyzického zdraví, psychiky dětí. Datum založení organizace: 21.6.2020 Délka působení organizace na Praze 11: 16 let. Místo pravidelné činnosti na Praze 11: Opatovská 1754/14, Praha 11. Provozní výdaje přepočítané na členy do 18 let a 65+: 522 000 Kč Celkové výdaje přepočítané na členy do 18 let a 65+: 1 104 600 Kč Účel čerpání dotace: Provozní náklady, mzdy, sportovní oblečení pro členy organizace, vzdělávání a školení, registrační poplatky/členské příspěvky, reprezentace organizace, organizace sportovních akcí, turnajů a volnočasových aktivit apod., drogistické zboží, kancelářské potřeby, materiální vybavení organizace, propagace, hudební skladby, nahrávky a choreografie (související s činností organizace), úklidové služby. | H15: 119 | I15: 30270 | J15: V termínu
... A23: 20. | B23: Tenisová škola TALLENT s.r.o. | C23: Sídlo: Opatovická 160/18, Praha 1, 110 00 IČO: 25663437 Název banky: ČSOB Bankovní účet: 1800232103/ 0300 | D23: Celoroční činnost sportovních a volnočasových organizací nezaměřených na výkonnostní sport: Pravidelné kroužky tenisu, popularizace tenisu a turnaje pro neregistrované děti a mládež z Prahy 11 | E23: 64000 | F23: 32000 | G23: Termín čerpání dotace: od 1.1.2026 do 31.12.2026 Zdůvodnění žádosti o dotaci: Dotace je žádána na podporu zájmu o sport, protože dnešní děti mají velmi málo pohybu. Tím je narušen jejich přirozený vývoj a již ve velmi nízkém věku se i díky tomu potýkají s řadou zdravotních problémů. Rádi by tyto děti rozhýbali a přivedli je ke sportu zpět a že se nemusí soustředit jen na výkon. Děti se s tenisem seznámí na ukázkových hodinách případně prostřednictvím informačních materiálů, které opakovaně dětem s pomocí škol předáváme. Díky tomuto projektu se tak s tenisem setkají všechny děti MŠ a ZŠ na Praze 11. Popis pravidelné celoroční činnosti: Výuce tenisu dětí se věnují od roku 1998. Hlavní činností je zajistit dětem a mládeži pravidelný tenisový kroužek v průběhu školního roku. Dále pro neregistrované děti 4x ročně pořádáme tenisový turnaj. Hlavní cíl činnosti organizace: Přivádět mladou generaci zpět ke sportu. Tenis propagovat a poukazovat tak, že sportování je přirozenou součástí života. Sportovní/volnočasové zaměření organizace: Tenisový kroužek, popularizace tenisu mezi dětmi a mládeží a turnaje pro neregistrované hráče. Přínos činnosti organizace pro MČ Praha 11 a pro obyvatele Prahy 11: Hlavním přínosem je zajištění tréninku v docházkové vzdálenosti dětí. Datum založení organizace: rok 1998. Délka působení organizace na Praze 11: 28 let od založení organizace. Místo pravidelné činnosti na Praze 11: ZŠ K Milíčovu, K Milíčovu 674/1. Provozní výdaje přepočítané na členy do 18 let a 65+: 85 000 Kč Celkové výdaje přepočítané na členy do 18 let a 65+: 221 000 Kč Účel čerpání dotace: Provozní náklady, mzdy, sportovní oblečení pro členy organizace, vzdělávání a školení, registrační poplatky/členské příspěvky, reprezentace organizace, organizace sportovních akcí, turnajů a volnočasových aktivit apod., drogistické zboží, kancelářské potřeby, materiální vybavení organizace, propagace, hudební skladby, nahrávky a choreografie (související s činností organizace), úklidové služby. | H23: 30 | I23: 810 | J23: V termínu
B25: CELKEM | E25: =SUM(E4:E24) -> 2999100 | F25: =SUM(F4:F24) -> 1247200 | H25: =SUM(H4:H24) -> 1561 | I25: =SUM(I4:I24) -> 108267.4

Sheet Program 2a
B1: DOTAČNÍ PROGRAM PRO OBLAST SPORTU A VOLNÉHO ČASU NA ROK 2026 - 1. KOLO | H1: ='Program 1a'!H1:J1 -> Příloha usnesení č. 0012/24/Z/2026
B2: Program 2a) Jednorázové sportovní akce konané na území MČ Praha 11 | H2: Hodnotící kritérium č. 1 | I2: Hodnotící kritérium č. 2
A3: číslo dotace | B3: Název žadatele o dotaci: | C3: Sídlo žadatele: IČO: Bankovní účet: | D3: Název projektu (dotace): | E3: Požadovaná výše dotace: (Kč) | F3: Doporučená výše dotace: (Kč) | G3: Obsah, zdůvodnění a popis projektu, termín konání projektu, místo konání projektu, účel čerpání dotace, předpokládané výdaje na projekt: | H3: Předpokládaný počet účastníků projektu do 18 let, 65+, zdravotně znevýhodněných | I3: Podané vyúčtování za rok 2025
A4: 1. | B4: Aliance dětského plavání z.s. | C4: Sídlo: José Martího 269/31, Praha 6, 162 52 IČO: 70945331 Název banky: Fio Banka, a.s. Bankovní účet: 2502174835/ 2010 | D4: Plavecké závody dětí z klubů Aliance dětského plavání 2026 | E4: 54070 | F4: 11000 | G4: Termín čerpání dotace: od 1.1.2026 do 30.6.2026 Zdůvodnění žádosti o dotaci: získat finanční příspěvek na organizaci akce Cíl projektu: nabídnout dětem zazávodit si v přátelské atmosféře, akce má volnočasový charakter Popis projektu: Jedná se o organizaci závodů pro děti navštěvující kurzy plavání (14 klubů sdružených v Alianci dětského plavání). Tréninky jsou 1x týdně, cílem je naučit děti různé plavecké techniky - nejedná se ale o závodní plavce! Projekt probíhá od roku 2015 v plaveckém areálu Jedenáctka VS. Přínos projektu pro MČ Praha 11: medializace Plaveckého bazénu 11 VS, podpora sportovních aktivit dětí a mládeže ročníků narození 2016 - 2019 Historie konání projektu na Praze 11: pravidelné konání Výše vstupného pro závodníky: 240 Kč Výše vstupného pro diváky: zdarma Projekt je určen široké veřejnosti závodníků: NE - přihlášeným závodníkům z Aliance Projekt je určen široké veřejnosti diváků: NE Místo konání projektu: Plavecký bazén 11 VS Termín konání projektu: 16.5.2026 (9-12 hod.) Projekt bude realizován za podmínek: i bez přidělení dotace Celkové předpokládané výdaje na projekt: 78 170 Kč Celkový počet účastníků projektu: 112 Účel čerpání dotace: Provozní náklady k organizaci akce, honoráře a mzdy organizátorů, rozhodčích, spolupracovníků, materiál související s uspořádáním akce, ceny a odměny, organizační a technické zajištění akce, reklama a propagace akce, kancelářské a papírenské potřeby, platba za služby v rámci akce, doprava, drogistické zboží, ostatní výdaje bezprostředně související s organizací a přípravou akce | H4: 112 | I4: Nový žadatel
A5: 2. | B5: Atletika Jižní Město z.s. | C5: Sídlo: Stříbrského 681/18, Praha 4, 149 00 IČO: 04277406 Název banky: Fio banka Bankovní účet: 2600888313/ 2010 | D5: Jarní běhání - 15. ročník | E5: 50000 | F5: 43000 | G5: Termín čerpání dotace: od 1.1.2026 do 30.6.2026 Zdůvodnění žádosti o dotaci: podpora akce pro veřejnost, rostoucí počet účastníků akce z řad dětí a mládeže Cíl projektu: propagace a rozvoj běhání, atletiky, zdravého životního stylu, podpora amatérského běhání Popis projektu: sportovní akce je součástí Poháru Pražských běžeckých nadějí Přínos projektu pro MČ Praha 11: propagace sportu na Jižním Městě, zvýšení zájmu o běhání Historie konání projektu na Praze 11: pravidelná organizace akce Výše vstupného pro závodníky: 50 Kč Výše vstupného pro diváky: zdarma Projekt je určen široké veřejnosti závodníků: ANO Projekt je určen široké veřejnosti diváků: ANO Místo konání projektu: Sportovní areál Hrabákova + okolí Termín konání projektu: 5.4.2026, 8 - 14 hod. Projekt bude realizován za podmínek: i bez přidělení dotace Celkové předpokládané výdaje na projekt: 72 500 Kč Celkový počet účastníků projektu: 400 Účel čerpání dotace: Provozní náklady k organizaci akce, honoráře a mzdy organizátorů, rozhodčích, spolupracovníků, materiál související s uspořádáním akce, ceny a odměny, organizační a technické zajištění akce, reklama a propagace akce, kancelářské a papírenské potřeby, platba za služby v rámci akce, doprava, drogistické zboží, ostatní výdaje bezprostředně související s organizací a přípravou akce | H5: 370 | I5: V termínu
A6: 3. | B6: Beachvolejbalová škola Praha z.s. | C6: Sídlo: Novodvorská 1062/12, Praha 4, Lhotka 142 00 IČO: 22757147 Název banky: Komerční banka Bankovní účet: 107-1694630297/ 0100 | D6: Organizace Halového Mistrovství ČR (únor 2026) a turnajů pražské Beach Ligy U8 - U20 sezóny 1.1.2026 - 30.6.2026 | E6: 126000 | F6: 44000 | G6: Termín čerpání dotace: od 1.1.2026 do 30.6.2026 Zdůvodnění žádosti o dotaci: snížení nákladů na organizaci turnajů Cíl projektu: organizace vrcholných turnajů v areálu ZŠ Mikulova Popis projektu: V rámci projektu proběhne Mistrovství ČR v beachvolejbalu U16 - ženy/muži. Dále kvalifikační turnaje Pražské Beach Ligy U8 - U20 a hlavní turnajový den ABV ligy a Českého poháru. Přínos projektu pro MČ Praha 11: rozšíření povědomí o dětském vrcholovém beachvolejbalu na územé Prahy 11 Historie konání projektu na Praze 11: projekt se již několikrát konal na území Prahy 11 Výše vstupného pro závodníky: 1 100 - 1 800 Kč (dle turnaje) Výše vstupného pro diváky: zdarma Projekt je určen široké veřejnosti závodníků: NE - omezenému okruhu závodníků Projekt je určen široké veřejnosti diváků: ANO Místo konání projektu: Areál ZŠ Mikulova Termín konání projektu: 28.2.-1.3.2026 /1.1.-30.6.2026 Projekt bude realizován za podmínek: i bez přidělení dotace Celkové předpokládané výdaje na projekt: 426 900 Kč Celkový počet účastníků projektu: 930 Účel čerpání dotace: Provozní náklady k organizaci akce, honoráře a mzdy organizátorů, rozhodčích, spolupracovníků, materiál související s uspořádáním akce, ceny a odměny, organizační a technické zajištění akce, reklama a propagace akce, kancelářské a papírenské potřeby, platba za služby v rámci akce, doprava, drogistické zboží, ostatní výdaje bezprostředně související s organizací a přípravou akce | H6: 930 | I6: V termínu
A7: 4. | B7: Česká asociace squashe, z.s. | C7: Sídlo: Zátopkova 100/2, Praha 6, 169 00 IČO: 48132217 Název banky: Komerční banka, a.s. Bankovní účet: 107-2923330277 /0100 | D7: Mistrovství Evropy juniorů do 15 a 17 let ve squashi 2026 | E7: 200000 | F7: 8400 | G7: Termín čerpání dotace: od 1.1.2026 do 30.6.2026 Zdůvodnění žádosti o dotaci: příspěvek na zajištění špičkové sportovní akce Cíl projektu: umožnit českým reprezentantům bojovat o evropské medaile v domácím prostředí Popis projektu: soutěž smíšených dvojic, účastní se 19 týmů do 15 let a 17 týmů do 17 let z celkem 22 zemí Přínos projektu pro MČ Praha 11: zviditelnění MČ Praha 11 jako místa vhodného pro pořádání sportovních akcí Historie konání projektu na Praze 11: poprvé na Praze 11 Výše vstupného pro závodníky: 5 025 - 6 700 Kč za tým Výše vstupného pro diváky: zdarma Projekt je určen široké veřejnosti závodníků: NE - určeno pro reprezentanty účastnících se zemí Projekt je určen široké veřejnosti diváků: ANO Místo konání projektu: Squash Bowling Centrum, K Horkám 2284/1 Termín konání projektu: 7.-10.5.2026 Projekt bude realizován za podmínek: i bez přidělení dotace Celkové předpokládané výdaje na projekt: 3 031 000 Kč Celkový počet účastníků projektu: 161 Účel čerpání dotace: Provozní náklady k organizaci akce, honoráře a mzdy organizátorů, rozhodčích, spolupracovníků, materiál související s uspořádáním akce, ceny a odměny, organizační a technické zajištění akce, reklama a propagace akce, kancelářské a papírenské potřeby, platba za služby v rámci akce, doprava, drogistické zboží, ostatní výdaje bezprostředně související s organizací a přípravou akce | H7: 161 | I7: Nežádali
A8: 5. | B8: Český florbal | C8: Sídlo: Lomnického 1705/5, Praha 4, 140 00 IČO: 61387991 Název banky: Komerční banka Bankovní účet: 7411730237/ 0100 | D8: Národní finále florbalového poháru pro 1. stupeň ZŠ - ČEPS CUP | E8: 90000 | F8: 35000 | G8: Termín čerpání dotace: od 1.1.2026 do 30.6.2026 Zdůvodnění žádosti o dotaci: příspěvek na zajištění kvalitní organizace národního finále celorepublikového projektu pro děti 1 . stupně ZŠ Cíl projektu: motivovat co nejširší skupinu dětí k pravidelnému pohybu a sportování Popis projektu: do národního finále postoupilo 32 týmů (16 dívčích a 16 chlapeckých) z okresních a krajských kol, organizován dvoudenní turnaj Přínos projektu pro MČ Praha 11: zviditelnění MČ Praha 11 jako místa vhodného pro pořádání sportovních akcí celonárodního významu Historie konání projektu na Praze 11: každoročně Výše vstupného pro závodníky: zdarma Výše vstupného pro diváky: zdarma Projekt je určen široké veřejnosti závodníků: NE - určeno pro týmy zapojené do ČEPS CUP Projekt je určen široké veřejnosti diváků: ANO Místo konání projektu: SH Jedenáctka VS Termín konání projektu: 9.-10.4.2026, 8:00 - 15:00 Projekt bude realizován za podmínek: i bez přidělení dotace Celkové předpokládané výdaje na projekt: 136 900 Kč Celkový počet účastníků projektu: 320 Účel čerpání dotace: Provozní náklady k organizaci akce, honoráře a mzdy organizátorů, rozhodčích, spolupracovníků, materiál související s uspořádáním akce, ceny a odměny, organizační a technické zajištění akce, reklama a propagace akce, kancelářské a papírenské potřeby, platba za služby v rámci akce, doprava, drogistické zboží, ostatní výdaje bezprostředně související s organizací a přípravou akce | H8: 320 | I8: Nový žadatel
A9: 6. | B9: Český kynologický svaz ZKO Praha 4 - Jižní Město - 246 | C9: Sídlo: Ke Cvičišti 950/10, Praha 4, 149 00 IČO: 62934562 Název banky: Česká spořitelna Bankovní účet: 72413349/ 0800 | D9: Letní závod Jižního Města 2026 | E9: 8000 | F9: 6300 | G9: Termín čerpání dotace: od 1.1.2026 do 30.6.2026 Zdůvodnění žádosti o dotaci: organizace závodu pro členy Českého kynologického svazu i pro veřejnost Cíl projektu: zaujmout veřejnost pro kynologický sport - výchova a výcvik Popis projektu: akce bude určena pro absolventy kurzů a pro členy klubu sportovní kynologie a proběhne podle platného Národního a Mezinárodního řádu FCI Přínos projektu pro MČ Praha 11: projekt šíří osvětu výchovy a výcviku psů Historie konání projektu na Praze 11: pravidelná organizace projektu Výše vstupného pro závodníky: zdarma Výše vstupného pro diváky: zdarma Projekt je určen široké veřejnosti závodníků: NE - členové a účastníci kurzů Projekt je určen široké veřejnosti diváků: NE Místo konání projektu: kynologické cvičiště , Ke Cvičišti 950, Praha 11 Termín konání projektu: červen 2026, 9 - 16 hod. Projekt bude realizován za podmínek: i bez přidělení dotace Celkové předpokládané výdaje na projekt: 10 000 Kč Celkový počet účastníků projektu: 26 Účel čerpání dotace: Provozní náklady k organizaci akce, honoráře a mzdy organizátorů, rozhodčích, spolupracovníků, materiál související s uspořádáním akce, ceny a odměny, organizační a technické zajištění akce, reklama a propagace akce, kancelářské a papírenské potřeby, platba za služby v rámci akce, doprava, drogistické zboží, ostatní výdaje bezprostředně související s organizací a přípravou akce | H9: 14 | I9: V termínu
A10: 7. | B10: Český svaz curlingu z.s. | C10: Sídlo: Zátopkova 100/2, Praha 6, 169 00 IČO: 48548227 Název banky: Moneta Money Bank a.s. Bankovní účet: 1730109504/ 0600 | D10: Mezinárodní curlingový turnaj Prague Circles 2026 - finálový turnaj série evropských juniorských turnajů CJCT | E10: 22000 | F10: 13000 | G10: Termín čerpání dotace: od 1.1.2026 do 30.6.2026 Zdůvodnění žádosti o dotaci: zajištění finančních prostředků na organizaci turnaje Cíl projektu: zprostředkovat českým žákovským a juniorským týmům kvalitní turnaj s účastí zahraničních hráčů Popis projektu: cílovou skupinou projektu jsou děti a mládež 10 - 21 let. Turnaje se zúčastní celkem 18 týmů z celého světa. Přínos projektu pro MČ Praha 11: prezentace curlingu a Prahy 11 Historie konání projektu na Praze 11: pravidelné Výše vstupného pro závodníky: 250 EUR/ tým Výše vstupného pro diváky: zdarma Projekt je určen široké veřejnosti závodníků: ANO Projekt je určen široké veřejnosti diváků: ANO Místo konání projektu: Curling Aréna, Komárkova 12, Praha 11 Termín konání projektu: 20.-22.3.2026 Projekt bude realizován za podmínek: i bez přidělení dotace Celkové předpokládané výdaje na projekt: 122 000 Kč Celkový počet účastníků projektu: 70 Účel čerpání dotace: Provozní náklady k organizaci akce, honoráře a mzdy organizátorů, rozhodčích, spolupracovníků, materiál související s uspořádáním akce, ceny a odměny, organizační a technické zajištění akce, reklama a propagace akce, kancelářské a papírenské potřeby, platba za služby v rámci akce, doprava, drogistické zboží, ostatní výdaje bezprostředně související s organizací a přípravou akce | H10: 50 | I10: V termínu
A11: 8. | B11: FLORBAL CHODOV z.s. | C11: Sídlo: Komárkova 2265/1, Praha 4, 148 00 IČO: 04104200 Název banky: Komerční banka Bankovní účet: 115 - 518190267/ 0100 | D11: Czech Floorball Champ - CFC 2026 | E11: 200000 | F11: 69000 | G11: Termín čerpání dotace: od 1.1.2026 do 30.6.2026 Zdůvodnění žádosti o dotaci: finanční pomoc s pořádáním florbalového turnaje pro týmy z celé České republiky Cíl projektu: Uspořádání turnaje pro mladé sportovce k ukončení sezóny 2025/2026. O turnaj je mezi hráči velký zájem. Popis projektu: Třídenní turnaj je prioritně zaměřen na dívčí florbal (elévky - starší žákyně) a chlapecké kategorie mladších žáků a dále pro děti navštěvující florbalové kroužky. Turnaj je vrcholem celoroční sportovní aktivity na základních školách. Akce bude určena pro děti a mládež ve věku 8 - 16 let z celé České republiky. Přínos projektu pro MČ Praha 11: zviditelnění MČ Praha 11, ekonomické aspekty pro MČ (ubytování, stravování účastníků) Historie konání projektu na Praze 11: pravidelná organizace na Praze 11 Výše vstupného pro závodníky: 4 500 Kč/tým Výše vstupného pro diváky: zdarma Projekt je určen široké veřejnosti závodníků: ANO Projekt je určen široké veřejnosti diváků: ANO Místo konání projektu: SH Jižní Město, SH Jedenáctka VS, Termín konání projektu: 8.-10.5.2026 a 22.-24.5.2026 Projekt bude realizován za podmínek: i bez přidělení dotace Celkové předpokládané výdaje na projekt: 378 800 Kč Celkový počet účastníků projektu: 450 Účel čerpání dotace: Provozní náklady k organizaci akce, honoráře a mzdy organizátorů, rozhodčích, spolupracovníků, materiál související s uspořádáním akce, ceny a odměny, organizační a technické zajištění akce, reklama a propagace akce, kancelářské a papírenské potřeby, platba za služby v rámci akce, doprava, drogistické zboží, ostatní výdaje bezprostředně související s organizací a přípravou akce | H11: 450 | I11: po termínu
A12: 9. | B12: Gabriela Haisová | C12: Sídlo: Na vrstvách 970/23b, Praha 4, 140 00 IČO: 42529247 Název banky: Moneta Money bank Bankovní účet: 156495927/0600 | D12: Black Cup - Mezinárodní soutěž v akrobatickém rock´n´rollu a Mistrovství ČR v kategorii MCCS a žáci | E12: 101000 | F12: 30900 | G12: Termín čerpání dotace: od 1.1.2026 do 30.6.2026 Zdůvodnění žádosti o dotaci: Jedná se o organizaci největší mezinárodní soutěže v akrobatickém rock´n´rollu, což je velice prestižní záležitost pro Pahu 11. Vrcholná sportovní akce počítá s účastí zahraničních sportovců, což znamená zviditelnění Prahy 11. Organizace akce je velice finančně nákladná. Cíl projektu: Rozvoj akrobatického rock´n´rollu jako sportovní a umělecké disciplíny. Soutěž motivuje k lepším výsledkům, ke zlepšení fyzické kondice, rozvoji kreativity v tvorbě choreografií. Projekt zároveň podpoří a namotivuje mladé talenty, pro které je účast důležitá pro další sportovní rozvoj. Projekt dále podporuje pozitivní hodnoty a aktivní způsob života. Popis projektu: Soutěž se zaměřuje na prezentaci technicky náročných choreografií (kombinace dynamického tance, akrobatických prvků, hudební interpretace). Soutěž probíhá podle mezinárodních pravidel a hodnotí se zejména technika provedení, obtížnost prvků, synchronizace, výraz, celkový umělecký dojem atd. Historie konání projektu na Praze 11: Pravidelné působení na Praze 11 (11. ročníků). 3 ročníky mimo Prahu 11. Výše vstupného pro závodníky: 300 Kč Výše vstupného pro diváky: 300 Kč, zdarma Projekt je určen široké veřejnosti závodníků: ANO Projekt je určen široké veřejnosti diváků: ANO Místo konání projektu: SH Jižní Město Termín konání projektu: 20.6.2026 (9:30 - 21:30 hod.) Projekt bude realizován za podmínek: i bez přidělení dotace Celkové předpokládané výdaje na projekt: 246 000 Kč Celkový počet účastníků projektu: 670 Účel čerpání dotace: Provozní náklady k organizaci akce, honoráře a mzdy organizátorů, rozhodčích, spolupracovníků, materiál související s uspořádáním akce, ceny a odměny, organizační a technické zajištění akce, reklama a propagace akce, kancelářské a papírenské potřeby, platba za služby v rámci akce, doprava, drogistické zboží, ostatní výdaje bezprostředně související s organizací a přípravou akce | H12: 570 | I12: Nový žadatel
A13: 10. | B13: Judo club Kidsport, z.s. | C13: Sídlo: U Záběhlického zámku 57/2a, Záběhlice, Praha 10, 106 00 IČO: 22899596 Název banky: Fio Banka Bankovní účet: 2002234934/ 2010 | D13: Essimo Cup | E13: 100000 | F13: 26000 | G13: Termín čerpání dotace: od 1.1.2026 do 30.6.2026 Zdůvodnění žádosti o dotaci: Finanční pomoc s pořádáním turnaje, podpora sportovní aktivity, rozvoj komunity, podpora zásad fair play. Cíl projektu: Cílem je poskytnout dětem ve věku od 6 let příležitost vyzkoušet si závodní atmosféru a podpořit jejich zájem o judo, součástí akce je propagace hodnot fair-play, důraz je kladen na pozitivní atmosféru. Popis projektu: Turnaj bude určen převážně pro děti od 6 let, od začátečníků až po různě dosažené sportovní úrovně, včetně dětí, které mají již zkušenosti se závodním judem. Turnaj motivuje děti v rozvoji sportovních dovedností, k osobnímu růstu, ale i k přijetí neúspěchu, prohry. Historie konání projektu na Praze 11: pravidelné působení Výše vstupného pro závodníky: 300 Kč Výše vstupného pro diváky: zdarma Projekt je určen široké veřejnosti závodníků: ANO Projekt je určen široké veřejnosti diváků: ANO Místo konání projektu: ZŠ K Milíčovu Termín konání projektu: 8.3., 19.4.2026 (9-12 hod.) Projekt bude realizován za podmínek: i bez přidělení dotace Celkové předpokládané výdaje na projekt: 291 100 Kč Celkový počet účastníků projektu: 130 Účel čerpání dotace: Provozní náklady k organizaci akce, honoráře a mzdy organizátorů, rozhodčích, spolupracovníků, materiál související s uspořádáním akce, ceny a odměny, organizační a technické zajištění akce, reklama a propagace akce, kancelářské a papírenské potřeby, platba za služby v rámci akce, doprava, drogistické zboží, ostatní výdaje bezprostředně související s organizací a přípravou akce | H13: 130 | I13: po termínu
A14: 11. | B14: Klub přátel školy, z.s. | C14: Sídlo: Ke Kateřinkám 1400, Praha 4, 149 00 IČO: 49278339 Název banky: Fio Banka Bankovní účet: 2201399256/ 2010 | D14: Sportovní závod rodinných týmů | E14: 40000 | F14: 12000 | G14: Termín čerpání dotace: od 1.1.2026 do 30.6.2026 Zdůvodnění žádosti o dotaci: finanční podpora tradiční akce většího rozsahu Cíl projektu: aktivní využití volného času dětí a rodičů, rovoj spolupráce školy s rodinou, oslava MDD Popis projektu: závod smíšených družstev v netradičních sport. disciplínách (např. dětí a rodičů, prarodičů, sourozenců, kamarádů apod.) Přínos projektu pro MČ Praha 11: neformální seznámení se školou Historie konání projektu na Praze 11: pravidlené konání akce Výše vstupného pro závodníky: zdarma Výše vstupného pro diváky: zdarma Projekt je určen široké veřejnosti závodníků: ANO Projekt je určen široké veřejnosti diváků: ANO Místo konání projektu: Sportovní areál Ke Kateřinkám Termín konání projektu: 2.6.2026, 16-19 hod. Projekt bude realizován za podmínek: i bez přidělení dotace Celkové předpokládané výdaje na projekt: 52 000 Kč Celkový počet účastníků projektu: 450 Účel čerpání dotace: Provozní náklady k organizaci akce, honoráře a mzdy organizátorů, rozhodčích, spolupracovníků, materiál související s uspořádáním akce, ceny a odměny, organizační a technické zajištění akce, reklama a propagace akce, kancelářské a papírenské potřeby, platba za služby v rámci akce, doprava, drogistické zboží, ostatní výdaje bezprostředně související s organizací a přípravou akce | H14: 350 | I14: nežádali v roce 2025
A15: 12. | B15: Pionýr, z.s. - 213. Pionýrská skupina UFO | C15: Sídlo: Kryštofova 21/1013, Praha 4, 149 00 IČO: 67982557 Název banky: FIO banka Bankovní účet: 2001453721/ 2010 | D15: Jarní cyklokros 2026 | E15: 10000 | F15: 10000 | G15: Termín čerpání dotace: od 1.1.2026 do 30.6.2026 Zdůvodnění žádosti o dotaci: finanční podpora akce, využití možnosti spolufinancování z dotačního programu Cíl projektu: umožnit dětem a mládeži z Jižního Města strávit přijemné jarní odpoledne v duchu rekreačních cyklistických závodů Popis projektu: pro děti do 18 let a dospělí v kategorii rodinná štafeta, 5 věkových kategorií a dle pohlaví, projetí vyznačené tratě na čas Přínos projektu pro MČ Praha 11: výsledky zveřejněny v časopise Klíč Historie konání projektu na Praze 11: opakovaně Výše vstupného pro závodníky: 30 Kč Výše vstupného pro diváky: zdarma Projekt je určen široké veřejnosti závodníků: ANO Projekt je určen široké veřejnosti diváků: ANO Místo konání projektu: Centrální park Opatov Termín konání projektu: 20.5.2026 Projekt bude realizován za podmínek: minimálně požadují 7 500 Kč Celkové předpokládané výdaje na projekt: 15 000 Kč Celkový počet účastníků projektu: 70 Účel čerpání dotace: Provozní náklady k organizaci akce, honoráře a mzdy organizátorů, rozhodčích, spolupracovníků, materiál související s uspořádáním akce, ceny a odměny, organizační a technické zajištění akce, reklama a propagace akce, kancelářské a papírenské potřeby, platba za služby v rámci akce, doprava, drogistické zboží, ostatní výdaje bezprostředně související s organizací a přípravou akce | H15: 62 | I15: v termínu
... A26: 23. | B26: TJ Jižní Město Chodov, z.s. | C26: Sídlo: Mírového hnutí 2137/7, Chodov, Praha 4, 149 00 IČO: 00537829 Název banky: Raiffensen Bank a.s. Bankovní účet: 1031011567/ 5500 | D26: Turnaje a soutěže oddílu házené | E26: 189000 | F26: 50000 | G26: Termín čerpání dotace: od 1.1.2026 do 30.6.2026 Zdůvodnění žádosti o dotaci: příspěvek na organizaci turnajů nejmladší generace dětí v házené Cíl projektu: podpora nejmladší generace jihoměstských dětí v házené Popis projektu: turnaje budou určeny pro děti a mládež od 6 do 18 let, jedná se o přípravné a soutěžní turnaje: turnaje minižáků pro 15 - 20 týmů z Prahy, středních a západních Čech, turnaje ml. žáků pro 8 - 10 týmů z Prahy (Pražský přebor), turnaje pro 4 - 6 týmů (Středočeská liga), turnaje st. žáků pro 6 - 10 týmů z celé České republiky (Žákovská liga) a 8 týmů z Prahy a středních Čech (Přebor Prahy), turnaje dorostu pro 11 týmů z celé České republiky Přínos projektu pro MČ Praha 11: propagace MČ Praha 11 po celé České republice Historie konání projektu na Praze 11: pravidelně na MČ Praha 11 Výše vstupného pro závodníky: zdarma Výše vstupného pro diváky: zdarma Projekt je určen široké veřejnosti závodníků: ANO - dle přihlášených týmů Projekt je určen široké veřejnosti diváků: ANO Místo konání projektu: SH TJ JM Chodov Termín konání projektu: leden - červen 2026 Projekt bude realizován za podmínek: i bez přidělení dotace Celkové předpokládané výdaje na projekt: 210 000 Kč Celkový počet účastníků projektu: 850 Účel čerpání dotace: Provozní náklady k organizaci akce, honoráře a mzdy organizátorů, rozhodčích, spolupracovníků, materiál související s uspořádáním akce, ceny a odměny, organizační a technické zajištění akce, reklama a propagace akce, kancelářské a papírenské potřeby, platba za služby v rámci akce, doprava, drogistické zboží, ostatní výdaje bezprostředně související s organizací a přípravou akce | H26: 850 | I26: V termínu
B28: CELKEM | E28: =SUM(E4:E27) -> 1752570 | F28: =SUM(F4:F27) -> 500000 | H28: =SUM(H4:H27) -> 8641

Sheet Program 2b
B1: DOTAČNÍ PROGRAM PRO OBLAST SPORTU A VOLNÉHO ČASU NA ROK 2026 - 1. KOLO | H1: ='Program 1a'!H1:J1 -> Příloha usnesení č. 0012/24/Z/2026
B2: Program 2b) Volnočasové aktivity v oblasti sportu | H2: Hodnotící kritérium č. 1 | I2: Hodnotící kritérium č. 2
A3: číslo dotace | B3: Název žadatele o dotaci: | C3: Sídlo žadatele: IČO: Bankovní účet: | D3: Název projektu (dotace): | E3: Požadovaná výše dotace: (Kč) | F3: Doporučená výše dotace: (Kč) | G3: Obsah, zdůvodnění a popis projektu, termín konání projektu, místo konání projektu, účel čerpání dotace, předpokládané výdaje na projekt: | H3: Předpokládaný počet účastníků projektu do 18 let, 65+, zdravotně znevýhodněných | I3: Podané vyúčtování za rok 2025
A4: 1. | B4: Dům-jógy s.r.o. | C4: Sídlo: V Lipkách 768/49, Slivenec, Praha 5, 154 00 Působiště žadatele na Praze 11: Hráského 2231/25, Chodov, 148 00 IČO: 06624839 Název banky: ČSOB Bankovní účet: 282034021/ 0300 | D4: Jóga pod širým nebem | E4: 17000 | F4: 16000 | G4: Termín čerpání dotace: od 1.1.2026 do 30.6.2026. Zdůvodnění žádosti o dotaci: Získání finanční i mediální podpory pro realizaci cvičení jógy pro obyvatele Prahy 11 venku v parku, a to zdarma. Cíl projektu: Příjemnou cestou přitáhnout lidi všech věkových skupin k pravidelné sportovní aktivitě a motivace k aktivnímu trávení volného času. Předvedení obyvatelům, že jóga je systém fyzických, dechových a relaxačních technik, který lze přizpůsobit úplně každému bez ohledu na věk nebo nějaké zdravotní omezení. Popis projektu: Smyslem projektu je zaměření na přestavení jógy lidem jako zdravotního cvičení a inspirace k dalšímu pravidelnému a zdravému pohybu. Přínos projektu pro MČ Praha 11: Náplň volného času občanů MČ. Zviditelnění MČ Praha 11 v médiích. Historie konání projektu na Praze 11: Každý rok od roku 2018. Rozsah projektu: Lokální projekt plus propagace přes sociální sítě a tím i přesah za hranice MČ Praha 11. Výše vstupného pro účastníky: 0 Kč. Výše vstupného pro diváky: 0 Kč. Projekt je určen široké veřejnosti účastníků: Ano. Projekt je určen široké veřejnosti diváků: Ano. Místo konání projektu: Park u Chodovské tvrze. Termín konání projektu: od 1.6.-30.6.2026, každá středa 18:00-19:00 hodin. Projekt bude realizován za podmínek: Projekt bude realizován pouze s podporou MČ Praha 11 v minimální výši 12 000,- Kč. Celkové předpokládané výdaje na projekt: 20 000 Kč. Celkový počet účastníků: 210. Účel čerpání dotace: Provozní náklady k organizaci projektu, honoráře a mzdy organizátorů, rozhodčích, spolupracovníků, materiál vztahující se k uspořádání projektu, ceny a odměny, organizační a technické zajištění projektu, reklama a propagace akce, kancelářské a papírenské potřeby, platba za služby v rámci projektu, doprava, drogistické zboží, ostatní výdaje bezprostředně související s organizací a přípravou projektu. | H4: 210 | I4: V termínu
A5: 2. | B5: FBC Green Dogs Praha z.s. | C5: Sídlo: Láskova 1801/5, 148 00 Praha 4, Chodov Působiště žadatele na Praze 11: ZŠ Campanus, Jírovcovo náměstí 1782, 148 00 Praha 4, Chodov IČO: 23323621 Název banky: Fio banka, a.s. Bankovní účet: 2603214939/ 2010 | D5: Celoroční sportovní činnost mládeže - florbal | E5: 100000 | F5: 14000 | G5: Termín čerpání dotace: od 1.1.2026 do 30.6.2026. Zdůvodnění žádosti o dotaci: Pravidelná sportovní činnost dětí a mládeže na území MČ Praha 11. Systematické tréninky pro několik mládežnických kategorií. Pro zajištění tréninku je nutné financovat pronájmy haly, odměny trenérům a sportovní vybavení. Cíl projektu: Zajištění pravidelné a kvalitní sportovní přípravy dětí a mládeže, podpoření jejich zdravého životního stylu a rozvoj pohybových dovedností, týmové spolupráce a pozitivního vztahu ke sportu. Popis projektu: Projekt zahrnuje celoroční organizaci tréninku florbalu. Součástí činnosti je také účast v soutěžích Českého florbalu. Přínos projektu pro MČ Praha 11: Cílovou skupinou jsou děti ve věku 6-15 let, převážně z MČ Praha 11. Cca 90 % členů klubu navštěvuje ZŠ Campanus. Historie konání projektu na Praze 11: Pokračování v činnosti klubu SK Dvojka Praha, který byl etablován na území MČ Praha 11 několik let. Od roku 2025 pod novou hlavičkou klubu FBC Green Dogs Praha z.s. Rozsah projektu: Lokální projekt pouze na území MČ Praha 11. Výše vstupného pro účastníky: Roční příspěvky 7500-9000 Kč pro děti do 18 let. Výše vstupného pro diváky: 0 Kč. Projekt je určen široké veřejnosti účastníků: Ne. Pouze členům klubu. Projekt je určen široké veřejnosti diváků: Ne. Pouze členům klubu. Místo konání projektu: Hala ZŠ Campanus. Termín konání projektu: od 1.6.-30.6.2026, pondělí, středa, čtvrtek 15:30-19:00 hodin. Projekt bude realizován za podmínek: Projekt bude realizován i bez podpory MČ Praha 11. Celkové předpokládané výdaje na projekt: 888 000 Kč. Celkový počet účastníků: 80. Účel čerpání dotace: Provozní náklady k organizaci projektu, honoráře a mzdy organizátorů, rozhodčích, spolupracovníků, materiál vztahující se k uspořádání projektu, ceny a odměny, organizační a technické zajištění projektu, reklama a propagace akce, kancelářské a papírenské potřeby, platba za služby v rámci projektu, doprava, drogistické zboží, ostatní výdaje bezprostředně související s organizací a přípravou projektu. | H5: 80 | I5: Nový žadatel
A6: 3. | B6: FC Háje Jižní Město, z.s. | C6: Sídlo: Zdiměřická 1454/30, 149 00 Praha 4, Chodov IČO: 67779662 Název banky: Komerční banka, a.s. Bankovní účet: 19-9362130217/ 0100 | D6: Sportovní tréninky ve školkách-FC Háje Jižní Město | E6: 70000 | F6: 45000 | G6: Termín čerpání dotace: od 1.1.2026 do 30.6.2026 Zdůvodnění žádosti o dotaci: Získat finanční podporu na práci s dětmi na JM. Cíl projektu: Cílem je zpřístupnit kvalitní sportovní výchovu dětem předškolního věku přímo v prostředí mateřských škol na Praze 11. Popis projektu: Fotbalové pohybové aktivity pro děti předškolního věku v MŠ na Praze 11. Celoroční program-tréninky 1x týdně v každé ze 4 MŠ (Dubnova, Sulanského, Markušova, Hrabákova). Přínos projektu pro MČ Praha 11: Vedení dětí předškolního věku k rozvoji jejich pohybové kultury za podpory MČ Praha 11 a s tím spojená propagace MČ. Historie konání projektu na Praze 11: Projekt se konal na Praze 11 již v minulých letech. Rozsah projektu: Projekt není pouze lokálního charakteru. Výše vstupného pro účastníky: 0 Kč. Výše vstupného pro diváky: 0 Kč. Projekt je určen široké veřejnosti účastníků: Ne. Projekt je určen široké veřejnosti diváků: Ne. Místo konání projektu: MŠ Dubnova, Sulanského, Markušova a Hrabákova. Termín konání projektu: 1.1.-30.6.2026. Projekt bude realizován za podmínek: Bude realizován i bez přidělení dotace. Celkové předpokládané výdaje na projekt: 77 800 Kč. Celkový počet účastníků: 120. Účel čerpání dotace: Provozní náklady k organizaci projektu, honoráře a mzdy organizátorů, rozhodčích, spolupracovníků, materiál vztahující se k uspořádání projektu, ceny a odměny, organizační a technické zajištění projektu, reklama a propagace akce, kancelářské a papírenské potřeby, platba za služby v rámci projektu, doprava, drogistické zboží, ostatní výdaje bezprostředně související s organizací a přípravou projektu. | H6: 120 | I6: Po termínu
A7: 4. | B7: FK Dukla Jižní Město z.s. | C7: Sídlo: Mikulova 1594/4, Praha 4, 149 00 IČO: 26620596 Název banky: Raiffeisenbank, a.s. Bankovní účet: 6491078001/ 5500 | D7: Sportování v mateřinkách | E7: 70000 | F7: 43000 | G7: Termín čerpání dotace: od 1.1.2026 do 30.6.2026 Zdůvodnění žádosti o dotaci: Podpora konání pravidelného letního fotbalového kempu pro malé děti. Cíl projektu: Rozvoj sportu a pohybová kultura v mateřských školkách. Popis projektu: Každý pracovní den v některé z MŠ na Praze 11 vedou sportovní kroužek v době od 10 do 11 hodin. Ve školce učí děti běhat, skákat, padat, házet a chytat míč, driblovat, dále hrají s dětmi pohybové hry. Cílovou skupinou projektu jsou děti z Prahy 11, zejména předškolní děti z MŠ. Přínos projektu pro MČ Praha 11: Vedení malých dětí ke sportu přátelskou formou a rozvoj jejich pohybové kultury. Historie konání projektu na Praze 11: Projekt se koná na Praze 11 v MŠ již déle než 10 let. Rozsah projektu: Projekt je pouze lokálního charakteru. Výše vstupného pro účastníky: 0 Kč. Výše vstupného pro diváky: 0 Kč. Projekt je určen široké veřejnosti účastníků: Ano. Projekt je určen široké veřejnosti diváků: Ne. Místo konání projektu: MŠ Drabíková, Schulhoffova, Stachova, Blatenská a Babákova. Termín konání projektu: 1.1.-30.6.2026. Projekt bude realizován za podmínek: Bude realizován i bez přidělení dotace. Celkové předpokládané výdaje na projekt: 90 000 Kč. Celkový počet účastníků: 150. Účel čerpání dotace: Provozní náklady k organizaci projektu, honoráře a mzdy organizátorů, rozhodčích, spolupracovníků, materiál vztahující se k uspořádání projektu, ceny a odměny, organizační a technické zajištění projektu, reklama a propagace akce, kancelářské a papírenské potřeby, platba za služby v rámci projektu, doprava, drogistické zboží, ostatní výdaje bezprostředně související s organizací a přípravou projektu. | H7: 150 | I7: Po termínu
A8: 5. | B8: Hectic dance club z.s. | C8: Sídlo: U starého nádraží 893/7, 104 00 Praha 10, Uhříněves IČO: 07594372 Název banky: Fio banka, a.s. Bankovní účet: 2102399787/ 2010 | D8: Taneční workshop pro děti s lektory z ciziny | E8: 20000 | F8: 5600 | G8: Termín čerpání dotace: od 1.1.2026 do 30.6.2026 Zdůvodnění žádosti o dotaci: Podpora od MČ umožní pořadateli uspořádat projekt v cenově dostupné hladině pro děti a mládež. Cíl projektu: Vzdělávání a rozvoj dětí v oblasti tance, možnost dětí spolupracovat s cizojazyčnými lektory. Popis projektu: Taneční workshop je jednorázová taneční akce pro rozvoj tanečního mění v daném stylu, konkrétně stylu Dancehall, který pochází z Jamajky. Taneční lekce rozděleny do bloků. Cílovou skupinou projektu jsou děti a mládež do 18 let. Přínos projektu pro MČ Praha 11: Projekt bude mít přesah i za hranice MČ Praha 11. Historie konání projektu na Praze 11: Projekt byl již pořádán na Praze 4. Na Praze 11 se bude konat poprvé. Rozsah projektu: Projekt není pouze lokálního charakteru. Výše vstupného pro účastníky: 500 Kč. Výše vstupného pro diváky: 0 Kč. Projekt je určen široké veřejnosti účastníků: Ne. Projekt je určen široké veřejnosti diváků: Ne. Místo konání projektu: Centrum Chrpa. Termín konání projektu: 24.5.2026 celý den. Projekt bude realizován za podmínek: Bude realizován pouze za podmínky přidělení dotace alespoň ve výši 15 000 Kč. Celkové předpokládané výdaje na projekt: 34 000 Kč. Celkový počet účastníků: 20. Účel čerpání dotace: Provozní náklady k organizaci projektu, honoráře a mzdy organizátorů, rozhodčích, spolupracovníků, materiál vztahující se k uspořádání projektu, ceny a odměny, organizační a technické zajištění projektu, reklama a propagace akce, kancelářské a papírenské potřeby, platba za služby v rámci projektu, doprava, drogistické zboží, ostatní výdaje bezprostředně související s organizací a přípravou projektu. | H8: 20 | I8: Nový žadatel
A9: 6. | B9: JNS cheerleaders z.s. | C9: Sídlo: Květnového vítězství 1628/48, Praha 4, 149 00 IČO: 27025071 Název banky: ČSOB Bankovní účet: 203018155/ 0300 | D9: Spirit show | E9: 40000 | F9: 33000 | G9: Termín čerpání dotace: od 1.1.2026 do 30.6.2026 Zdůvodnění žádosti o dotaci: Začátek léta a konec sezony je potřeba oslavit a nabídnout dětem a mládeži prostor zazářit, pobavit se a strhnout veřejnost k pohybovým aktivitám. Cíl projektu: Zábavné pohybové odpoledne. Slavnostní ukončení sezony spojené s přehlídkou nastudovaných choreografií, vtipných sestav a zábavných pohybových aktivit pro členy i veřejnost ukončené velkou taneční párty. Popis projektu: Zábava, společenská interakce, která podpoří děti a mládež při rozhodování o způsobu trávení volného času. Seberealizace, showmanship a zábava pro celou rodinu. Sportovní opičí dráha, taneční školička pro začátečníky, ukázky choreografií (výkonností i vtipné a volnočasové). Předávání cen sportovcům roku a trenérovi roku. Od 16:00 a 20:00 moderátor uvádí různé aktivity pro děti a mládež, sportovní opičí dráha, taneční školička, nauč se K pop choreo, a pod. Cílová skupina projektu: děti a mládež od 3 let, rodiče a prarodiče. Přínos projektu pro MČ Praha 11: Propagace sportu v regionu, propagace MČ Praha 11 jako partnera akce, prezentace sportovních aktivit na Praze 11. Podpora prevence zdraví obyvatel MČ Praha 11 pohybem v zábavné formě. Historie konání projektu na Praze 11: Projekt se na Praze 11 již konal 19. 6. 2024 a 18. 6. 2025. Rozsah projektu: Projekt je pouze lokálního charakteru, ale bude mít přesah za hranice MČ Praha 11, např. online streamem. Výše vstupného pro účastníky: 0 Kč. Výše vstupného pro diváky: 150 Kč děti, 200 Kč dospělí, 0 Kč nad 65 let + ZZO. Projekt je určen široké veřejnosti účastníků: Ne. Projekt je určen široké veřejnosti diváků: Ano. Místo konání projektu: Hala Jedenáctka, Praha 11. Termín konání projektu: 16.6.2026, 16-20 hodin. Projekt bude realizován za podmínek: Bude realizován i bez přidělení dotace. Celkové předpokládané výdaje na projekt: 110 000 Kč. Celkový počet účastníků: 427. Účel čerpání dotace: Provozní náklady k organizaci projektu, honoráře a mzdy organizátorů, rozhodčích, spolupracovníků, materiál vztahující se k uspořádání projektu, ceny a odměny, organizační a technické zajištění projektu, reklama a propagace akce, kancelářské a papírenské potřeby, platba za služby v rámci projektu, doprava, drogistické zboží, ostatní výdaje bezprostředně související s organizací a přípravou projektu. | H9: 347 | I9: Po termínu
A10: 7. | B10: Junák - český skaut, středisko 93 Praha, z.s. | C10: Sídlo: Myslbekova 684/17, Střešovice, Praha 6, 169 00 Působiště žadatele na Praze 11: U přehrady 54/2 a areál školy Schulhoffova 844/2 IČO: 70941874 Název banky: Česká spořitelna Bankovní účet: 170339349/ 0800 | D10: Krhútské víkendovky | E10: 18000 | F10: 14000 | G10: Termín čerpání dotace: od 1.1.2026 do 30.6.2026 Zdůvodnění žádosti o dotaci: Finanční podpora na udržení kvalitní činnosti. Cíl projektu: Podpora aktivního trávení volného času, pobyt v přírodě, zvýšení fyzické zdatnosti účastníků. Popis projektu: Celovíkendové akce zaměřené na pobyt v přírodě: Ski areál Paseky nad Jizerou, poznávací hra v historickém centru Brna, návštěva Náchoda a opevnění z 2. světové války v okolí, výprava s tábořením pod stany a návštěvou Blaníku v Dubu u Vlašimi, setkání skautských oddílů v Meziříčí u Tábora, splutí řeky Orlice, putování se stany po jižních Čechách. Přínos projektu pro MČ Praha 11: Umožnit členům spolku, zejména dětem a mládeži ve věku 7-18 let, aktivní a hodnotné trávení volného času. Historie konání projektu na Praze 11: Pravidelně - od roku 1990. Rozsah projektu: Činnost klubu má přesah i za hranice MČ Praha 11. Výše vstupného pro účastníky: 0 Kč. Výše vstupného pro diváky: 0 Kč. Projekt je určen široké veřejnosti účastníků: pouze členům spolku. Projekt je určen široké veřejnosti diváků: Ne. Místo konání projektu: Různá místa ČR. Termín konání projektu: 1.1.-30.6.2026. Projekt bude realizován za podmínek: Bude realizován i bez přidělení dotace. Celkové předpokládané výdaje na projekt: 20 000 Kč. Celkový počet účastníků: 79 Účel čerpání dotace: Provozní náklady k organizaci projektu, honoráře a mzdy organizátorů, rozhodčích, spolupracovníků, materiál vztahující se k uspořádání projektu, ceny a odměny, organizační a technické zajištění projektu, reklama a propagace akce, kancelářské a papírenské potřeby, platba za služby v rámci projektu, doprava, drogistické zboží, ostatní výdaje bezprostředně související s organizací a přípravou projektu. | H10: 56 | I10: V termínu
A11: 8. | B11: Krasobruslařský klub Stadion Praha, z.s. | C11: Sídlo: Ke Kateřinkám 2423/2a (IceArena) IČO: 49626892 Název banky: Česká spořitelna Bankovní účet: 200803369/ 0800 | D11: Celoroční kurzy krasobruslení v libovolně zvolené frekvenci, zaměřené na představení sporu široké veřejnosti, podpora nejen dětí, mládeže a také dospělých v objevování dalších možností podpory zdraví a pohybu | E11: 100000 | F11: 18000 | G11: Termín čerpání dotace: od 1.1.2026 do 30.6.2026. Zdůvodnění žádosti o dotaci: Pomoc s finanční dostupností sportu široké veřejnosti a podpora zdraví a pohybu dětí, mládeže i dospělých. Cíl projektu: Rozšíření dostupnosti krasobruslení veřejnosti, výuka základních i pokročilejších prvků a dovedností v oblasti krasobruslení pro všechny, kdo mají zájem o tento sport. Popis projektu: Kurzy krasobruslení pro nejmenší (školička krasobruslení), mládež i dospělé. Školička probíhá ve dvou semestrech za rok. Přínos projektu pro MČ Praha 11: Umožnit výuku základů krasobruslení pro obyvatele Prahy 11. Historie konání projektu na Praze 11: Pravidelně od roku září 2023. Rozsah projektu: Projekt bude mít přesah i za hranice MČ Praha 11. Výše vstupného pro účastníky: 330 Kč/45 minut. Výše vstupného pro diváky: 0 Kč. Projekt je určen široké veřejnosti účastníků: Ano. Projekt je určen široké veřejnosti diváků: Ne. Místo konání projektu: IceAréna Kateřinky, Ke Kateřinkám 2423/2a, Praha 11. Termín konání projektu: od 2.1.-26.6.2026, po, út, st, čt, pá 14:00-19:00. Projekt bude realizován za podmínek: Projekt bude realizován i bez přidělení dotace. Celkové předpokládané výdaje na projekt: 665 000 Kč. Celkový počet účastníků: 112. Účel čerpání dotace: Provozní náklady k organizaci projektu, honoráře a mzdy organizátorů, rozhodčích, spolupracovníků, materiál vztahující se k uspořádání projektu, ceny a odměny, organizační a technické zajištění projektu, reklama a propagace akce, kancelářské a papírenské potřeby, platba za služby v rámci projektu, doprava, drogistické zboží, ostatní výdaje bezprostředně související s organizací a přípravou projektu. | H11: 100 | I11: Po termínu
A12: 9. | B12: Mgr. Jiří Smrčka | C12: Sídlo: Brodského 1667/10, Chodov, Praha 4, 149 00 Působiště žadatele na Praze 11: ZŠ Donovalská IČO: 70744505 Název banky: ČSOB Bankovní účet: 206038434/ 0300 | D12: Podpora činnosti pro zabezpečení volnočasových aktivit dětí při ZŠ Donovalská a tenisového oddílu TC Donovalská | E12: 70000 | F12: 25000 | G12: Termín čerpání dotace: od 1.1.2026 do 30.6.2026 Zdůvodnění žádosti o dotaci: Žádost o podporu určenou na sportovní přípravu dětí a mládeže. Cíl projektu: Zajištění kvalitní úrovně pohybových aktivit dětí v rámci sportovních her při ZŠ Donovalská a kondiční přípravy závodních členů tenisového oddílu TC Donovalská. Popis projektu: Zaměřeno na rozvoj pohybových schopností a dovedností pro zlepšení výkonu a pohybové úrovně. Pravidelná aktivita probíhající celoročně každý týden. Všesportovní příprava: děti 6-9 let. Kondiční příprava: děti 10-18 let. Přínos projektu pro MČ Praha 11: Zajištění sportovních a pohybových aktivit dětí a mládeže z MČ Praha 11. Historie konání projektu na Praze 11: Pravidelné působení na Praze 11 Rozsah projektu: Projekt je pouze lokálního charakteru. Výše vstupného pro účastníky: 0 Kč. Výše vstupného pro diváky: 0 Kč. Projekt je určen široké veřejnosti účastníků: Ne, pouze členům. Projekt je určen široké veřejnosti diváků: Ne. Místo konání projektu: ZŠ Donovalská Termín konání projektu: 1.1.-30.6.2026, všestranná příprava: každou středu 15,30-16,30 hod., kondiční příprava: každé pondělí 18-19 hod. Projekt bude realizován za podmínek: Bude realizován i bez přidělení dotace. Celkové předpokládané výdaje na projekt: 80 000 Kč. Celkový počet účastníků: 80. Účel čerpání dotace: Provozní náklady k organizaci projektu, honoráře a mzdy organizátorů, rozhodčích, spolupracovníků, materiál vztahující se k uspořádání projektu, ceny a odměny, organizační a technické zajištění projektu, reklama a propagace akce, kancelářské a papírenské potřeby, platba za služby v rámci projektu, doprava, drogistické zboží, ostatní výdaje bezprostředně související s organizací a přípravou projektu. | H12: 80 | I12: V termínu
A13: 10. | B13: POCTA - První osobní cyklistická talentová akademie, z.s. | C13: Sídlo: Cuřínova 588/10, Praha 4, 142 00 Působiště žadatele na Praze 11: ZŠ K Milíčovu ZŠ Mendelova ZŠ Mikulova ZŠ Campanus IČO: 04487818 Název banky: Raiffeisenbank, a.s. Bankovní účet: 530175/5500 | D13: Školní závody přes překážky | E13: 48000 | F13: 0 | G13: Termín čerpání dotace: od 1.1.2026 do 30.6.2026 Zdůvodnění žádosti o dotaci: Organizace závodů pro děti ze ZŠ Cíl projektu: Zapojit děti z družiny do sportu, nabídnout sportování i dětem s nadváhou nebo se špatnou kondicí. Popis projektu: Cyklistika, běh a další sporty-stolní tenis, střelba na terč z luku. Výuka bezpečné jízdy na kole. V rámci akce se postaví překážky a děti je zdolávají. Cílová skupina projektu: děti 6-15 let. Přínos projektu pro MČ Praha 11: Přivést mládež ke sportu v jiné podobě, než kterou znají. Historie konání projektu na Praze 11: pravidelné působení na Praze 11 Rozsah projektu: Projekt je pouze lokálního charakteru. Výše vstupného pro účastníky: 0 Kč. Výše vstupného pro diváky: 0 Kč. Projekt je určen široké veřejnosti účastníků: Ano - i děti mimo ZŠ. Projekt je určen široké veřejnosti diváků: Ano. Místo konání projektu: ZŠ K Milíčovu, Mendelova, Mikulova, Campanus Termín konání projektu: březen-červen 2026. Projekt bude realizován za podmínek: Projekt bude realizován pouze s podporou MČ Praha 11 - nejméně požadují 10 000 Kč. Celkové předpokládané výdaje na projekt: 76 000 Kč. Celkový počet účastníků: 1 000 (4 ZŠ po 250 účastnících do 18 let). Účel čerpání dotace: Provozní náklady k organizaci projektu, honoráře a mzdy organizátorů, rozhodčích, spolupracovníků, materiál vztahující se k uspořádání projektu, ceny a odměny, organizační a technické zajištění projektu, reklama a propagace akce, kancelářské a papírenské potřeby, platba za služby v rámci projektu, doprava, drogistické zboží, ostatní výdaje bezprostředně související s organizací a přípravou projektu. | H13: 1000 | I13: V termínu
A14: 11. | B14: SK Floorball Academy z.s. | C14: Sídlo: Pod Skalou 123, Psáry, 252 44 Působiště žadatele na Praze 11: ZŠ Mendelova IČO: 01710699 Název banky: FIO banka Bankovní účet: 2300440971/ 2010 | D14: Sportovní kroužky na základních školách na Praze 11 | E14: 18000 | F14: 8900 | G14: Termín čerpání dotace: od 1.1.2026 do 30.6.2026 Zdůvodnění žádosti o dotaci: Příspěvek na činnost kroužků na ZŠ, zejména zlepšení materiálního vybavení a kvalitního personálního zajištění vedení kroužků. Zapojení členů spolku do klubové kooperace a aktivního životního stylu. Cíl projektu: 1. Zapojení široké veřejnosti do pravidelných sportovních a volnočasových aktivit. 2. Osvojení si technicky správných pohybových dovedností. 3. Osvojení si návyků týmové spolupráce a sociálních rolí ve skupině. 4. Protidrogová prevence a tím i zvýšení důrazu na potírání patologických jevů ve společnosti. 5. Osobní růst s využitím spolkové platformy Edu Academy. Popis projektu: Projekt je zaměřen na efektivní trávení volného času pro děti ze ZŠ na Praze 11. Děti se účastní i celodenních turnajů. Přínos projektu pro MČ Praha 11: Možnost pro děti a mládež z Prahy 11 trávit volný čas na kroužcích pořádaných přímo v jejich škole. Historie konání projektu na Praze 11: Projekt se na Praze 11 již konal v roce 2024, 2025. Rozsah projektu: Činnost klubu má přesah i za hranice MČ Praha 11. Od roku 2015 pořádají obdobné projekty ve Středočeském kraji, v Karlových Varech a v Liberci. Výše vstupného pro účastníky: 1850 Kč/pololetí. Výše vstupného pro diváky: 0 Kč. Projekt je určen široké veřejnosti účastníků: Ano. Projekt je určen široké veřejnosti diváků: Ne. Pouze členům organizace Místo konání projektu: ZŠ Mendelova 550, 149 00 Praha 4. Termín konání projektu: leden - červen 2026. Projekt bude realizován za podmínek: Bude realizován i bez přidělení dotace. Celkové předpokládané výdaje na projekt: 94 000 Kč. Celkový počet účastníků: 40. Účel čerpání dotace: Provozní náklady k organizaci projektu, honoráře a mzdy organizátorů, rozhodčích, spolupracovníků, materiál vztahující se k uspořádání projektu, ceny a odměny, organizační a technické zajištění projektu, reklama a propagace akce, kancelářské a papírenské potřeby, platba za služby v rámci projektu, doprava, drogistické zboží, ostatní výdaje bezprostředně související s organizací a přípravou projektu. | H14: 40 | I14: V termínu
A15: 12. | B15: Spolek rodičů Milíčov | C15: Sídlo: K Milíčovu 674/2, 149 00 Praha 4, Háje IČO: 05530377 Název banky: Fio banka Bankovní účet: 2301120232/ 2010 | D15: Sportovní Milíčov - jaro 2026 | E15: 34200 | F15: 26000 | G15: Termín čerpání dotace: od 1.1.2026 do 30.6.2026 Zdůvodnění žádosti o dotaci: Žadatel je dobrovolným spolkem rodičů žáků ze ZŠ K Milíčovu, který podporuje realizaci sportovních akcí definovaných žáky školy (více než 1000 žáků) prostřednictvím Školního parlamentu. Cíl projektu: Zorganizovat dvě sportovní akce zaměřené na podporu pohybových návyků žáků a zvýšení jejich kondice společně s prevencí civilizačních chorob. Popis projektu: Akce Běh pro Milíčov bude 3. ročníkem běžecké akce. Probíhá tak, že každý startující žák si najde svého "sponzora", který mu proplatí uběhnutou trasu předem stanovenou částkou. V rámci Běhu pro Milíčov budou pro účastníky připravené další celodenní sportovní aktivity - karate, jóga, lakros, badminton, volejbal, atd., na hřišti a v tělocvičnách ZŠ K Milíčovu. Sportovní den je každoroční sportovní akce. Pro letošní rok je připravena basketbalová školička s olympioničkou Ilonou Burgrovou a soutěž ve vybíjené a přeskoků přes švihadlo. Přínos projektu pro MČ Praha 11: Zvýšení sportovní kondice a společného úsilí pro společný projekt žáků ZŠ Historie konání projektu na Praze 11: Běh pro Milíčov - 17.5.2025. Sportovní den (dětský den) je pravidelnou akcí - 1.6.2025. Rozsah projektu: Projekt bude mít přesah za hranice MČ Praha 11. Žáci školy jsou trvalým bydlištěm i mimo Prahu 11. Výše vstupného pro účastníky: 0 Kč. Výše vstupného pro diváky: 0 Kč. Projekt je určen široké veřejnosti účastníků: Ano. Projekt je určen široké veřejnosti diváků: Ano - Běh pro Milíčov. Ne - Den dětí. Místo konání projektu: Školní zahrada ZŠ K Milíčovu. Termín konání projektu: Běh pro Milíčov 16.5.2026 a Sportovní den 24.6.2026, vždy 9:00 - 17:00 hodin. Projekt bude realizován za podmínek: Bude realizován i bez přidělení dotace. Celkové předpokládané výdaje na projekt: 38 000 Kč. Celkový počet účastníků: 900. Účel čerpání dotace: Provozní náklady k organizaci projektu, honoráře a mzdy organizátorů, rozhodčích, spolupracovníků, materiál vztahující se k uspořádání projektu, ceny a odměny, organizační a technické zajištění projektu, reklama a propagace akce, kancelářské a papírenské potřeby, platba za služby v rámci projektu, doprava, drogistické zboží, ostatní výdaje bezprostředně související s organizací a přípravou projektu. | H15: 700 | I15: Nežádali v roce 2025
... A22: 19. | B22: Základní škola a Střední škola, Praha 4, Kupeckého 576 | C22: Sídlo: Kupeckého 576/17, Háje, Praha 4, 149 00 IČO: 48135411 Název banky: Komerční banka Bankovní účet: 75531041/ 0100 | D22: "Hurá na vodu" - návazné pokračování - 1. kolo s novými žáky | E22: 15000 | F22: 8800 | G22: Termín čerpání dotace: od 1.1.2026 do 30.6.2026 Zdůvodnění žádosti o dotaci: Možnost zúčastnit se akce i pro žáky, jejichž rodiče nemají dostatek financí. Cíl projektu: Týmová spolupráce, zážitková pedagogika, pohyb na čerstvém vzduchu, smysluplné trávení volného času pro sídlištní děti. Popis projektu: Projekt je zaměřen na zlepšení fyzické kondice, preventivní akce, poznávání jiného sportu, opakování akce po předešlých úspěších. Sjíždějí řeky Vltavy z Vyššího Brodu do Zlaté Koruny. Cílovou skupinou projektu jsou žáci 2. stupně naší školy. Přínos projektu pro MČ Praha 11: Poskytnutí možnosti žákům školy zapojit se do zdravého a aktivního životního stylu. Posílení komunitního života propojením různých věkových skupin a vytvoření pevnějších vazeb mezi žáky. Propagace MČ účasti na vodácké akci - MČ podporovatel sportu a volnočasových aktivit. Ekologická výchova - součástí akce bude také edukace o ochraně přírody a odpovědném chování na vodě. Historie konání projektu na Praze 11: Obdobný projekt s podporou MČ Praha 11"Hurá na vodu" se konal v r. 2023, 2024 a 2025. Rozsah projektu: Projekt je pouze lokálního charakteru, ale bude mít přesah i za hranice MČ Praha 11. Výše vstupného pro účastníky: 0 Kč. Výše vstupného pro diváky: 0 Kč. Projekt je určen široké veřejnosti účastníků: pouze omezenému okruhu-žáci školy, rodiče a učitelé. Projekt je určen široké veřejnosti diváků: Ne. Místo konání projektu: Vltava, Vyšší Brod - Zlatá Koruna. Termín konání projektu: červen 2026. Projekt bude realizován za podmínek: Bude realizován i bez přidělení dotace. Celkové předpokládané výdaje na projekt: 18 000 Kč. Celkový počet účastníků: 22 Účel čerpání dotace: Provozní náklady k organizaci projektu, honoráře a mzdy organizátorů, rozhodčích, spolupracovníků, materiál vztahující se k uspořádání projektu, ceny a odměny, organizační a technické zajištění projektu, reklama a propagace akce, kancelářské a papírenské potřeby, platba za služby v rámci projektu, doprava, drogistické zboží, ostatní výdaje bezprostředně související s organizací a přípravou projektu. | H22: 17 | I22: V termínu
B24: CELKEM | E24: =SUM(E4:E23) -> 1054200 | F24: =SUM(F4:F23) -> 458300 | H24: =SUM(H4:H23) -> 5018

Sheet Program č. 3
B1: DOTAČNÍ PROGRAM PRO OBLAST SPORTU A VOLNÉHO ČASU NA ROK 2026 - 1. KOLO | H1: ='Program 1a'!H1:J1 -> Příloha usnesení č. 0012/24/Z/2026
B2: Program 3) Investice do modernizace a rekonstrukce sportovišť na území MČ Praha 11 | H2: Hodnotící kritérium č. 1
A3: číslo dotace | B3: Název žadatele o dotaci: | C3: Sídlo žadatele: IČO: Bankovní účet: | D3: Název projektu (dotace): | E3: Požadovaná výše dotace: (Kč) | F3: Doporučená výše dotace: (Kč) | G3: Obsah, zdůvodnění a popis projektu, termín konání projektu, místo konání projektu, účel čerpání dotace: | H3: Podané vyúčtování za rok 2025
A4: 1. | B4: FC Háje Jižní Město, z.s. | C4: Sídlo: Zdiměřická 1454/30, Praha 4, 149 00 IČO: 67779662 Název banky: Komerční banka Bankovní účet: 19-9362130217/ 0100 | D4: Výměna koupelen - rekonstrukce | E4: 262000 | F4: 239000 | G4: Termín čerpání dotace: od 1.1.2026 do 31.12.2026 Zdůvodnění žádosti o dotaci: rekonstrukce sociálního zařízení Místo realizace projektu: Sportovní areál K Jezeru Název vlastníka sprtoviště: FK TJ Háje Háje Platnost nájemní smlouvy: do 2037 Popis stávajícího technického stavu: Rozvody vody jsou ze 70. let 20 století a jsou na hranici životnosti (kritický stav potrubí a rozvodů, nefunkční regulace teploty, hygienické riziko). Přínos rekonstrukce/modernizace pro návstěvníky sportoviště: bezpečné a zdravotně nezávadné prostředí pro sportovní činnost dětí a mládeže. Rozpis plánovaných prací: během roku 2026 Sportoviště je určeno na sporty: fotbal Předpokládané výdaje na realizaci projektu: 288 700 Kč Finanční požadavky na realizaci projektu: projekt se uskuteční pouze v případě, že bude přidělena celá požadaovná částka Časová vytíženost sportoviště (podmínka min. 70% vytíženosti sportoviště v čase 16-20 hod./pondělí - pátek): 100% Účel čerpání dotace: rekonstrukce sociálního zařízení klubu (koupelny) | H4: Po termínu
A5: 2. | B5: FK Dukla Jižní Město z.s. | C5: Sídlo: Mikulova 1594/4, Praha 4, 149 00 IČO: 26620596 Název banky: Raiffeisen Bank Bankovní účet: 6491078001/ 5500 | D5: Renovace UMT a víceúčelové plochy | E5: 270000 | F5: 231000 | G5: Termín čerpání dotace: od 1.1.2026 do 31.12.2026 Zdůvodnění žádosti o dotaci: renovace umělé travnaté plochy, havarijní stav dřevěného obložení víceúčelové plochy - obložení je místy rozlámané. Místo realizace projektu: areály Schulhoffova a Mikulova 1594 Název vlastníka sprtoviště: MČ Praha 11 Platnost nájemní smlouvy: Schulhoffova do 2043, Mikulova do 2030 Popis stávajícího technického stavu: Ve sportovním areálu Mikulova výměna poškozeného obložení mantinelů novými deskami, renovace umělé plochy - doplnění granulátu v areálu Schulhoffova a Mikulova Přínos rekonstrukce/modernizace pro návstěvníky sportoviště: bezpečné prostředí pro sportovní činnost dětí a mládeže Rozpis plánovaných prací: srpen - září 2026 Sportoviště je určeno na sporty: fotbal Předpokládané výdaje na realizaci projektu: 300 000 Kč Finanční požadavky na realizaci projektu: projekt se uskuteční i bez přidělení dotace Časová vytíženost sportoviště (podmínka min. 70% vytíženosti sportoviště v čase 16-20 hod./pondělí - pátek): 100% Účel čerpání dotace: Renovace umělé travnaté plochy, výměna mantinelů | H5: Po termínu
A6: 3. | B6: FLORBAL CHODOV z.s. | C6: Sídlo: Komárkova 2265/1, Praha 4, 148 00 IČO: 04104200 Název banky: Komerční banka Bankovní účet: 115 - 518190267/ 0100 | D6: Modernizace objektů sportovních hal a technická rekonstrukce zabezpečení obou objektů | E6: 300000 | F6: 266000 | G6: Termín čerpání dotace: od 1.1.2026 do 31.12.2026 Zdůvodnění žádosti o dotaci: modernizace a optimalizace provozu sportovních hal Místo realizace projektu: Sportovní hala Jižní Město, Sportovní hala 11VS Název vlastníka sprtoviště: MČ Praha 11 Platnost nájemní smlouvy: do 2041 Popis stávajícího technického stavu: Ve sportovních halách je původní vybavení bez rekonstrukce či modernizace - docházelo pouze k opravám závad. Některé prvky zde zcela chybí (AI kamery, zabezpečovací prvky, bezpečnostní dveře, technologie na úklid a údržbu hracích ploch) Popis požadovaného stavu sportoviště: Modernizace zázemí, zlepšení technologického a technického stavu hal, nové bezpečnostní prvky, nové sportovní vybavení Přínos rekonstrukce/modernizace pro návstěvníky sportoviště: Bezpečné prostředí pro návštěvníky i sportovce Rozpis plánovaných prací: celý rok 2026 Sportoviště je určeno na sporty: - SH Jižní Město: florbal, boxlacrosse, taneční sporty, stolní tenis, hodiny TV základních škol - SH 11VS: florbal, futsal, gymnathlon, volejbal, házená, taneční sporty, bojové sporty, badminton, hodiny TV základních škol Předpokládané výdaje na realizaci projektu: 364 000 Kč Finanční požadavky na realizaci projektu: projekt se uskuteční i bez přidělení dotace Časová vytíženost sportoviště (podmínka min. 70% vytíženosti sportoviště v čase 16-20 hod./pondělí - pátek): 100% Účel čerpání dotace: Rezervační systém (software), rekonstrukce a modernizace šaten, kamerový systém, technologická inovace a technika na provoz a údržbu hal, materiál a vybavení na modernizaci zázemí | H6: Po termínu
A7: 4. | B7: JNS cheerleaders z.s. | C7: Sídlo: Květnového vít. 1628/48, Praha 4, 149 00 IČO: 27025071 Název banky: ČSOB Bankovní účet: 203018155/ 0300 | D7: Bezpečná sportovní plocha | E7: 300000 | F7: 1000 | G7: Termín čerpání dotace: od 1.1.2026 do 31.12.2026 Zdůvodnění žádosti o dotaci: zlepšení tréninkových podmínek, kvalitní a bezpečné prostředí pro sportovce Místo realizace projektu: ZŠ Květnového vít. 1554 - tělocvičny Schulhoffova 844 Název vlastníka sprtoviště: ZŠ Květnového vít. 1554 Platnost nájemní smlouvy: do 2029 Popis stávajícího technického stavu: školní tělocvičny mají pouze standardní povrchy Popis požadovaného stavu sportoviště: nákup mobilní odpružené plochy - nafukovacího airtracku a gymnastického koberce flexi roll. Přínos rekonstrukce/modernizace pro návstěvníky sportoviště: zvýšení bezpečnosti a prevence zranění, zlepšení tréninkových podmínek, podpora talentů a příprava budoucích olympioniků, využití bezpečného sportoviště školou, moderní sportovní prostředí zajistí dlouhodobou udržitelnost a konkurenceschopnost Rozpis plánovaných prací: nákup sportovních koberců bez nutnosti instalace - rozložení, nafouknutí koberců Sportoviště je určeno na sporty: víceúčelová tělocvična Předpokládané výdaje na realizaci projektu: 847 000 Kč Finanční požadavky na realizaci projektu: minimálně požadují 300 000 Kč Časová vytíženost sportoviště (podmínka min. 70% vytíženosti sportoviště v čase 16-20 hod./pondělí - pátek): 100% Účel čerpání dotace: nákup koberců airtrack a flexi roll, gymnastický koberec | H7: Po termínu
A8: 5. | B8: SOKOL CHODOV, z.s. | C8: Sídlo: Starochodovská 521/53, Praha 4, 149 00 IČO: 15268829 Název banky: FIO banka Bankovní účet: 2100847128/ 2010 | D8: Odkoupení pozemku, který byl dlouhá léta součástí areálu - od cizího vlastníka | E8: 995500 | F8: 0 | G8: Termín čerpání dotace: od 1.1.2026 do 31.12.2026 Zdůvodnění žádosti o dotaci: Odkoupení pozemku, který byl mnoho let součástí areálu Sokola Chodov - administrativní chybou nebyl po revoluci převeden na Sokol Chodov, byť se jednalo o jejich pozemek. Pozemek byl převeden na Úřad pro zastupování státu ve věcech majetkových. V současné době je pozemek v soukromých rukou a majitel požaduje částku k odkupu ve výši 1 995 500 Kč. Místo realizace projektu: Sokol Chodov, Starochodovská 521/53 Název vlastníka sprtoviště: Sokol Chodov Platnost nájemní smlouvy: majitel Popis stávajícího technického stavu: Zarostlý pozemek bez údržby - součástí areálu Sokola Chodov Popis požadovaného stavu sportoviště: Vybudování venkovního cvičiště s dětským hřištěm Přínos rekonstrukce/modernizace pro návstěvníky sportoviště: zkvalitnění zázemí Sokola Chodov Časový harmonogram plánované rekonstrukce: dle prostředků na nákup pozemku Sportoviště je určeno na sporty: Volnočasové aktivity pro členy Sokola Předpokládané výdaje na realizaci projektu: 1 995 500 Kč Finanční požadavky na realizaci projektu: minimálně požadují 995 500 Kč Časová vytíženost sportoviště (podmínka min. 70% vytíženosti sportoviště v čase 16-20 hod./pondělí - pátek): 100 % Účel čerpání dotace: Nákup pozemku | H8: V termínu
A9: 6. | B9: Tělovýchovná jednota Háje - Jižní Město, Handballclub, pobočný spolek | C9: Sídlo: U Školky 586, Praha 4, 149 00 IČO: 62938045 Název banky: Komerční banka Bankovní účet: 6584250237/ 0100 | D9: Rekonstrukce házenkářského hřiště HC Háje - 6. etapa | E9: 300000 | F9: 262000 | G9: Termín čerpání dotace: od 1.1.2026 do 31.12.2026 Zdůvodnění žádosti o dotaci: Nákup šatny - kontejneru Místo realizace projektu: Hřiště areálu TJ Háje - házenkářské hřiště, K Jezeru Název vlastníka sprtoviště: Svěřeno do správy MČ Praha 11 Platnost nájemní smlouvy: na dobu neurčitou Popis stávajícího technického stavu: Nevyhovující staré šatny Popis požadovaného stavu sportoviště: Nákup kontejneru - šatny Přínos rekonstrukce/modernizace pro návstěvníky sportoviště: zkvalitnění zázemí klubu pro hráče Časový harmonogram plánované rekonstrukce: nákup kontejneru a jeho umístění během roku 2026 Sportoviště je určeno na sporty: házená, miniházená Předpokládané výdaje na realizaci projektu: 369 413 Kč Finanční požadavky na realizaci projektu: minimálně požadují 300 000 Kč Časová vytíženost sportoviště (podmínka min. 70% vytíženosti sportoviště v čase 16-20 hod./pondělí - pátek): 82,5 % Účel čerpání dotace: nákup a instalace buňky | H9: V termínu
A10: 7. | B10: Spolek Dance Dance | C10: Sídlo: Milevská 1112/26, Praha 4, 140 00 IČO: 01475118 Název banky: Fio banka Bankovní účet: 2102312602/ 2010 | D10: Akustické odzvučení sálu | E10: 242000 | F10: 1000 | G10: Termín čerpání dotace: od 1.1.2026 do 31.12.2026 Zdůvodnění žádosti o dotaci: V rámci tréninku dochází k úniku hlasité hudby mimo tréninkové prostory (blízká zástavba je vystavena nadměrnému hluku). Cílem projektu je instalace panelů omezující zvuk. Místo realizace projektu: Centrum Chrpa - Krejnická Název vlastníka sprtoviště: FIDUROCK Projekt 23, s.r.o. Platnost nájemní smlouvy: do 2035 Popis stávajícího technického stavu: Ve 3. sále chybí panely na omezení hluku Popis požadovaného stavu sportoviště: V rámci projektu se budou instalovat závěsná ocelová lana, na která se umístí protihlukové panely. Instalace panelů omezí zvuk dopadající na střechu objektu a okolní stěny a tím se zamezí úniku hluku z budovy ven. Přínos rekonstrukce/modernizace pro návstěvníky sportoviště: Omezení hluku Časový harmonogram plánované rekonstrukce: Během roku 2026 Sportoviště je určeno na sporty: Taneční sporty Předpokládané výdaje na realizaci projektu: 272 250 Kč Finanční požadavky na realizaci projektu: minimálně požadují 200 000 Kč Časová vytíženost sportoviště (podmínka min. 70% vytíženosti sportoviště v čase 16-20 hod./pondělí - pátek): 87,5 % Účel čerpání dotace: Náklady na úpravu akustiky sálu | H10: V termínu
B11: CELKEM | E11: =SUM(E4:E10) -> 2669500 | F11: =SUM(F4:F10) -> 1000000

Sheet CELKEM 
A2: DOTAČNÍ PROGRAM PRO OBLAST SPORTU A VOLNÉHO ČASU NA ROK 2026 - 1. KOLO
A4: Přehled požadovaných a doporučených částek: | M4: Doporučená částka - usnesení: | P4: Požadavky žadatelů o dotaci:
A5: Program 1a) Celoroční činnost sportovních organizací zaměřených na výkonnostní sport | M5: =SUM('Program 1a'!F4:F30) -> 9091000 | P5: =SUM('Program 1a'!E4:E30) -> 20032535
A6: Program 1b) Celoroční činnost sportovních a volnočasových organizací nezaměřených na výkonnostní sport | M6: =SUM('Program 1b'!F4:F24) -> 1247200 | P6: =SUM('Program 1b'!E4:E24) -> 2999100
A7: Program 2a) Jednorázové sportovní akce konané na území MČ Praha 11 | M7: =SUM('Program 2a'!F4:F27) -> 500000 | P7: =SUM('Program 2a'!E4:E27) -> 1752570
A8: Program 2b) Volnočasové aktivity v oblasti sportu | M8: =SUM('Program 2b'!F4:F23) -> 458300 | P8: =SUM('Program 2b'!E4:E23) -> 1054200
A9: Program 3) Investice do modernizace a rekonstrukce sportovišť na území MČ Praha 11 | M9: =SUM('Program č. 3'!F4:F10) -> 1000000 | P9: =SUM('Program č. 3'!E4:E10) -> 2669500
A11: CELKEM doporučená částka - usnesení: | F11: =SUM(M5:O9) -> 12296500
A12: CELKEM subjekty požadují: | F12: =SUM(P5:R9) -> 28507905
A14: Dotační program pro oblast sportu a volného času na rok 2026 - 1. kolo (základní fakta o programu):
A15: Vyhlášené programy podpory:
A16: Program 1a) Celoroční činnost sportovních organizací zaměřených na výkonnostní sport
A17: Program 1b) Celoroční činnost sportovních a volnočasových organizací nezaměřených na výkonnostní sport
A18: Program 2a) Jednorázové sportovní akce konané na území MČ Praha 11
A19: Program 2b) Volnočasové aktivity v oblasti sportu
A20: Program 3) Investice do modernizace a rekonstrukce sportovišť na území MČ Praha 11
A21: Ve všech programech je povinná finanční spoluúčast subjektů ve výši 10%
A23: Termíny uzávěrek a termíny čerpání finančních prostředků platných pro 1. kolo 2026:
A24: Termín uzávěrky podávání žádostí o dotace: 20.04. - 27.04.2026 - platí pro programy 1a, 1b, 2a, 2b, 3
A25: Termín čerpání dotací: 01.01.2026 - 31.12.2026 - programy 1a, 1b, 3
A26: Termín čerpání dotací: 01.01.2026 - 30.06.2026 - programy 2a, 2b
... A38: je příjemce dotace povinen tuto skutečnost sdělit poskytovateli dotace písemně - do 15 kalendář. dnů ode dne vzniku této skutečnosti.
