Workbook

Sheet Souhrnná tabulka VHČ
A1: Příloha č. 2 usnesení č. 0000/25/Z/2026
A2: Plnění finančního plánu hospodářské činnosti MČ Praha 11 za 1. pololetí roku 2026
M3: v tis. Kč
A4: OKRUH VHČ | B4: VÝNOSY | F4: NÁKLADY | J4: HOSP. VÝSLEDEK
B5: SFP 2026 | C5: 3.ÚFP 2026 | D5: SK 30.06.2026 | E5: % SK/3.ÚFP 2026 | F5: SFP 2026 | G5: 3.ÚFP 2026 | H5: SK 30.06.2026 | I5: % SK/3.ÚFP 2026 | J5: SFP 2026 | K5: 3.ÚFP 2026 | L5: SK 30.06.2026 | M5: % SK/3.ÚFP 2026
A6: BYTOVÝ FOND (org. 5) | B6: ='org. 5'!B5 -> 113922 | C6: ='org. 5'!C5 -> 120921 | D6: ='Souhrnná tabulka JMM, a.s.'!D5 -> 70038 | E6: ='org. 5'!E5 -> 57.92046 | F6: ='org. 5'!B13 -> 64215 | G6: ='org. 5'!C13 -> 60016 | H6: ='org. 5'!D13 -> 4433 | I6: ='org. 5'!E13 -> 7.3863636 | J6: ='org. 5'!B34 -> 49707 | K6: ='org. 5'!C34 -> 60905 | L6: ='Souhrnná tabulka JMM, a.s.'!L5 -> 65605 | M6: ='org. 5'!E34 -> 107.71694
A7: NBF STRATEGICKÉ OBJEKTY (org.7) | B7: 0 | C7: ='org. 7'!C5 -> 98 | D7: ='Souhrnná tabulka JMM, a.s.'!D6 -> 10886 | E7: ='org. 7'!E6 -> 42.696894 | F7: 0 | G7: ='org. 7'!C13 -> 32754 | H7: ='org. 7'!D13 -> 10985 | I7: ='org. 7'!E13 -> 33.537889 | J7: 0 | K7: ='org. 7'!C31 -> -7258 | L7: ='Souhrnná tabulka JMM, a.s.'!L6 -> -99 | M7: ='org. 7'!E31 -> 1.3640121
A8: NBF ŠKOLSKÉ, KULTURNÍ A SPORTOVNÍ OBJEKTY (org. 9) | B8: ='org. 9'!B5 -> 55853 | C8: ='org. 9'!C5 -> 55368 | D8: ='Souhrnná tabulka JMM, a.s.'!D7 -> 26551 | E8: ='org. 9'!E5 -> 47.953692 | F8: ='org. 9'!B14 -> 107807 | G8: ='org. 9'!C14 -> 108555 | H8: ='org. 9'!D14 -> 17837 | I8: ='org. 9'!E14 -> 16.431302 | J8: ='org. 9'!B34 -> -51954 | K8: ='org. 9'!C34 -> -53187 | L8: ='Souhrnná tabulka JMM, a.s.'!L7 -> 8714 | M8: ='org. 9'!E34 -> 116.3837
A9: NBF OSTATNÍ OBJEKTY (org. 10) | B9: ='org. 10'!B5 -> 59955 | C9: ='org. 10'!C5 -> 40228 | D9: ='Souhrnná tabulka JMM, a.s.'!D8 -> 24181 | E9: ='org. 10'!E5 -> 60.109874 | F9: ='org. 10'!B13 -> 80854 | G9: ='org. 10'!C13 -> 63705 | H9: ='org. 10'!D13 -> 9830 | I9: ='org. 10'!E13 -> 15.4305 | J9: ='org. 10'!B32 -> -20899 | K9: ='org. 10'!C32 -> -23477 | L9: ='Souhrnná tabulka JMM, a.s.'!L8 -> 14351 | M9: ='org. 10'!E32 -> 161.12791
A10: NBF POZEMKY (org. 11) | B10: ='org. 11'!B4 -> 17711 | C10: ='org. 11'!C4 -> 17757 | D10: ='org. 11'!D4 -> 10563 | E10: ='org. 11'!E4 -> 59.4864 | F10: ='org. 11'!B12 -> 8925 | G10: ='org. 11'!C12 -> 8937 | H10: ='org. 11'!D12 -> 3228 | I10: ='org. 11'!E12 -> 36.119503 | J10: ='org. 11'!B27 -> 8786 | K10: ='org. 11'!C27 -> 8820 | L10: ='Souhrnná tabulka JMM, a.s.'!L9 -> 7335 | M10: ='org. 11'!E27 -> 83.163265
A11: ÚPLATNÝ PŘEVOD NEM. (org. 140) | B11: ='org. 140'!B4 -> 13487 | C11: ='org. 140'!C4 -> 13487 | D11: ='org. 140'!D4 -> 7859 | E11: ='org. 140'!E4 -> 58.270928 | F11: ='org. 140'!B10 -> 5 | G11: ='org. 140'!C10 -> 5 | H11: ='org. 140'!D10 -> 4 | I11: ='org. 140'!E10 -> 80 | J11: ='org. 140'!B13 -> 13482 | K11: ='org. 140'!C13 -> 13482 | L11: ='org. 140'!D13 -> 7855 | M11: ='org. 140'!E13 -> 58.262869
A12: OSTATNÍ HOSP. ČINNOST(org. 333) | B12: ='org. 333'!B4 -> 2253 | C12: ='org. 333'!C4 -> 2253 | D12: ='org. 333'!D4 -> 930 | E12: ='org. 333'!E4 -> 41.278296 | F12: ='org. 333'!B14 -> 573 | G12: ='org. 333'!C14 -> 573 | H12: ='org. 333'!D14 -> 243 | I12: ='org. 333'!E22 -> 40.892857 | J12: ='org. 333'!B22 -> 1680 | K12: ='org. 333'!C22 -> 1680 | L12: ='org. 333'!D22 -> 687 | M12: ='org. 333'!E22 -> 40.892857
A13: CELKEM | B13: =B6+B7+B8+B9+B10+B11+B12 -> 263181 | C13: =SUM(C6:C12) -> 250112 | D13: =SUM(D6:D12) -> 151008 | E13: =+D13/C13*100 -> 60.376151 | F13: =F6+F7+F8+F9+F10+F11+F12 -> 262379 | G13: =SUM(G6:G12) -> 274545 | H13: =SUM(H6:H12) -> 46560 | I13: =(H12/G12)*100 -> 42.408377 | J13: =J6+J7+J8+J9+J10+J11+J12 -> 802 | K13: =SUM(K6:K12) -> 965 | L13: =SUM(L6:L12) -> 104448 | M13: =(L13/K13)*100 -> 10823.627
A14: Pozn.: V hospodářském výsledku není zahrnuta předběžná daň z příjmů právnických osob (21 %) ani odpisy majetku - budou zaúčtovány až v prosinci 2026 a budou součástí ročních rozborů hospodaření.
A17: Informativně: použití zisku - zapojení do rozpočtu r. 2026 | J17: =+'Souhrnná tabulka JMM, a.s.'!J14+'Souhrnná tabulka MČ'!J10 -> 50000 | K17: =+'Souhrnná tabulka JMM, a.s.'!K14+'Souhrnná tabulka MČ'!K10 -> 50000 | L17: ='Souhrnná tabulka MČ'!L10+'Souhrnná tabulka JMM, a.s.'!L14 -> 25000 | M17: =L17/J17*100 -> 50
A18: Informativně: v tabulce zahrnutá předběžná DPPO | J18: =-1*(+'org. 5'!B9+'org. 9'!B10+'org. 10'!B9+'org. 11'!B8+'org. 140'!B8+'org. 333'!B11) -> 23520 | K18: =-1*('org. 5'!C9+'org. 9'!C10+'org. 10'!C9+'org. 11'!C8+'org. 140'!C8+'org. 333'!C11) -> 22330 | L18: =SUM('org. 5'!D9+'org. 9'!D10+'org. 10'!D9+'org. 11'!D8+'org. 140'!D8+'org. 333'!D11)*(-1) -> 0 | M18: =(L18/J18)*100 -> 0
A20: Vysvětlivky: | C20: SFP 2026 = schválený finanční plán na rok 2026
C21: 3.ÚFP 2026 = upravený finanční plán na rok 2026
C22: SK = plnění k 30.06.2026

Sheet Souhrnná tabulka JMM, a.s.
A1: Pnění finančního plánu VHČ - JMM, a.s., za 1. pololetí roku 2026
M2: v tis. Kč
A3: OKRUH VHČ | B3: VÝNOSY | F3: NÁKLADY | J3: HOSP. VÝSLEDEK
B4: SFP 2026 | C4: 3.ÚFP 2026 | D4: SK 30.06.2026 | E4: % SK/3.ÚFP 2026 | F4: SFP 2026 | G4: 3.ÚFP 2026 | H4: SK 30.06.2026 | I4: % SK/3.ÚFP 2026 | J4: SFP 2026 | K4: 3.ÚFP 2026 | L4: SK 30.06.2026 | M4: % SK/3. ÚFP 2026
A5: BYTOVÝ FOND (org. 5) | B5: ='org. 5'!B5 -> 113922 | C5: ='org. 5'!C5 -> 120921 | D5: ='org. 5'!D5 -> 70038 | E5: ='org. 5'!E5 -> 57.92046 | F5: ='org. 5'!B13 -> 64215 | G5: ='org. 5'!C13 -> 60016 | H5: ='org. 5'!D13 -> 4433 | I5: ='org. 5'!E13 -> 7.3863636 | J5: ='org. 5'!B34 -> 49707 | K5: ='org. 5'!C34 -> 60905 | L5: ='org. 5'!D34 -> 65605 | M5: ='org. 5'!E34 -> 107.71694
A6: NBF STRATEGICKÉ OBJEKTY (org.7) | C6: ='org. 7'!C5 -> 98 | D6: ='org. 7'!D6 -> 10886 | E6: ='org. 7'!E6 -> 42.696894 | G6: ='org. 7'!C13 -> 32754 | H6: ='org. 7'!D13 -> 10985 | I6: ='org. 7'!E13 -> 33.537889 | K6: ='org. 7'!C31 -> -7258 | L6: ='org. 7'!D31 -> -99 | M6: ='org. 7'!E31 -> 1.3640121
A7: NBF ŠKOLSKÉ, KULTURNÍ A SPORTOVNÍ OBJEKTY (org. 9) | B7: ='org. 9'!B5 -> 55853 | C7: ='org. 9'!C5 -> 55368 | D7: ='org. 9'!D5 -> 26551 | E7: ='org. 9'!E5 -> 47.953692 | F7: ='org. 9'!B14 -> 107807 | G7: ='org. 9'!C14 -> 108555 | H7: ='org. 9'!D14 -> 17837 | I7: ='org. 9'!E14 -> 16.431302 | J7: ='org. 9'!B34 -> -51954 | K7: ='org. 9'!C34 -> -53187 | L7: ='org. 9'!D34 -> 8714 | M7: ='org. 9'!E34 -> 116.3837
A8: NBF OBJEKTY (org. 10) | B8: ='org. 10'!B5 -> 59955 | C8: ='org. 10'!C5 -> 40228 | D8: ='org. 10'!D5 -> 24181 | E8: ='org. 10'!E5 -> 60.109874 | F8: ='org. 10'!B13 -> 80854 | G8: ='org. 10'!C13 -> 63705 | H8: ='org. 10'!D13 -> 9830 | I8: ='org. 10'!E13 -> 15.4305 | J8: ='org. 10'!B32 -> -20899 | K8: ='org. 10'!C32 -> -23477 | L8: ='org. 10'!D32 -> 14351 | M8: ='org. 10'!E32 -> 161.12791
A9: NBF POZEMKY (org. 11) | B9: ='org. 11'!B4 -> 17711 | C9: ='org. 11'!C4 -> 17757 | D9: ='org. 11'!D4 -> 10563 | E9: ='org. 11'!E4 -> 59.4864 | F9: ='org. 11'!B12 -> 8925 | G9: ='org. 11'!C12 -> 8937 | H9: ='org. 11'!D12 -> 3228 | I9: ='org. 11'!E12 -> 36.119503 | J9: ='org. 11'!B27 -> 8786 | K9: ='org. 11'!C27 -> 8820 | L9: ='org. 11'!D27 -> 7335 | M9: ='org. 11'!E27 -> 83.163265
A10: CELKEM | B10: =SUM(B5:B9) -> 247441 | C10: =SUM(C5:C9) -> 234372 | D10: =SUM(D5:D9) -> 142219 | E10: =(D10/B10)*100 -> 57.475924 | F10: =SUM(F5:F9) -> 261801 | G10: =SUM(G5:G9) -> 273967 | H10: =SUM(H5:H9) -> 46313 | I10: =(H10/F10)*100 -> 17.690154 | J10: =SUM(J5:J9) -> -14360 | K10: =SUM(K5:K9) -> -14197 | L10: =SUM(L5:L9) -> 95906 | M10: =(L10/K10)*-100 -> 675.53709
A14: Informativně: použití zisku - zapojení do rozpočtu r. 2026 | J14: ='org. 5'!B35+'org. 9'!B35+'org. 10'!B33+'org. 11'!B28 -> 45000 | K14: =+'org. 5'!C35+'org. 9'!C35+'org. 10'!C33+'org. 11'!C28 -> 45000 | L14: ='org. 5'!D35+'org. 9'!D35+'org. 10'!D33+'org. 11'!D28 -> 22500 | M14: =(L14/J14)*100 -> 50

Sheet org. 5
A1: Oblast: | B1: BYTOVÝ FOND
E2: v tis. Kč
B3: SFP 2026 | C3: 3.ÚFP 2026 | D3: SK 30.06.2026 | E3: % SK/3.ÚFP 2026
A4: Počet bytů | B4: 1311 | C4: 1213 | D4: 1213 | E4: =+D4/C4*100 -> 100
A5: VÝNOSY | B5: =SUM(B6+B8) -> 113922 | C5: =SUM(C6+C8) -> 120921 | D5: =D6+D8 -> 70038 | E5: =(D5/C5)*100 -> 57.92046
A6: Výnosy z činnosti | B6: =SUM(B7) -> 127810 | C6: =SUM(C7) -> 132940 | D6: =SUM(D7) -> 69157 | E6: =(D6/C6)*100 -> 52.021213
A7: Výnosy z pronájmu | B7: 127810 | C7: =136076-3136 -> 132940 | D7: 69157 | E7: =(D7/C7)*100 -> 52.021213
A8: Režijní výnosy | B8: =SUM(B9:B12) -> -13888 | C8: =SUM(C9:C12) -> -12019 | D8: =SUM(D9:D12) -> 881 | E8: =100-(D8/C8)*100 -> 107.33006
A9: DPPO (předběžná) | B9: -15459 | C9: -13609 | D9: 0 | E9: =(D9/C9)*100 -> 0
A10: Finanční výnosy | B10: 981 | C10: 1000 | D10: 561 | E10: =(D10/C10)*100 -> 56.1
A11: Ostatní výnosy | B11: 50 | C11: 50 | D11: 69 | E11: =(D11/C11)*100 -> 138
A12: Výnosy ze smluvních pokut a úroků z prodlení | B12: 540 | C12: 540 | D12: 251 | E12: =(D12/C12)*100 -> 46.481481
A13: NÁKLADY | B13: =SUM(B17+B22+B26+B30+B14) -> 64215 | C13: =SUM(C17+C22+C26+C30+C14) -> 60016 | D13: =D14+D17+D22+D26+D30 -> 4433 | E13: =(D13/C13)*100 -> 7.3863636
A14: Spotřeba materiálu a energií | B14: =SUM(B15:B16) -> 700 | C14: =SUM(C15:C16) -> 680 | D14: =SUM(D15:D16) -> 235 | E14: =(D14/C14)*100 -> 34.558824
A15: Energie | B15: 350 | C15: 330 | D15: 141 | E15: =(D15/C15)*100 -> 42.727273
A16: Materiál | B16: 350 | C16: 350 | D16: 94 | E16: =(D16/C16)*100 -> 26.857143
A17: Opravy a udržování | B17: =SUM(B18:B21) -> 21890 | C17: =SUM(C18:C21) -> 19736 | D17: =SUM(D18:D21) -> -774 | E17: =(D17/C17)*100 -> -3.9217673
A18: Běžná údržba | B18: 4500 | C18: =6500-520 -> 5980 | D18: 4325 | E18: =(D18/C18)*100 -> 72.324415
A19: Běžná údržba - čerpání FO v SVJ | B19: 10290 | C19: 6601 | D19: -6708 | E19: =(D19/C19)*100-100 -> -201.62097
A20: Havárie (vč. SVJ) | B20: 600 | C20: =600-145 -> 455 | D20: 344 | E20: =(D20/C20)*100 -> 75.604396
A21: Jmenovité opravy | B21: 6500 | C21: =8500-1700-100 -> 6700 | D21: 1265 | E21: =(D21/C21)*100 -> 18.880597
A22: Služby | B22: =SUM(B23:B25) -> 3200 | C22: =SUM(C23:C25) -> 2980 | D22: =SUM(D23:D25) -> 1063 | E22: =(D22/C22)*100 -> 35.671141
A23: Úklid, údržba, provoz | B23: 1500 | C23: =1500-100-10-20-70 -> 1300 | D23: 457 | E23: =(D23/C23)*100 -> 35.153846
A24: Inženýrské a právní služby | B24: 200 | C24: 300 | D24: 90 | E24: =(D24/C24)*100 -> 30
A25: Ostatní služby | B25: 1500 | C25: =1500-120 -> 1380 | D25: 516 | E25: =(D25/C25)*100 -> 37.391304
A26: Režie | B26: =SUM(B27:B29) -> 29628 | C26: =SUM(C27:C29) -> 30035 | D26: =SUM(D27:D29) -> 2938 | E26: =(D26/C26)*100 -> 9.7819211
A27: Odměna za správu | B27: 13732 | C27: =14645-364-42 -> 14239 | D27: 5456 | E27: =(D27/C27)*100 -> 38.317298
A28: Osobní náklady | B28: 7326 | C28: 7326 | D28: 2751 | E28: =(D28/C28)*100 -> 37.551188
A29: Ostatní náklady | B29: 8570 | C29: =8570-100 -> 8470 | D29: -5269 | E29: =(D29/C29)*100-100 -> -162.20779
A30: Úpravy hodnot | B30: =SUM(B31:B33) -> 8797 | C30: =SUM(C31:C33) -> 6585 | D30: =SUM(D31:D33) -> 971 | E30: =(D30/C30)*100 -> 14.745634
A31: Odpisy majetku | B31: 8508 | C31: =6990-985 -> 6005 | D31: 0 | E31: =(D31/C31)*100 -> 0
A32: Odpisy pohledávek | B32: 239 | C32: 530 | D32: 971 | E32: =(D32/C32)*100 -> 183.20755
A33: Opravné položky | B33: 50 | C33: 50 | D33: 0 | E33: =(D33/C33)*100 -> 0
A34: H V - ztráta/ + zisk | B34: =SUM(B5-B13) -> 49707 | C34: =SUM(C5-C13) -> 60905 | D34: =D5-D13 -> 65605 | E34: =(D34/C34)*100 -> 107.71694
A35: POUŽITÍ ZISKU Z PŘEDCH. LET | B35: 45000 | C35: 45000 | D35: 22500 | E35: =(D35/C35)*100 -> 50

Sheet org. 7
A1: Oblast: NBF STRATEGICKÉ OBJEKTY
E2: v tis. Kč
B3: SFP 2026 | C3: 3.ÚFP 2026 | D3: SK 30.06.2026 | E3: % SK/3.ÚFP 2026
A4: Počet objektů | B4: 0 | C4: 6 | D4: 7 | E4: =SUM(D4/C4)*100 -> 116.66667
A5: Počet obytů | B5: 0 | C5: 98 | D5: 98 | E5: =SUM(D5/C5*100) -> 100
A6: VÝNOSY | B6: =SUM(B7+B9) -> 0 | C6: =SUM(C7+C9) -> 25496 | D6: =D7+D9 -> 10886 | E6: =SUM(D6/C6*100) -> 42.696894
A7: Výnosy z činnosti | B7: =SUM(B8:B8) -> 0 | C7: =SUM(C8) -> 25486 | D7: =SUM(D8:D8) -> 10856 | E7: =SUM(D7/C7*100) -> 42.595935
A8: Výnosy z pronájmu | B8: 0 | C8: 25486 | D8: 10856 | E8: =SUM(D8/C8*100) -> 42.595935
A9: Režijní výnosy | B9: =SUM(B10:B11) -> 0 | C9: =SUM(C10:C12) -> 10 | D9: =SUM(D10:D12) -> 30 | E9: =SUM(D9/C9)*100 -> 300
A10: DPPO (předběžná) | B10: 0 | C10: -7 | D10: 0 | E10: 0
A11: Finanční výnosy | B11: 0 | C11: 5 | D11: 27 | E11: =SUM((D11/C11)*100) -> 540
A12: Výnosy ze snluvních pokut a úroků z prodlení | B12: 0 | C12: 12 | D12: 3 | E12: =SUM((D12/C12)*100) -> 25
A13: NÁKLADY | B13: =SUM(B17+B21+B25+B29+B14) -> 0 | C13: =SUM(C17+C21+C25+C29+C14) -> 32754 | D13: =D14+D17+D21+D25+D29 -> 10985 | E13: =SUM((D13/C13)*100) -> 33.537889
A14: Spotřeba materiálu a energií | B14: =SUM(B15:B16) -> 0 | C14: =SUM(C15:C16) -> 120 | D14: =SUM(D15:D16) -> 2 | E14: =SUM((D14/C14)*100) -> 1.6666667
A15: Materiál | B15: 0 | C15: 40 | D15: 2 | E15: =SUM((D15/C15)*100) -> 5
A16: Energie | B16: 0 | C16: 80 | D16: 0 | E16: =SUM((D16/C16)*100) -> 0
A17: Opravy a udržování | B17: 0 | C17: =SUM(C18:C20) -> 16420 | D17: =SUM(D18:D20) -> 7788 | E17: =SUM((D17/C17)*100) -> 47.429963
A18: Běžná údržba | B18: 0 | C18: 5020 | D18: 2741 | E18: =SUM((D18/C18)*100) -> 54.601594
A19: Havárie | B19: 0 | C19: 600 | D19: 591 | E19: =SUM((D19/C19)*100) -> 98.5
A20: Jmenovité opravy | B20: 0 | C20: 10800 | D20: 4456 | E20: =SUM((D20/C20)*100) -> 41.259259
A21: Služby | B21: 0 | C21: =SUM(C22:C24) -> 5470 | D21: =SUM(D22:D24) -> 2108 | E21: =SUM((D21/C21)*100) -> 38.537477
A22: Úklid, údržba, provoz | B22: 0 | C22: 2700 | D22: 1022 | E22: =SUM((D22/C22)*100) -> 37.851852
A23: Inženýrské a právní služby | B23: 0 | C23: 750 | D23: 178 | E23: =SUM((D23/C23)*100) -> 23.733333
A24: Ostatní služby | B24: 0 | C24: 2020 | D24: 908 | E24: =SUM((D24/C24)*100) -> 44.950495
A25: Režie | B25: =SUM(B26:B28) -> 0 | C25: =SUM(C26:C28) -> 3459 | D25: =SUM(D26:D28) -> 1087 | E25: =SUM((D25/C25)*100) -> 31.425267
A26: Odměna za správu | B26: 0 | C26: 3201 | D26: 1060 | E26: =SUM((D26/C26)*100) -> 33.114652
A27: Osobní náklady | B27: 0 | C27: 158 | D27: 27 | E27: =SUM(D27/C27)*100 -> 17.088608
A28: Ostatní náklady | B28: 0 | C28: 100 | D28: 0 | E28: =SUM((D28/C28)*100) -> 0
A29: Úpravy hodnot | B29: 0 | C29: =SUM(C30) -> 7285 | D29: =SUM(D30:D30) -> 0 | E29: =SUM((D29/C29)*100) -> 0
A30: Odpisy majetku | B30: 0 | C30: 7285 | D30: 0 | E30: =SUM((D30/C30)*100) -> 0
A31: H V - ztráta/ + zisk | B31: =SUM(B6-B13) -> 0 | C31: =SUM(C6-C13) -> -7258 | D31: =D6-D13 -> -99 | E31: =SUM((D31/C31)*100) -> 1.3640121
A32: POUŽITÍ ZISKU Z PŘEDCH. LET | B32: 0 | C32: 0 | D32: 0 | E32: 0

Sheet org. 9
A1: Oblast: NBF ŠKOLSKÉ, KULTURNÍ A SPORTOVNÍ OBJEKTY
E2: v tis. Kč
B3: SFP 2026 | C3: 3.ÚFP 2026 | D3: SK 30.06.2026 | E3: % SK/3.ÚFP 2026
A4: Počet objektů | B4: 48 | C4: 47 | D4: 47 | E4: =(D4/C4)*100 -> 100
A5: VÝNOSY | B5: =SUM(B6+B9) -> 55853 | C5: =SUM(C6+C9) -> 55368 | D5: =D6+D9 -> 26551 | E5: =(D5/C5)*100 -> 47.953692
A6: Výnosy z činnosti | B6: =SUM(B7:B8) -> 55454 | C6: =SUM(C7:C8) -> 54919 | D6: =SUM(D7:D8) -> 26373 | E6: =(D6/C6)*100 -> 48.021632
A7: Výnosy z pronájmu | B7: 54580 | C7: 54370 | D7: 26853 | E7: =(D7/C7)*100 -> 49.389369
A8: Výnosy ze služeb | B8: 874 | C8: 549 | D8: -480 | E8: =-100+(D8/C8)*100 -> -187.43169
A9: Režijní výnosy | B9: =SUM(B10:B13) -> 399 | C9: =SUM(C10:C13) -> 449 | D9: =SUM(D10:D13) -> 178 | E9: =(D9/C9)*100 -> 39.643653
A10: DPPO (předběžná) | B10: -52 | C10: 0 | D10: 0 | E10: 0
A11: Finanční výnosy | B11: 351 | C11: 349 | D11: 161 | E11: =(D11/C11)*100 -> 46.131805
A12: Ostatní výnosy | B12: 100 | C12: 100 | D12: 13 | E12: =(D12/C12)*100 -> 13
A13: Výnosy ze snluvních pokut a úroků z prodlení | B13: 0 | C13: 0 | D13: 4 | E13: 0
A14: NÁKLADY | B14: =SUM(B18+B22+B26+B30+B15) -> 107807 | C14: =SUM(C18+C22+C26+C30+C15) -> 108555 | D14: =SUM(D15+D18+D22+D26+D30) -> 17837 | E14: =(D14/C14)*100 -> 16.431302
A15: Spotřeba materiálu a energií | B15: =SUM(B16:B17) -> 160 | C15: =SUM(C16:C17) -> 130 | D15: =SUM(D16:D17) -> 76 | E15: =(D15/C15)*100 -> 58.461538
A16: Materiál | B16: 140 | C16: 110 | D16: 73 | E16: =(D16/C16)*100 -> 66.363636
A17: Energie | B17: 20 | C17: 20 | D17: 3 | E17: =(D17/C17)*100 -> 15
A18: Opravy a udržování | B18: =SUM(B19:B21) -> 23700 | C18: =SUM(C19:C21) -> 22168 | D18: =SUM(D19:D21) -> 5265 | E18: =(D18/C18)*100 -> 23.750451
A19: Běžná údržba | B19: 10000 | C19: 8000 | D19: 3958 | E19: =(D19/C19)*100 -> 49.475
A20: Havárie | B20: 1000 | C20: 800 | D20: 301 | E20: =(D20/C20)*100 -> 37.625
A21: Jmenovité opravy | B21: 12700 | C21: 13368 | D21: 1006 | E21: =(D21/C21)*100 -> 7.5254339
A22: Služby | B22: =SUM(B23:B25) -> 18000 | C22: =SUM(C23:C25) -> 21692 | D22: =SUM(D23:D25) -> 6801 | E22: =(D22/C22)*100 -> 31.352572
A23: Úklid, údržba, provoz | B23: 8500 | C23: 8200 | D23: 3823 | E23: =(D23/C23)*100 -> 46.621951
A24: Inženýrské a právní služby | B24: 2000 | C24: 5450 | D24: 1179 | E24: =(D24/C24)*100 -> 21.633028
A25: Ostatní služby | B25: 7500 | C25: 8042 | D25: 1799 | E25: =(D25/C25)*100 -> 22.370057
A26: Režie | B26: =SUM(B27:B29) -> 13748 | C26: =SUM(C27:C29) -> 13620 | D26: =SUM(D27:D29) -> 5687 | E26: =(D26/C26)*100 -> 41.754772
A27: Odměna za správu | B27: 10266 | C27: 10138 | D27: 4349 | E27: =(D27/C27)*100 -> 42.898007
A28: Osobní náklady | B28: 3282 | C28: 3282 | D28: 1257 | E28: =(D28/C28)*100 -> 38.299817
A29: Ostatní náklady | B29: 200 | C29: 200 | D29: 81 | E29: =(D29/C29)*100 -> 40.5
A30: Úpravy hodnot | B30: =SUM(B31:B33) -> 52199 | C30: =SUM(C31:C33) -> 50945 | D30: =SUM(D31:D33) -> 8 | E30: =(D30/C30)*100 -> 0.015703209
A31: Odpisy majetku | B31: 52149 | C31: 50895 | D31: 0 | E31: =(D31/C31)*100 -> 0
A32: Odpis pohledávek | B32: 0 | C32: 0 | D32: 8 | E32: x
A33: Opravné položky | B33: 50 | C33: 50 | D33: 0 | E33: =(D33/C33)*100 -> 0
A34: H V - ztráta/ + zisk | B34: =SUM(B5-B14) -> -51954 | C34: =SUM(C5-C14) -> -53187 | D34: =D5-D14 -> 8714 | E34: =100+-(D34/C34)*100 -> 116.3837
A35: POUŽITÍ ZISKU Z PŘEDCH. LET | B35: 0 | C35: 0 | D35: 0 | E35: 0

Sheet org. 9 - jmenovité opravy
D2: Oblast: NBF ŠKOLSKÉ, KULTURNÍ A SPORTOVNÍ OBJEKTY - položka jmenovité opravy
H3: v tis. Kč | I3: %
D4: Jmenovité akce 2026 | F4: SFP 2026 | G4: 3.ÚFP 2026 | H4: SK | I4: SK/3.ÚFP
D5: LEDVINOVA 86, Chodovská tvrz | E5: Očištění, opravy a nátěr šindelové střechy – Chodovská tvrz | F5: 400 | G5: 577 | H5: 0 | I5: 0
F6: 500 | G6: 436 | H6: 0 | I6: 0
E7: Renovace dřevěných špaletových oken a dvěří | F7: 0 | G7: 1571 | H7: 0 | I7: 0
D8: ZŠ K MILÍČOVU 674 | E8: Oprava herní gumové plochy mezi pavilony B1 a B2 | F8: 300 | G8: =296+110 -> 406 | H8: 0 | I8: 0
D9: ZŠ KE KATEŘINKÁM 1400 | E9: Oprava dlažby v atriu C1 | F9: 400 | G9: 655 | H9: 0 | I9: 0
E10: Výměna podhledů v pavilonu D2 | F10: 400 | G10: 511 | H10: 0 | I10: 0
D11: ZŠ KVĚTNOVÉHO VÍTĚZSTVÍ 1554 | E11: Mytí fasády objektu školy vč. drobných oprav fasády a impregnace | F11: 500 | G11: 273 | H11: 0 | I11: 0
D12: ZŠ MIKULOVA 1594 | E12: Oprava atria č.1 | F12: 500 | G12: 136 | H12: 0 | I12: 0
D13: ZŠ DONOVALSKÁ 1684 | E13: Výměna osvětlení ve třídách dle požadavku školy | F13: 400 | G13: 896 | H13: 0 | I13: 0
D14: ZŠ CAMPANUS, JÍROVCOVO NÁM. 1782 | E14: Oprava venkovní kanalizace u pavilonu C2 | F14: 500 | G14: 116 | H14: 0 | I14: 0
E15: Výměna osvětlení ve třídách dle požadavku školy | F15: 400 | G15: 737 | H15: 0 | I15: 0
D16: ZŠ POŠEPNÉHO NÁM. 2022 | E16: ZŠ - výměna osvětlení | F16: 400 | G16: 579 | H16: 0 | I16: 0
D17: ZŠ MENDELOVA 550 | E17: Výměna rohových lišt | F17: 500 | G17: 200 | H17: 0 | I17: 0
E18: Výměna interiérových dveří | F18: 500 | G18: 210 | H18: 0 | I18: 0
D19: MŠ MÍROVÉHO HNUTÍ 1680 | E19: Oprava sociálního zázemí (5 x sprcha a 5 x toaleta) | F19: 500 | G19: 523 | H19: 0 | I19: 0
D20: ZŠ KVĚTNOVÉHO VÍTĚZSTVÍ 57 | E20: Oprava podlahy v přízemí - strará budova | F20: 600 | G20: 418 | H20: 0 | I20: 0
D21: MŠ V BENÁTKÁCH 1751 | E21: Výměna osvětlení v celém objektu | F21: 1000 | G21: 1207 | H21: 0 | I21: 0
D22: MŠ BABÁKOVA 2149 | E22: Výměna osvětlení | F22: 1000 | G22: 847 | H22: 0 | I22: 0
D23: MŠ DUBNOVA 806 | E23: Oprava plotu včetně podezdívek | F23: 500 | G23: =527 -> 527 | H23: 0 | I23: 0
D24: MŠ BLATENSKÁ 2145 | E24: Výměna zbývajícího nevyhovujícího osvětlení | F24: 600 | G24: =666*0 -> 0 | H24: 0 | I24: 0
D25: MŠ HRABÁKOVA 2000 | E25: Oprava plotu včetně podezdívek | F25: 300 | G25: 0 | H25: 0 | I25: 0
D26: ZŠ KVĚTNOVÉHO VÍTĚZSTVÍ 57 | E26: Výměna staré hliníkové elektroinstalace, zasekání lišt, výmalba celé školy (chodeb) a tříd | F26: 0 | G26: 0 | H26: 0 | I26: 0
D27: ZŠ KVĚTNOVÉHO VÍTĚZSTVÍ 57 | E27: Oprava dveří v celé budově (prioritně nejstarších), nátěr dveří | F27: 0 | G27: 0 | H27: 0 | I27: 0
D28: ZŠ KVĚTNOVÉHO VÍTĚZSTVÍ 57 | E28: Výměna zabezpečovacího zařízení v části staré školy a napojení na novou v novém křídle školy | F28: 0 | G28: 0 | H28: 0 | I28: 0
D29: ZŠ KVĚTNOVÉHO VÍTĚZSTVÍ 57 | E29: Oplocení celého areálu školy, zejména vyřešit rozpadající se část u restaurace XL restaurace | F29: 0 | G29: 607 | H29: 0 | I29: 0
D30: Jmenovité akce celkem | F30: =SUM(F5:F29) -> 10200 | G30: =SUM(G5:G29) -> 11432 | H30: =SUM(H5:H29) -> 0 | I30: 0
D31: Finanční rezerva pro jmenovité akce | F31: 500 | G31: 136 | H31: 0 | I31: 0
D32: Opravy po revizích | F32: 2000 | G32: 1800 | H32: 1006 | I32: =+H32/G32*100 -> 55.888889
D33: CELKEM položka jmenovité opravy | F33: =F30+F31+F32 -> 12700 | G33: =SUM(G30:G32) -> 13368 | H33: =H30+H31+H32 -> 1006 | I33: =+H33/G33*100 -> 7.5254339

Sheet org. 10
A1: Oblast: | B1: NBF OSTATNÍ OBJEKTY
E2: v tis. Kč
B3: SFP 2026 | C3: 3. ÚFP 2026 | D3: SK 30.06.2026 | E3: % SK/3.ÚFP2026
A4: Počet objektů | B4: 22 | C4: 19 | D4: 19 | E4: =+D4/C4*100 -> 100
A5: VÝNOSY | B5: =SUM(B6+B8) -> 59955 | C5: =SUM(C6+C8) -> 40228 | D5: =D6+D8 -> 24181 | E5: =(D5/C5)*100 -> 60.109874
A6: Výnosy z činnosti | B6: =SUM(B7) -> 61107 | C6: =SUM(C7) -> 41975 | D6: =SUM(D7) -> 23852 | E6: =(D6/C6)*100 -> 56.8243
A7: Výnosy z pronájmu | B7: 61107 | C7: 41975 | D7: 23852 | E7: =(D7/C7)*100 -> 56.8243
A8: Režijní výnosy | B8: =SUM(B9:B12) -> -1152 | C8: =SUM(C9:C12) -> -1747 | D8: =SUM(D9:D12) -> 329 | E8: =(D8/-C8)*100+100 -> 118.83228
A9: DPPO (předběžná) | B9: -1642 | C9: -2345 | D9: 0 | E9: =(D9/C9)*100 -> 0
A10: Finanční výnosy | B10: 430 | C10: 514 | D10: 252 | E10: =(D10/C10)*100 -> 49.027237
A11: Ostatní výnosy | B11: 50 | C11: 50 | D11: 18 | E11: =(D11/C11)*100 -> 36
A12: Výnosy ze smluvních pokut a úroků z prodlení | B12: 10 | C12: 34 | D12: 59 | E12: =(D12/C12)*100 -> 173.52941
A13: NÁKLADY | B13: =SUM(B17+B21+B25+B29+B14) -> 80854 | C13: =SUM(C17+C21+C25+C29+C14) -> 63705 | D13: =D14+D17+D21+D25+D29 -> 9830 | E13: =(D13/C13)*100 -> 15.4305
A14: Spotřeba materiálu a energií | B14: =SUM(B15:B16) -> 3120 | C14: =SUM(C15:C16) -> 1620 | D14: =SUM(D15:D16) -> 1905 | E14: =(D14/C14)*100 -> 117.59259
A15: Energie | B15: 3000 | C15: 1500 | D15: 1885 | E15: =(D15/C15)*100 -> 125.66667
A16: Materiál | B16: 120 | C16: 120 | D16: 20 | E16: =(D16/C16)*100 -> 16.666667
A17: Opravy a udržování | B17: =SUM(B18:B20) -> 27000 | C17: =SUM(C18:C20) -> 10400 | D17: =SUM(D18:D20) -> 2957 | E17: =(D17/C17)*100 -> 28.432692
A18: Běžná údržba | B18: 7000 | C18: 6000 | D18: 2334 | E18: =(D18/C18)*100 -> 38.9
A19: Havárie | B19: 3000 | C19: 2700 | D19: 352 | E19: =(D19/C19)*100 -> 13.037037
A20: Jmenovité opravy | B20: 17000 | C20: 1700 | D20: 271 | E20: =(D20/C20)*100 -> 15.941176
A21: Služby | B21: =SUM(B22:B24) -> 14500 | C21: =SUM(C22:C24) -> 12350 | D21: =SUM(D22:D24) -> 2314 | E21: =(D21/C21)*100 -> 18.736842
A22: Úklid, údržba, provoz | B22: 6000 | C22: 5000 | D22: 611 | E22: =(D22/C22)*100 -> 12.22
A23: Inženýrské a právní služby | B23: 1000 | C23: 350 | D23: 47 | E23: =(D23/C23)*100 -> 13.428571
A24: Ostatní služby | B24: 7500 | C24: 7000 | D24: 1656 | E24: =(D24/C24)*100 -> 23.657143
A25: Režie | B25: =SUM(B26:B28) -> 9108 | C25: =SUM(C26:C28) -> 6988 | D25: =SUM(D26:D28) -> 2654 | E25: =(D25/C25)*100 -> 37.979393
A26: Odměna za správu | B26: 6537 | C26: 4575 | D26: 2004 | E26: =(D26/C26)*100 -> 43.803279
A27: Osobní náklady | B27: 1871 | C27: 1713 | D27: 554 | E27: =(D27/C27)*100 -> 32.340922
A28: Ostatní náklady | B28: 700 | C28: 700 | D28: 96 | E28: =(D28/C28)*100 -> 13.714286
A29: Úpravy hodnot | B29: =SUM(B30:B31) -> 27126 | C29: =SUM(C30:C31) -> 32347 | D29: =SUM(D30:D31) -> 0 | E29: =(D29/C29)*100 -> 0
A30: Odpisy majetku | B30: 27076 | C30: 32297 | D30: 0 | E30: =(D30/C30)*100 -> 0
A31: Opravné položky | B31: 50 | C31: 50 | D31: 0 | E31: =(D31/C31)*100 -> 0
A32: H V - ztráta/ + zisk | B32: =SUM(B5-B13) -> -20899 | C32: =SUM(C5-C13) -> -23477 | D32: =D5-D13 -> 14351 | E32: =(D32/-C32)*100+100 -> 161.12791
A33: POUŽITÍ ZISKU Z PŘEDCH. LET | B33: 0 | C33: 0 | D33: 0 | E33: 0

Sheet org. 11
A1: Oblast: | B1: NBF POZEMKY
E2: v tis. Kč
B3: SFP 2026 | C3: 3.ÚFP 2026 | D3: SK 30.06.2026 | E3: % SK/3.ÚFP 2026
A4: VÝNOSY | B4: =SUM(B5+B7) -> 17711 | C4: =SUM(C5+C7) -> 17757 | D4: =D5+D7 -> 10563 | E4: =(D4/C4)*100 -> 59.4864
A5: Výnosy z činnosti | B5: =SUM(B6) -> 20002 | C5: =SUM(C6) -> 20002 | D5: =SUM(D6) -> 10480 | E5: =(D5/C5)*100 -> 52.394761
A6: Výnosy z pronájmu | B6: 20002 | C6: 20002 | D6: 10480 | E6: =D6/C6*100 -> 52.394761
A7: Režijní výnosy | B7: =SUM(B8:B11) -> -2291 | C7: =SUM(C8:C11) -> -2245 | D7: =SUM(D8:D11) -> 83 | E7: =(D7/-C7)*100+100 -> 103.6971
A8: DPPO (předběžná) | B8: -2336 | C8: -2345 | D8: 0 | E8: =(D8/C8)*100 -> 0
A9: Finanční výnosy | B9: 30 | C9: 30 | D9: 20 | E9: =(D9/C9)*100 -> 66.666667
A10: Ostatní výnosy | B10: 0 | C10: 55 | D10: 56 | E10: =SUM((D10/C10)*100) -> 101.81818
A11: Výnosy ze smluvních pokut a úroků z prodlení | B11: 15 | C11: 15 | D11: 7 | E11: =(D11/C11)*100 -> 46.666667
A12: NÁKLADY | B12: =SUM(B15+B17+B21+B25+B13) -> 8925 | C12: =SUM(C15+C17+C21+C25+C13) -> 8937 | D12: =D13+D15+D17+D21+D25 -> 3228 | E12: =(D12/C12)*100 -> 36.119503
A13: Spotřeba materiálu a energií | B13: =SUM(B14) -> 250 | C13: =SUM(C14) -> 250 | D13: =SUM(D14) -> 78 | E13: =(D13/C13)*100 -> 31.2
A14: Materiál | B14: 250 | C14: 250 | D14: 78 | E14: =(D14/C14)*100 -> 31.2
A15: Opravy a udržování | B15: =SUM(B16) -> 50 | C15: =SUM(C16) -> 50 | D15: =SUM(D16) -> 2 | E15: =(D15/C15)*100 -> 4
A16: Běžná údržba | B16: 50 | C16: 50 | D16: 2 | E16: =(D16/C16)*100 -> 4
A17: Služby | B17: =SUM(B18:B20) -> 665 | C17: =SUM(C18:C20) -> 665 | D17: =SUM(D18:D20) -> 326 | E17: =(D17/C17)*100 -> 49.022556
A18: Úklid, údržba, provoz | B18: 20 | C18: 20 | D18: 0 | E18: =(D18/C18)*100 -> 0
A19: Inženýrské a právní služby | B19: 100 | C19: 100 | D19: 23 | E19: =(D19/C19)*100 -> 23
A20: Ostatní služby | B20: 545 | C20: 545 | D20: 303 | E20: =(D20/C20)*100 -> 55.59633
A21: Režie | B21: =SUM(B22:B24) -> 7910 | C21: =SUM(C22:C24) -> 7922 | D21: =SUM(D22:D24) -> 2822 | E21: =(D21/C21)*100 -> 35.622318
A22: Odměna za správu | B22: 502 | C22: 514 | D22: 214 | E22: =(D22/C22)*100 -> 41.634241
A23: Osobní náklady | B23: 7348 | C23: 7348 | D23: 2608 | E23: =(D23/C23)*100 -> 35.492651
A24: Ostatní náklady | B24: 60 | C24: 60 | D24: 0 | E24: =(D24/C24)*100 -> 0
A25: Úpravy hodnot | B25: =SUM(B26) -> 50 | C25: =SUM(C26) -> 50 | D25: =SUM(D26) -> 0 | E25: =(D25/C25)*100 -> 0
A26: Opravné položky | B26: 50 | C26: 50 | D26: 0 | E26: =(D26/C26)*100 -> 0
A27: H V - ztráta/ + zisk | B27: =SUM(B4-B12) -> 8786 | C27: =SUM(C4-C12) -> 8820 | D27: =D4-D12 -> 7335 | E27: =(D27/C27)*100 -> 83.163265
A28: POUŽITÍ ZISKU Z PŘEDCH. LET | B28: 0 | C28: 0 | D28: 0 | E28: 0

Sheet Souhrnná tabulka MČ
A1: Plnění finančního plánu VHČ - MČ k 30.06.2026
J2: v tis. Kč
A3: OKRUH VHČ | B3: VÝNOSY | F3: NÁKLADY | J3: HOSP. VÝSLEDEK
B4: SFP 2026 | C4: 3.ÚFP 2026 | D4: SK 30.06.2026 | E4: % SK/3.ÚFP 2026 | F4: =B4 -> SFP 2026 | G4: =C4 -> 3.ÚFP 2026 | H4: =D4 -> SK 30.06.2026 | I4: =E4 -> % SK/3.ÚFP 2026 | J4: =B4 -> SFP 2026 | K4: =C4 -> 3.ÚFP 2026 | L4: =H4 -> SK 30.06.2026 | M4: =E4 -> % SK/3.ÚFP 2026
A5: ÚPLATNÝ PŘEVOD NEMOVITOSTÍ (org. 140) | B5: ='org. 140'!B4 -> 13487 | C5: ='org. 140'!C4 -> 13487 | D5: =+'org. 140'!D4 -> 7859 | E5: =(D5/B5)*100 -> 58.270928 | F5: ='org. 140'!B10 -> 5 | G5: ='org. 140'!C10 -> 5 | H5: =+'org. 140'!D10 -> 4 | I5: =(H5/F5)*100 -> 80 | J5: =+'org. 140'!B13 -> 13482 | K5: =+'org. 140'!C13 -> 13482 | L5: =+'org. 140'!D13 -> 7855 | M5: =(L5/J5)*100 -> 58.262869
A6: OSTATNÍ HOSPODÁŘSKÁ ČINNOST (org. 333) | B6: ='org. 333'!B4 -> 2253 | C6: ='org. 333'!C4 -> 2253 | D6: =+'org. 333'!D4 -> 930 | E6: =(D6/B6)*100 -> 41.278296 | F6: ='org. 333'!B14 -> 573 | G6: ='org. 333'!C14 -> 573 | H6: =+'org. 333'!D14 -> 243 | I6: =(H6/F6)*100 -> 42.408377 | J6: =+'org. 333'!B22 -> 1680 | K6: =+'org. 333'!C22 -> 1680 | L6: =+'org. 333'!D22 -> 687 | M6: =(L6/J6)*100 -> 40.892857
A7: CELKEM | B7: =SUM(B5:B6) -> 15740 | C7: =SUM(C5:C6) -> 15740 | D7: =SUM(D5:D6) -> 8789 | E7: =(D7/B7)*100 -> 55.838628 | F7: =SUM(F5:F6) -> 578 | G7: =SUM(G5:G6) -> 578 | H7: =SUM(H5:H6) -> 247 | I7: =(H7/F7)*100 -> 42.733564 | J7: =SUM(J5:J6) -> 15162 | K7: =SUM(K5:K6) -> 15162 | L7: =SUM(L5:L6) -> 8542 | M7: =(L7/J7)*100 -> 56.338214
A10: Informativně: použití zisku - zapojení do rozpočtu r. 2026 | J10: ='org. 140'!B14+'org. 333'!B23 -> 5000 | K10: ='org. 140'!C14+'org. 333'!C23 -> 5000 | L10: ='org. 140'!D14+'org. 333'!D23 -> 2500 | M10: 0

Sheet org. 140
A1: Oblast: | B1: ÚPLATNÝ PŘEVOD NEMOVITOSTÍ
D2: v tis. Kč
B3: SFP 2026 | C3: 3.ÚFP 2026 | D3: SK 30.06.2026 | E3: % SK/3.ÚFP 2026
A4: VÝNOSY | B4: =SUM(B7+B5) -> 13487 | C4: =SUM(C7+C5) -> 13487 | D4: =SUM(D5+D7) -> 7859 | E4: =(D4/C4)*100 -> 58.270928
A5: Výnosy z činnosti | B5: =SUM(B6:B6) -> 71 | C5: =SUM(C6:C6) -> 71 | D5: =SUM(D6:D6) -> 71 | E5: =+D5/C5*100 -> 100
A6: Výnosy z pronájmu | B6: 71 | C6: 71 | D6: 71 | E6: =+D6/C6*100 -> 100
A7: Režijní výnosy | B7: =SUM(B8:B9) -> 13416 | C7: =SUM(C8:C9) -> 13416 | D7: =SUM(D8:D9) -> 7788 | E7: =+D7/C7*100 -> 58.050089
A8: DPPO (předběžná) | B8: -3584 | C8: -3584 | D8: 0 | E8: =+D8/C8*100 -> 0
A9: Finanční výnosy | B9: 17000 | C9: 17000 | D9: 7788 | E9: =+D9/C9*100 -> 45.811765
A10: NÁKLADY | B10: =SUM(B11) -> 5 | C10: =SUM(C11) -> 5 | D10: =SUM(D11:D11) -> 4 | E10: =(D10/C10)*100 -> 80
A11: Služby | B11: =SUM(B12:B12) -> 5 | C11: =SUM(C12:C12) -> 5 | D11: =SUM(D12:D12) -> 4 | E11: =+D11/C11*100 -> 80
A12: Ostatní služby | B12: 5 | C12: 5 | D12: 4 | E12: =+D12/C12*100 -> 80
A13: H V - ztráta/ + zisk | B13: =SUM(B4-B10) -> 13482 | C13: =SUM(C4-C10) -> 13482 | D13: =SUM(D4-D10) -> 7855 | E13: =(D13/C13)*100 -> 58.262869
A14: POUŽITÍ ZISKU Z PŘEDCH. LET | B14: 5000 | C14: 5000 | D14: 2500 | E14: =+D14/C14*100 -> 50

Sheet org. 333
A1: Oblast: | C1: OSTATNÍ HOSPOD. ČINNOST
E2: v tis. Kč
B3: SFP 2026 | C3: 3.ÚFP 2026 | D3: SK 30.06.2026 | E3: % SK/3.ÚFP 2026
A4: VÝNOSY | B4: =SUM(B5+B8+B10) -> 2253 | C4: =SUM(C5+C8+C10) -> 2253 | D4: =SUM(D5+D8+D10) -> 930 | E4: =(D4/C4)*100 -> 41.278296
A5: Výnosy z činnosti | B5: =SUM(B6:B7) -> 2504 | C5: =SUM(C6:C7) -> 2504 | D5: =SUM(D6:D7) -> 829 | E5: =(D5/C5)*100 -> 33.107029
A6: Výnosy z pronájmu | B6: 4 | C6: 4 | D6: 1 | E6: =(D6/C6)*100 -> 25
A7: Výnosy ze služeb | B7: 2500 | C7: 2500 | D7: 828 | E7: =(D7/C7)*100 -> 33.12
A8: Výnosy z prodeje majetku | B8: =SUM(B9:B9) -> 45 | C8: =SUM(C9:C9) -> 45 | D8: =SUM(D9:D9) -> 30 | E8: =(D8/C8)*100 -> 66.666667
A9: Prodej movitých věcí | B9: 45 | C9: 45 | D9: 30 | E9: =(D9/C9)*100 -> 66.666667
A10: Režijní výnosy | B10: =SUM(B11:B13) -> -296 | C10: =SUM(C11:C13) -> -296 | D10: =SUM(D11:D13) -> 71 | E10: =-1*(-100+(D10/C10)*100) -> 123.98649
A11: DPPO (předběžná) | B11: -447 | C11: -447 | D11: 0 | E11: =(D11/C11)*100 -> 0
A12: Finanční výnosy | B12: 45 | C12: 45 | D12: 25 | E12: =(D12/C12)*100 -> 55.555556
A13: Ostatní výnosy | B13: 106 | C13: 106 | D13: 46 | E13: =(D13/C13)*100 -> 43.396226
A14: NÁKLADY | B14: =SUM(B17+B19+B15) -> 573 | C14: =SUM(C17+C19+C15) -> 573 | D14: =SUM(D15+D17+D19) -> 243 | E14: =(D14/C14)*100 -> 42.408377
A15: Spotřeba materiálu a energií | B15: =SUM(B16:B16) -> 15 | C15: =SUM(C16:C16) -> 15 | D15: =SUM(D16:D16) -> 7 | E15: =(D15/C15)*100 -> 46.666667
A16: Materiál | B16: 15 | C16: 15 | D16: 7 | E16: =(D16/C16)*100 -> 46.666667
A17: Služby | B17: =SUM(B18:B18) -> 32 | C17: =SUM(C18:C18) -> 32 | D17: =SUM(D18:D18) -> 19 | E17: =(D17/C17)*100 -> 59.375
A18: Ostatní služby | B18: 32 | C18: 32 | D18: 19 | E18: =(D18/C18)*100 -> 59.375
A19: Režie | B19: =SUM(B20:B21) -> 526 | C19: =SUM(C20:C21) -> 526 | D19: =SUM(D20:D21) -> 217 | E19: =(D19/C19)*100 -> 41.254753
A20: Osobní náklady | B20: 524 | C20: 524 | D20: 217 | E20: =(D20/C20)*100 -> 41.412214
A21: Ostatní náklady | B21: 2 | C21: 2 | D21: 0 | E21: =(D21/C21)*100 -> 0
A22: H V - ztráta/ + zisk | B22: =SUM(B4-B14) -> 1680 | C22: =SUM(C4-C14) -> 1680 | D22: =SUM(D4-D14) -> 687 | E22: =(D22/C22)*100 -> 40.892857
A23: POUŽITÍ ZISKU Z PŘEDCH. LET | B23: 0 | C23: 0 | D23: 0 | E23: 0
